BEGIN:VCALENDAR
VERSION:2.0
PRODID:-//French Tech Côte d&#039;Azur - ECPv6.15.20//NONSGML v1.0//EN
CALSCALE:GREGORIAN
METHOD:PUBLISH
X-ORIGINAL-URL:https://www.frenchtechcotedazur.fr
X-WR-CALDESC:Évènements pour French Tech Côte d&#039;Azur
REFRESH-INTERVAL;VALUE=DURATION:PT1H
X-Robots-Tag:noindex
X-PUBLISHED-TTL:PT1H
BEGIN:VTIMEZONE
TZID:Europe/Paris
BEGIN:DAYLIGHT
TZOFFSETFROM:+0100
TZOFFSETTO:+0200
TZNAME:CEST
DTSTART:20240331T010000
END:DAYLIGHT
BEGIN:STANDARD
TZOFFSETFROM:+0200
TZOFFSETTO:+0100
TZNAME:CET
DTSTART:20241027T010000
END:STANDARD
BEGIN:DAYLIGHT
TZOFFSETFROM:+0100
TZOFFSETTO:+0200
TZNAME:CEST
DTSTART:20250330T010000
END:DAYLIGHT
BEGIN:STANDARD
TZOFFSETFROM:+0200
TZOFFSETTO:+0100
TZNAME:CET
DTSTART:20251026T010000
END:STANDARD
BEGIN:DAYLIGHT
TZOFFSETFROM:+0100
TZOFFSETTO:+0200
TZNAME:CEST
DTSTART:20260329T010000
END:DAYLIGHT
BEGIN:STANDARD
TZOFFSETFROM:+0200
TZOFFSETTO:+0100
TZNAME:CET
DTSTART:20261025T010000
END:STANDARD
END:VTIMEZONE
BEGIN:VEVENT
DTSTART;VALUE=DATE:20250314
DTEND;VALUE=DATE:20250317
DTSTAMP:20260419T232810
CREATED:20230223T091750Z
LAST-MODIFIED:20250306T104943Z
UID:7660-1741910400-1742169599@www.frenchtechcotedazur.fr
SUMMARY:Créathon 2025 - "48H Chrono" par Initiative Nice Côte d'Azur\, Pépite PACA Est\, Université Côte d'Azur\, Play Azur
DESCRIPTION:Vous souhaitez donner un coup de boost à votre projet ou vous impliquer dans un projet qui a un impact positif sur notre territoire ? Le créathon du 14 au 16 mars est fait pour vous ! \nL’événement\, gratuit\, est ouvert à tous ceux qui souhaitent donner un coup de boost à leur projet ou s’impliquer dans un projet qui a un impact positif sur notre territoire. \nProgramme : \n\nVendredi 14 mars 18h-21h : Pitchs\, Création des équipes et apéritif dinatoire\nSamedi 15 mars 8h-18h : Travail sur projets encadrés de mentors et coachs\nDimanche 16 mars 8h-18h : Finalisation projet\, entrainement pitch\, jury\, cérémonie et cocktail dinatoire\n\n  \nInformations et inscription en cliquant ici.
URL:https://www.frenchtechcotedazur.fr/event/creathon-2025-48h-chrono-par-initiative-nice-cote-dazur-pepite-paca-est-universite-cote-dazur-play-azur/
ATTACH;FMTTYPE=image/png:https://www.frenchtechcotedazur.fr/wp-content/uploads/2023/02/Visuel_-_carre-e1741258078575.png
END:VEVENT
END:VCALENDAR