BEGIN:VCALENDAR
VERSION:2.0
PRODID:-//French Tech Côte d&#039;Azur - ECPv6.15.20//NONSGML v1.0//EN
CALSCALE:GREGORIAN
METHOD:PUBLISH
X-WR-CALNAME:French Tech Côte d&#039;Azur
X-ORIGINAL-URL:https://www.frenchtechcotedazur.fr
X-WR-CALDESC:Évènements pour French Tech Côte d&#039;Azur
REFRESH-INTERVAL;VALUE=DURATION:PT1H
X-Robots-Tag:noindex
X-PUBLISHED-TTL:PT1H
BEGIN:VTIMEZONE
TZID:Europe/Paris
BEGIN:DAYLIGHT
TZOFFSETFROM:+0100
TZOFFSETTO:+0200
TZNAME:CEST
DTSTART:20240331T010000
END:DAYLIGHT
BEGIN:STANDARD
TZOFFSETFROM:+0200
TZOFFSETTO:+0100
TZNAME:CET
DTSTART:20241027T010000
END:STANDARD
BEGIN:DAYLIGHT
TZOFFSETFROM:+0100
TZOFFSETTO:+0200
TZNAME:CEST
DTSTART:20250330T010000
END:DAYLIGHT
BEGIN:STANDARD
TZOFFSETFROM:+0200
TZOFFSETTO:+0100
TZNAME:CET
DTSTART:20251026T010000
END:STANDARD
BEGIN:DAYLIGHT
TZOFFSETFROM:+0100
TZOFFSETTO:+0200
TZNAME:CEST
DTSTART:20260329T010000
END:DAYLIGHT
BEGIN:STANDARD
TZOFFSETFROM:+0200
TZOFFSETTO:+0100
TZNAME:CET
DTSTART:20261025T010000
END:STANDARD
END:VTIMEZONE
BEGIN:VEVENT
DTSTART;TZID=Europe/Paris:20250227T110000
DTEND;TZID=Europe/Paris:20250227T120000
DTSTAMP:20260419T233144
CREATED:20240827T083109Z
LAST-MODIFIED:20250205T131015Z
UID:7560-1740654000-1740657600@www.frenchtechcotedazur.fr
SUMMARY:WEBTECH : Le passeport numérique produit par AKTANTIS
DESCRIPTION:Aktantis vous donne rendez-vous à son webtech : Le passeport numérique produit (dpp) : authentification et tracabilite d’un objet. Echangez avec les experts de KeeeX\, éditeur marseillais et STMicroelectronics pour comprendre comment la combinaison de leurs technologies respectives (Traçabilité et tag NFC sécurisé) ont permis d’aboutir à une solution efficace et sécurisée de preuve de présence à côté de l’objet et garantie d’authenticité et d’unicité d’un produit. \n📅 Le Jeudi 27 février 2025 de 11h à 12h \nPour en savoir et vous inscrire : cliquez-ici
URL:https://www.frenchtechcotedazur.fr/event/webtech-le-passeport-numerique-produit-par-aktantis/
ATTACH;FMTTYPE=image/png:https://www.frenchtechcotedazur.fr/wp-content/uploads/2024/08/unnamed-3-1.png
END:VEVENT
BEGIN:VEVENT
DTSTART;TZID=Europe/Paris:20250227T120000
DTEND;TZID=Europe/Paris:20250227T140000
DTSTAMP:20260419T233144
CREATED:20240827T083109Z
LAST-MODIFIED:20250205T103523Z
UID:7548-1740657600-1740664800@www.frenchtechcotedazur.fr
SUMMARY:Communautés Sobriété numérique & Eco-conception X Data & IA par Telecom Valley
DESCRIPTION:Les communautés Sobriété numérique & Éco-conception et Data & IA vous invitent à une rencontre commune autour de la question : « Peut-on concevoir une intelligence artificielle à la fois sobre et éthique ? » \n📅 Le Jeudi 27 février 2025 de 12h à 14h \n📍Sophia Antipolis\, Business Pole 1\, Entrée A\, RDC\, salle NIDA\, 1047 route des Dolines\, Allée Pierre Ziller 06560 Valbonne Sophia Antipolis \nPour en savoir et vous inscrire : cliquez-ici
URL:https://www.frenchtechcotedazur.fr/event/communautes-sobriete-numerique-eco-conception-x-data-ia-par-telecom-valley/
ATTACH;FMTTYPE=image/jpeg:https://www.frenchtechcotedazur.fr/wp-content/uploads/2024/08/1738585583549.jpg
END:VEVENT
END:VCALENDAR