BEGIN:VCALENDAR
VERSION:2.0
PRODID:-//French Tech Côte d&#039;Azur - ECPv6.15.20//NONSGML v1.0//EN
CALSCALE:GREGORIAN
METHOD:PUBLISH
X-ORIGINAL-URL:https://www.frenchtechcotedazur.fr
X-WR-CALDESC:Évènements pour French Tech Côte d&#039;Azur
REFRESH-INTERVAL;VALUE=DURATION:PT1H
X-Robots-Tag:noindex
X-PUBLISHED-TTL:PT1H
BEGIN:VTIMEZONE
TZID:Europe/Paris
BEGIN:DAYLIGHT
TZOFFSETFROM:+0100
TZOFFSETTO:+0200
TZNAME:CEST
DTSTART:20240331T010000
END:DAYLIGHT
BEGIN:STANDARD
TZOFFSETFROM:+0200
TZOFFSETTO:+0100
TZNAME:CET
DTSTART:20241027T010000
END:STANDARD
BEGIN:DAYLIGHT
TZOFFSETFROM:+0100
TZOFFSETTO:+0200
TZNAME:CEST
DTSTART:20250330T010000
END:DAYLIGHT
BEGIN:STANDARD
TZOFFSETFROM:+0200
TZOFFSETTO:+0100
TZNAME:CET
DTSTART:20251026T010000
END:STANDARD
BEGIN:DAYLIGHT
TZOFFSETFROM:+0100
TZOFFSETTO:+0200
TZNAME:CEST
DTSTART:20260329T010000
END:DAYLIGHT
BEGIN:STANDARD
TZOFFSETFROM:+0200
TZOFFSETTO:+0100
TZNAME:CET
DTSTART:20261025T010000
END:STANDARD
END:VTIMEZONE
BEGIN:VEVENT
DTSTART;TZID=Europe/Paris:20250211T183000
DTEND;TZID=Europe/Paris:20250211T213000
DTSTAMP:20260420T005035
CREATED:20240827T083109Z
LAST-MODIFIED:20250205T131904Z
UID:7561-1739298600-1739309400@www.frenchtechcotedazur.fr
SUMMARY:Afterwork nouvelle année par Cannes Is Up
DESCRIPTION:Cannes Is Up est ravie de vous inviter à une soirée spéciale pour célébrer ensemble cette nouvelle année. \n📅 Le Jeudi 11 février 2025 de 18h30 à 21h30 \n📍 Lieu : OKKO Hôtels Cannes – 6bis Pl. de la Gare\, 06400 Cannes \nPour en savoir et vous inscrire : cliquez-ici
URL:https://www.frenchtechcotedazur.fr/event/afterwork-nouvelle-annee-par-cannes-is-up/
ATTACH;FMTTYPE=image/jpeg:https://www.frenchtechcotedazur.fr/wp-content/uploads/2024/08/1738062800625.jpg
END:VEVENT
END:VCALENDAR