BEGIN:VCALENDAR
VERSION:2.0
PRODID:-//French Tech Côte d&#039;Azur - ECPv6.15.20//NONSGML v1.0//EN
CALSCALE:GREGORIAN
METHOD:PUBLISH
X-WR-CALNAME:French Tech Côte d&#039;Azur
X-ORIGINAL-URL:https://www.frenchtechcotedazur.fr
X-WR-CALDESC:Évènements pour French Tech Côte d&#039;Azur
REFRESH-INTERVAL;VALUE=DURATION:PT1H
X-Robots-Tag:noindex
X-PUBLISHED-TTL:PT1H
BEGIN:VTIMEZONE
TZID:Europe/Paris
BEGIN:DAYLIGHT
TZOFFSETFROM:+0100
TZOFFSETTO:+0200
TZNAME:CEST
DTSTART:20240331T010000
END:DAYLIGHT
BEGIN:STANDARD
TZOFFSETFROM:+0200
TZOFFSETTO:+0100
TZNAME:CET
DTSTART:20241027T010000
END:STANDARD
BEGIN:DAYLIGHT
TZOFFSETFROM:+0100
TZOFFSETTO:+0200
TZNAME:CEST
DTSTART:20250330T010000
END:DAYLIGHT
BEGIN:STANDARD
TZOFFSETFROM:+0200
TZOFFSETTO:+0100
TZNAME:CET
DTSTART:20251026T010000
END:STANDARD
BEGIN:DAYLIGHT
TZOFFSETFROM:+0100
TZOFFSETTO:+0200
TZNAME:CEST
DTSTART:20260329T010000
END:DAYLIGHT
BEGIN:STANDARD
TZOFFSETFROM:+0200
TZOFFSETTO:+0100
TZNAME:CET
DTSTART:20261025T010000
END:STANDARD
END:VTIMEZONE
BEGIN:VEVENT
DTSTART;VALUE=DATE:20250129
DTEND;VALUE=DATE:20250131
DTSTAMP:20260420T005924
CREATED:20240827T083109Z
LAST-MODIFIED:20250106T113035Z
UID:7468-1738108800-1738281599@www.frenchtechcotedazur.fr
SUMMARY:LE JEU VIDEO SUR LA METROPOLE NICE COTE D’AZUR : LEVEL ONE par la Métropole Nice Côte d’Azur x ISART Digital x Syndicat National du Jeu Vidéo
DESCRIPTION:Afin de célébrer la dynamisation de l’écosystème jeu vidéo\, la Métropole vous invite à l’événement LE JEU VIDEO SUR LA METROPOLE NICE COTE D’AZUR : LEVEL ONE\, \n📅 Le mercredi 29  et jeudi 30 janvier 2025 \n📍 Hub de l’Innovation\, 61-63 avenue Simone Veil\, 06200 Nice \nEn attendant de plus amples informations\,  veuillez confirmer votre participation par retour de mail : \nArnaud.bordas@nicecotedazur.org \n 
URL:https://www.frenchtechcotedazur.fr/event/le-jeu-video-sur-la-metropole-nice-cote-dazur-level-one-par-la-metropole-nice-cote-dazur-x-isart-digital-x-syndicat-national-du-jeu-video/
ATTACH;FMTTYPE=image/png:https://www.frenchtechcotedazur.fr/wp-content/uploads/2024/08/unnamed-1-1.png
END:VEVENT
END:VCALENDAR