BEGIN:VCALENDAR
VERSION:2.0
PRODID:-//French Tech Côte d&#039;Azur - ECPv6.15.20//NONSGML v1.0//EN
CALSCALE:GREGORIAN
METHOD:PUBLISH
X-ORIGINAL-URL:https://www.frenchtechcotedazur.fr
X-WR-CALDESC:Évènements pour French Tech Côte d&#039;Azur
REFRESH-INTERVAL;VALUE=DURATION:PT1H
X-Robots-Tag:noindex
X-PUBLISHED-TTL:PT1H
BEGIN:VTIMEZONE
TZID:Europe/Paris
BEGIN:DAYLIGHT
TZOFFSETFROM:+0100
TZOFFSETTO:+0200
TZNAME:CEST
DTSTART:20240331T010000
END:DAYLIGHT
BEGIN:STANDARD
TZOFFSETFROM:+0200
TZOFFSETTO:+0100
TZNAME:CET
DTSTART:20241027T010000
END:STANDARD
BEGIN:DAYLIGHT
TZOFFSETFROM:+0100
TZOFFSETTO:+0200
TZNAME:CEST
DTSTART:20250330T010000
END:DAYLIGHT
BEGIN:STANDARD
TZOFFSETFROM:+0200
TZOFFSETTO:+0100
TZNAME:CET
DTSTART:20251026T010000
END:STANDARD
BEGIN:DAYLIGHT
TZOFFSETFROM:+0100
TZOFFSETTO:+0200
TZNAME:CEST
DTSTART:20260329T010000
END:DAYLIGHT
BEGIN:STANDARD
TZOFFSETFROM:+0200
TZOFFSETTO:+0100
TZNAME:CET
DTSTART:20261025T010000
END:STANDARD
END:VTIMEZONE
BEGIN:VEVENT
DTSTART;TZID=Europe/Paris:20250128T083000
DTEND;TZID=Europe/Paris:20250128T110000
DTSTAMP:20260420T005020
CREATED:20240827T083109Z
LAST-MODIFIED:20250107T100315Z
UID:7510-1738053000-1738062000@www.frenchtechcotedazur.fr
SUMMARY:CAFÉ DE LANCEMENT "LES ENTREPRISES S’ENGAGENT" par UPE06
DESCRIPTION:Le Club Les Entreprises s’Engagent vous donne rendez-vous à l’UPE06 pour son café de lancement des actions 2025. L’occasion de découvrir les grandes thématiques et actions prévues pour le 1er semestre 2025\, de rencontrer les nouveaux membres et partenaires de la communauté\, et d’explorer la campagne de communication « Je dirige une entreprise engagée« . \n📅 Le mardi 28 janvier 2025 de 8h30 à 11h00 \n📍locaux UPE06\, Avenue Guynemer – Bâtiment C2 – 06700 Saint-Laurent-du-Var \nPour en savoir plus : cliuez-ici
URL:https://www.frenchtechcotedazur.fr/event/cafe-de-lancement-les-entreprises-sengagent-par-upe06/
ATTACH;FMTTYPE=image/png:https://www.frenchtechcotedazur.fr/wp-content/uploads/2024/08/Capture-decran-2025-01-07-110234.png
END:VEVENT
BEGIN:VEVENT
DTSTART;TZID=Europe/Paris:20250128T120000
DTEND;TZID=Europe/Paris:20250128T140000
DTSTAMP:20260420T005020
CREATED:20240827T083109Z
LAST-MODIFIED:20250106T152359Z
UID:7501-1738065600-1738072800@www.frenchtechcotedazur.fr
SUMMARY:Communautés Open Source X Cybersécurité par Telecom Valley
DESCRIPTION:Les communautés Open source et Cybersécurité vous proposent une rencontre commune au sujet de la sécurisation logicielle de l’exécution des processus critiques \n📅 Le jeudi 28 janvier 2025 de 12h00 à 14h00 \n📍Sophia Antipolis\, Business Pole 1\, Entrée A\, RDC\, 1047 route des Dolines\, Allée Pierre Ziller 06560 Vabonne Sophia Antipolis \nPour en savoir et vous inscrire : cliquez-ici
URL:https://www.frenchtechcotedazur.fr/event/communautes-open-source-x-cybersecurite-par-telecom-valley/
ATTACH;FMTTYPE=image/png:https://www.frenchtechcotedazur.fr/wp-content/uploads/2024/08/Agilite_site_actu.png
END:VEVENT
END:VCALENDAR