BEGIN:VCALENDAR
VERSION:2.0
PRODID:-//French Tech Côte d&#039;Azur - ECPv6.15.20//NONSGML v1.0//EN
CALSCALE:GREGORIAN
METHOD:PUBLISH
X-WR-CALNAME:French Tech Côte d&#039;Azur
X-ORIGINAL-URL:https://www.frenchtechcotedazur.fr
X-WR-CALDESC:Évènements pour French Tech Côte d&#039;Azur
REFRESH-INTERVAL;VALUE=DURATION:PT1H
X-Robots-Tag:noindex
X-PUBLISHED-TTL:PT1H
BEGIN:VTIMEZONE
TZID:Europe/Paris
BEGIN:DAYLIGHT
TZOFFSETFROM:+0100
TZOFFSETTO:+0200
TZNAME:CEST
DTSTART:20240331T010000
END:DAYLIGHT
BEGIN:STANDARD
TZOFFSETFROM:+0200
TZOFFSETTO:+0100
TZNAME:CET
DTSTART:20241027T010000
END:STANDARD
BEGIN:DAYLIGHT
TZOFFSETFROM:+0100
TZOFFSETTO:+0200
TZNAME:CEST
DTSTART:20250330T010000
END:DAYLIGHT
BEGIN:STANDARD
TZOFFSETFROM:+0200
TZOFFSETTO:+0100
TZNAME:CET
DTSTART:20251026T010000
END:STANDARD
BEGIN:DAYLIGHT
TZOFFSETFROM:+0100
TZOFFSETTO:+0200
TZNAME:CEST
DTSTART:20260329T010000
END:DAYLIGHT
BEGIN:STANDARD
TZOFFSETFROM:+0200
TZOFFSETTO:+0100
TZNAME:CET
DTSTART:20261025T010000
END:STANDARD
END:VTIMEZONE
BEGIN:VEVENT
DTSTART;TZID=Europe/Paris:20250127T183000
DTEND;TZID=Europe/Paris:20250127T213000
DTSTAMP:20260420T010007
CREATED:20240827T083109Z
LAST-MODIFIED:20250106T134327Z
UID:7475-1738002600-1738013400@www.frenchtechcotedazur.fr
SUMMARY:École Entre Head - Les 5 règles d’or pour décider dans l’incertitude par Entre Head
DESCRIPTION:L’École Entre Head est de retour ! Elle vous convie à son premier atelier : les 5 règles d’or pour décider dans l’incertitude\, pour des moments d’échanges et d’apprentissage uniques pour les entrepreneurs. Un événement exceptionnel entre stratégie militaire et vision entrepreneuriale ! \n📅 Le lundi 27 janvier 2025 de 18h30 à 21h30 \n📍Fort militaire – Batterie de la Rascasse \, Boulevard Princesse Grace de Monaco 06300 Nice \nPour en savoir et vous inscrire : cliquez-ici
URL:https://www.frenchtechcotedazur.fr/event/ecole-entre-head-les-5-regles-dor-pour-decider-dans-lincertitude-par-entre-head/
ATTACH;FMTTYPE=image/jpeg:https://www.frenchtechcotedazur.fr/wp-content/uploads/2024/08/th.jpeg
END:VEVENT
END:VCALENDAR