BEGIN:VCALENDAR
VERSION:2.0
PRODID:-//French Tech Côte d&#039;Azur - ECPv6.15.20//NONSGML v1.0//EN
CALSCALE:GREGORIAN
METHOD:PUBLISH
X-ORIGINAL-URL:https://www.frenchtechcotedazur.fr
X-WR-CALDESC:Évènements pour French Tech Côte d&#039;Azur
REFRESH-INTERVAL;VALUE=DURATION:PT1H
X-Robots-Tag:noindex
X-PUBLISHED-TTL:PT1H
BEGIN:VTIMEZONE
TZID:Europe/Paris
BEGIN:DAYLIGHT
TZOFFSETFROM:+0100
TZOFFSETTO:+0200
TZNAME:CEST
DTSTART:20230326T010000
END:DAYLIGHT
BEGIN:STANDARD
TZOFFSETFROM:+0200
TZOFFSETTO:+0100
TZNAME:CET
DTSTART:20231029T010000
END:STANDARD
BEGIN:DAYLIGHT
TZOFFSETFROM:+0100
TZOFFSETTO:+0200
TZNAME:CEST
DTSTART:20240331T010000
END:DAYLIGHT
BEGIN:STANDARD
TZOFFSETFROM:+0200
TZOFFSETTO:+0100
TZNAME:CET
DTSTART:20241027T010000
END:STANDARD
BEGIN:DAYLIGHT
TZOFFSETFROM:+0100
TZOFFSETTO:+0200
TZNAME:CEST
DTSTART:20250330T010000
END:DAYLIGHT
BEGIN:STANDARD
TZOFFSETFROM:+0200
TZOFFSETTO:+0100
TZNAME:CET
DTSTART:20251026T010000
END:STANDARD
END:VTIMEZONE
BEGIN:VEVENT
DTSTART;VALUE=DATE:20241210
DTEND;VALUE=DATE:20241213
DTSTAMP:20260420T032838
CREATED:20240827T083109Z
LAST-MODIFIED:20241126T135648Z
UID:7359-1733788800-1734047999@www.frenchtechcotedazur.fr
SUMMARY:Travailler demain par  Apec de la région Provence Alpes Côte d’Azur & Corse
DESCRIPTION:L’équipe Apec de la région Provence Alpes Côte d’Azur & Corse a le plaisir de vous convier à la visite de l’exposition immersive \n📅 Les mardi 10\, mercredi 11 et jeudi 12 décembre \n📍Hub de l’Innovation\, 61-63 Av. Simone Veil\, 06200 Nice \nPour en savoir et vous inscrire : cliquez-ici
URL:https://www.frenchtechcotedazur.fr/event/travailler-demain-par-apec-de-la-region-provence-alpes-cote-dazur-corse/
ATTACH;FMTTYPE=image/jpeg:https://www.frenchtechcotedazur.fr/wp-content/uploads/2024/08/image004.jpeg
END:VEVENT
BEGIN:VEVENT
DTSTART;TZID=Europe/Paris:20241212T090000
DTEND;TZID=Europe/Paris:20241212T100000
DTSTAMP:20260420T032838
CREATED:20240827T083109Z
LAST-MODIFIED:20241127T143704Z
UID:7393-1733994000-1733997600@www.frenchtechcotedazur.fr
SUMMARY:Portes ouvertes par Tas Cloud
DESCRIPTION:Tas Cloud est heureux de vous accueillir aux portes ouvertes de leur datacenter principal \n📅 Le jeudi 12 décembre de 9h00 à 10h15 \n📍 Sophia Antipolis \nLes places étant limitées\, la participation est à confirmer avant le 8 décembre via ce lien : https://www.tascloudservices.fr/actualites/visite-datacenter-tas. \n 
URL:https://www.frenchtechcotedazur.fr/event/portes-ouvertes-par-tas-cloud/
ATTACH;FMTTYPE=image/png:https://www.frenchtechcotedazur.fr/wp-content/uploads/2024/08/taaaaaaaaaaaaaas.png
END:VEVENT
BEGIN:VEVENT
DTSTART;TZID=Europe/Paris:20241212T183000
DTEND;TZID=Europe/Paris:20241212T210000
DTSTAMP:20260420T032838
CREATED:20240827T083109Z
LAST-MODIFIED:20241126T143417Z
UID:7371-1734028200-1734037200@www.frenchtechcotedazur.fr
SUMMARY:Afterwork Innovation par Le Club des Entrepreneurs du Pays de Grasse
DESCRIPTION:Le Club des Entrepreneurs du Pays de Grasse est heureux de vous accueillir à son afterwork innovation pour découvrir pourquoi et comment GALT est le point de convergence incontournable de l’INNOVATION dans le Pays de GRASSE \n📅  Le  jeudi 12 décembre 2024\, de 18h30 à 21h \n📍  Espace Jacques Louis Lions\, 4 traverse Dupont\, 06130 Grasse \nPour en savoir et vous inscrire : cliquez-ici
URL:https://www.frenchtechcotedazur.fr/event/afterwork-innovation-par-le-club-des-entrepreneurs-du-pays-de-grasse-2/
ATTACH;FMTTYPE=image/jpeg:https://www.frenchtechcotedazur.fr/wp-content/uploads/2024/08/1731922605254.jpg
END:VEVENT
BEGIN:VEVENT
DTSTART;TZID=Europe/Paris:20241212T183000
DTEND;TZID=Europe/Paris:20241212T213000
DTSTAMP:20260420T032838
CREATED:20240827T083109Z
LAST-MODIFIED:20241126T141510Z
UID:7362-1734028200-1734039000@www.frenchtechcotedazur.fr
SUMMARY:Noël par Cannes Is Up
DESCRIPTION:Cannes Is Up a le plaisir de vous inviter à la soirée de Noël \n📅  Le  jeudi 12 décembre\, de 18h30 à 21h30 \n📍   OKKO Hôtels Cannes \nPour en savoir et vous inscrire : cliquez-ici
URL:https://www.frenchtechcotedazur.fr/event/noel-par-cannes-is-up/
ATTACH;FMTTYPE=image/jpeg:https://www.frenchtechcotedazur.fr/wp-content/uploads/2024/08/1732273457867.jpg
END:VEVENT
END:VCALENDAR