BEGIN:VCALENDAR
VERSION:2.0
PRODID:-//French Tech Côte d&#039;Azur - ECPv6.15.20//NONSGML v1.0//EN
CALSCALE:GREGORIAN
METHOD:PUBLISH
X-ORIGINAL-URL:https://www.frenchtechcotedazur.fr
X-WR-CALDESC:Évènements pour French Tech Côte d&#039;Azur
REFRESH-INTERVAL;VALUE=DURATION:PT1H
X-Robots-Tag:noindex
X-PUBLISHED-TTL:PT1H
BEGIN:VTIMEZONE
TZID:Europe/Paris
BEGIN:DAYLIGHT
TZOFFSETFROM:+0100
TZOFFSETTO:+0200
TZNAME:CEST
DTSTART:20230326T010000
END:DAYLIGHT
BEGIN:STANDARD
TZOFFSETFROM:+0200
TZOFFSETTO:+0100
TZNAME:CET
DTSTART:20231029T010000
END:STANDARD
BEGIN:DAYLIGHT
TZOFFSETFROM:+0100
TZOFFSETTO:+0200
TZNAME:CEST
DTSTART:20240331T010000
END:DAYLIGHT
BEGIN:STANDARD
TZOFFSETFROM:+0200
TZOFFSETTO:+0100
TZNAME:CET
DTSTART:20241027T010000
END:STANDARD
BEGIN:DAYLIGHT
TZOFFSETFROM:+0100
TZOFFSETTO:+0200
TZNAME:CEST
DTSTART:20250330T010000
END:DAYLIGHT
BEGIN:STANDARD
TZOFFSETFROM:+0200
TZOFFSETTO:+0100
TZNAME:CET
DTSTART:20251026T010000
END:STANDARD
END:VTIMEZONE
BEGIN:VEVENT
DTSTART;VALUE=DATE:20241210
DTEND;VALUE=DATE:20241213
DTSTAMP:20260420T032838
CREATED:20240827T083109Z
LAST-MODIFIED:20241126T135648Z
UID:7359-1733788800-1734047999@www.frenchtechcotedazur.fr
SUMMARY:Travailler demain par  Apec de la région Provence Alpes Côte d’Azur & Corse
DESCRIPTION:L’équipe Apec de la région Provence Alpes Côte d’Azur & Corse a le plaisir de vous convier à la visite de l’exposition immersive \n📅 Les mardi 10\, mercredi 11 et jeudi 12 décembre \n📍Hub de l’Innovation\, 61-63 Av. Simone Veil\, 06200 Nice \nPour en savoir et vous inscrire : cliquez-ici
URL:https://www.frenchtechcotedazur.fr/event/travailler-demain-par-apec-de-la-region-provence-alpes-cote-dazur-corse/
ATTACH;FMTTYPE=image/jpeg:https://www.frenchtechcotedazur.fr/wp-content/uploads/2024/08/image004.jpeg
END:VEVENT
BEGIN:VEVENT
DTSTART;TZID=Europe/Paris:20241211T183000
DTEND;TZID=Europe/Paris:20241211T213000
DTSTAMP:20260420T032838
CREATED:20240827T083109Z
LAST-MODIFIED:20241126T154419Z
UID:7387-1733941800-1733952600@www.frenchtechcotedazur.fr
SUMMARY:Business et durabilité : mission impossible par SoNiceBoost x Nice Start(s) Up
DESCRIPTION:SoNiceBoost et Nice Start(s) Up sont heureux de vous accueillir pour une nouvelle session incontournable\, placée sous le signe d’un thème actuel essentiel : \n➡️ « Business et durabilité : mission impossible ? » ⬅️ \n📅 Le mercredi 11 décembre de 18h30 à 21h30 \n📍 Flexx Club – 4 Rue Sacha Guitry – Nice\n \nPour en savoir et vous inscrire : cliquez-ici
URL:https://www.frenchtechcotedazur.fr/event/business-et-durabilite-mission-impossible-par-soniceboost-x-nice-starts-up/
ATTACH;FMTTYPE=image/jpeg:https://www.frenchtechcotedazur.fr/wp-content/uploads/2024/08/1731742916302.jpg
END:VEVENT
END:VCALENDAR