BEGIN:VCALENDAR
VERSION:2.0
PRODID:-//French Tech Côte d&#039;Azur - ECPv6.15.20//NONSGML v1.0//EN
CALSCALE:GREGORIAN
METHOD:PUBLISH
X-WR-CALNAME:French Tech Côte d&#039;Azur
X-ORIGINAL-URL:https://www.frenchtechcotedazur.fr
X-WR-CALDESC:Évènements pour French Tech Côte d&#039;Azur
REFRESH-INTERVAL;VALUE=DURATION:PT1H
X-Robots-Tag:noindex
X-PUBLISHED-TTL:PT1H
BEGIN:VTIMEZONE
TZID:Europe/Paris
BEGIN:DAYLIGHT
TZOFFSETFROM:+0100
TZOFFSETTO:+0200
TZNAME:CEST
DTSTART:20230326T010000
END:DAYLIGHT
BEGIN:STANDARD
TZOFFSETFROM:+0200
TZOFFSETTO:+0100
TZNAME:CET
DTSTART:20231029T010000
END:STANDARD
BEGIN:DAYLIGHT
TZOFFSETFROM:+0100
TZOFFSETTO:+0200
TZNAME:CEST
DTSTART:20240331T010000
END:DAYLIGHT
BEGIN:STANDARD
TZOFFSETFROM:+0200
TZOFFSETTO:+0100
TZNAME:CET
DTSTART:20241027T010000
END:STANDARD
BEGIN:DAYLIGHT
TZOFFSETFROM:+0100
TZOFFSETTO:+0200
TZNAME:CEST
DTSTART:20250330T010000
END:DAYLIGHT
BEGIN:STANDARD
TZOFFSETFROM:+0200
TZOFFSETTO:+0100
TZNAME:CET
DTSTART:20251026T010000
END:STANDARD
END:VTIMEZONE
BEGIN:VEVENT
DTSTART;TZID=Europe/Paris:20241206T140000
DTEND;TZID=Europe/Paris:20241206T140000
DTSTAMP:20260420T033122
CREATED:20240827T083109Z
LAST-MODIFIED:20241126T133918Z
UID:7353-1733493600-1733493600@www.frenchtechcotedazur.fr
SUMMARY:Retour sur les bancs de l’école avec la Dictée de l’Éco par CCI Nice Côte d'Azur
DESCRIPTION:CCI Nice Côte d’Azur est heureuse de vous accueillir à leur première édition de La Dictée de l’Éco\, à l’initiative de Rachid Santaki*\, «Monsieur Dictée »\, réunit les acteurs économiques azuréens pour un moment convivial autour des mots. \n📅  Le vendredi 6 décembre\, à 14h00 \n📍 Salle des séances de la CCI Nice Côte d’Azur\, 20 bd Carabacel à Nice \nPour en savoir et vous inscrire : cliquez-ici
URL:https://www.frenchtechcotedazur.fr/event/retour-sur-les-bancs-de-lecole-avec-la-dictee-de-leco-par-cci-nice-cote-dazur/
ATTACH;FMTTYPE=image/png:https://www.frenchtechcotedazur.fr/wp-content/uploads/2024/08/cci.png
END:VEVENT
END:VCALENDAR