BEGIN:VCALENDAR
VERSION:2.0
PRODID:-//French Tech Côte d&#039;Azur - ECPv6.15.20//NONSGML v1.0//EN
CALSCALE:GREGORIAN
METHOD:PUBLISH
X-ORIGINAL-URL:https://www.frenchtechcotedazur.fr
X-WR-CALDESC:Évènements pour French Tech Côte d&#039;Azur
REFRESH-INTERVAL;VALUE=DURATION:PT1H
X-Robots-Tag:noindex
X-PUBLISHED-TTL:PT1H
BEGIN:VTIMEZONE
TZID:Europe/Paris
BEGIN:DAYLIGHT
TZOFFSETFROM:+0100
TZOFFSETTO:+0200
TZNAME:CEST
DTSTART:20230326T010000
END:DAYLIGHT
BEGIN:STANDARD
TZOFFSETFROM:+0200
TZOFFSETTO:+0100
TZNAME:CET
DTSTART:20231029T010000
END:STANDARD
BEGIN:DAYLIGHT
TZOFFSETFROM:+0100
TZOFFSETTO:+0200
TZNAME:CEST
DTSTART:20240331T010000
END:DAYLIGHT
BEGIN:STANDARD
TZOFFSETFROM:+0200
TZOFFSETTO:+0100
TZNAME:CET
DTSTART:20241027T010000
END:STANDARD
BEGIN:DAYLIGHT
TZOFFSETFROM:+0100
TZOFFSETTO:+0200
TZNAME:CEST
DTSTART:20250330T010000
END:DAYLIGHT
BEGIN:STANDARD
TZOFFSETFROM:+0200
TZOFFSETTO:+0100
TZNAME:CET
DTSTART:20251026T010000
END:STANDARD
END:VTIMEZONE
BEGIN:VEVENT
DTSTART;TZID=Europe/Paris:20241205T090000
DTEND;TZID=Europe/Paris:20241205T180000
DTSTAMP:20260420T032746
CREATED:20240827T083109Z
LAST-MODIFIED:20241126T132116Z
UID:7347-1733389200-1733421600@www.frenchtechcotedazur.fr
SUMMARY:SOFT par Région Sud - Provence-Alpes-Côte d'Azur & risingSUD
DESCRIPTION:RisingSUD est heureux de vous accueillir à leur é𝐯è𝐧𝐞𝐦𝐞𝐧𝐭 𝐫𝐞𝐬𝐩𝐨𝐧𝐬𝐚𝐛𝐥𝐞\, Le SOFT\, organisé par la Région Sud – Provence-Alpes-Côte d’Azur & risingSUD ! \n📅  Le jeudi 5 décembre\, de 9h00 à 18h00 \n📍 27 Pl. Jules Guesde\, 13002 Marseille\, France \nPour en savoir et vous inscrire : cliquez-ici
URL:https://www.frenchtechcotedazur.fr/event/soft-par-region-sud-provence-alpes-cote-dazur-risingsud/
ATTACH;FMTTYPE=image/png:https://www.frenchtechcotedazur.fr/wp-content/uploads/2024/08/soft.png
END:VEVENT
BEGIN:VEVENT
DTSTART;TZID=Europe/Paris:20241205T123000
DTEND;TZID=Europe/Paris:20241205T140000
DTSTAMP:20260420T032746
CREATED:20240827T083109Z
LAST-MODIFIED:20241126T153621Z
UID:7385-1733401800-1733407200@www.frenchtechcotedazur.fr
SUMMARY:Comment dérisquer vos projets IA ? » par CEA Tech x la Métropole Nice Côte d’Azur x la Région Sud – Provence-Alpes-Côte d’Azur
DESCRIPTION:le CEA Tech propose un CEA Tech Time pour accompagner les entreprises dans leurs projets d’intelligence artificielle. \n📅  Le mardi 5 décembre\, à 12h30 à 14h \n📍   Hub de l’Innovation – 61-63 avenue Simone Veil\, Nicece \nPour en savoir et vous inscrire : cliquez-ici
URL:https://www.frenchtechcotedazur.fr/event/comment-derisquer-vos-projets-ia-par-cea-tech-x-la-metropole-nice-cote-dazur-x-la-region-sud-provence-alpes-cote-dazur-2/
ATTACH;FMTTYPE=image/jpeg:https://www.frenchtechcotedazur.fr/wp-content/uploads/2024/08/1732190341441.jpg
END:VEVENT
BEGIN:VEVENT
DTSTART;TZID=Europe/Paris:20241205T140000
DTEND;TZID=Europe/Paris:20241205T153000
DTSTAMP:20260420T032746
CREATED:20240827T083109Z
LAST-MODIFIED:20241126T145916Z
UID:7375-1733407200-1733412600@www.frenchtechcotedazur.fr
SUMMARY:French Tech Central par URSSAF x French Tech Côte d'Azur
DESCRIPTION:Nous sommes heureux de vous accueillir pour une nouvelle masterclass sur la thématique “𝗟𝗮𝗻𝗰𝗲𝗿 𝘀𝗼𝗻 𝗲𝗻𝘁𝗿𝗲𝗽𝗿𝗶𝘀𝗲 : 𝘁𝗼𝘂𝘁 𝘀𝗮𝘃𝗼𝗶𝗿 𝘀𝘂𝗿 𝗹𝗲𝘀 𝗱𝗲́𝗺𝗮𝗿𝗰𝗵𝗲𝘀\, 𝗹𝗲𝘀 𝗰𝗼𝘁𝗶𝘀𝗮𝘁𝗶𝗼𝗻𝘀 𝗲𝘁 𝗹’𝗮𝗰𝗰𝗼𝗺𝗽𝗮𝗴𝗻𝗲𝗺𝗲𝗻𝘁 à 𝗹𝗮 𝗰𝗿𝗲́𝗮𝘁𝗶𝗼𝗻” par l’URSSAF avec 𝗖𝗲́𝗹𝗶𝗻𝗲 𝗘𝗧𝗧𝗘𝗥 \n📅 Le jeudi 5 décembre\, de 14h à 15h30 \n📍 Totem French Tech Côte d’Azur\, 9 rue d’Italie 06000 Nice \nPour en savoir et vous inscrire : cliquez-ici
URL:https://www.frenchtechcotedazur.fr/event/french-tech-central-par-urssaf-x-french-tech-cote-dazur/
ATTACH;FMTTYPE=image/jpeg:https://www.frenchtechcotedazur.fr/wp-content/uploads/2024/08/1732531522128.jpg
END:VEVENT
BEGIN:VEVENT
DTSTART;TZID=Europe/Paris:20241205T180000
DTEND;TZID=Europe/Paris:20241205T210000
DTSTAMP:20260420T032746
CREATED:20240827T083109Z
LAST-MODIFIED:20241126T152233Z
UID:7378-1733421600-1733432400@www.frenchtechcotedazur.fr
SUMMARY:TECH TALKS par AKTANTIS et Innovation et Technologie de Thales DIS
DESCRIPTION:AKTANTIS et Innovation et Technologie de Thales DIS sont heureux de vous accueillir à leur afterwork exclusif sur l’IA & Sécurité et IA & Biométrie à La Ciotat\, organisé par AKTANTIS et l’équipe Innovation et Technologie de Thales DIS pilotée par Didier Hugot. \n📅 Le jeudi 5 décembre 2024 de 18h à 21h \n📍 Thales DIS à La Ciotat\, Z.I. Athelia IV\, 147 Av. du Jujubier\, 13600 La Ciotat\, France \nPour en savoir et vous inscrire : cliquez-ici
URL:https://www.frenchtechcotedazur.fr/event/tech-talks-par-aktantis-et-innovation-et-technologie-de-thales-dis/
ATTACH;FMTTYPE=image/png:https://www.frenchtechcotedazur.fr/wp-content/uploads/2024/08/unnamed-2.png
END:VEVENT
END:VCALENDAR