BEGIN:VCALENDAR
VERSION:2.0
PRODID:-//French Tech Côte d&#039;Azur - ECPv6.15.20//NONSGML v1.0//EN
CALSCALE:GREGORIAN
METHOD:PUBLISH
X-ORIGINAL-URL:https://www.frenchtechcotedazur.fr
X-WR-CALDESC:Évènements pour French Tech Côte d&#039;Azur
REFRESH-INTERVAL;VALUE=DURATION:PT1H
X-Robots-Tag:noindex
X-PUBLISHED-TTL:PT1H
BEGIN:VTIMEZONE
TZID:Europe/Paris
BEGIN:DAYLIGHT
TZOFFSETFROM:+0100
TZOFFSETTO:+0200
TZNAME:CEST
DTSTART:20230326T010000
END:DAYLIGHT
BEGIN:STANDARD
TZOFFSETFROM:+0200
TZOFFSETTO:+0100
TZNAME:CET
DTSTART:20231029T010000
END:STANDARD
BEGIN:DAYLIGHT
TZOFFSETFROM:+0100
TZOFFSETTO:+0200
TZNAME:CEST
DTSTART:20240331T010000
END:DAYLIGHT
BEGIN:STANDARD
TZOFFSETFROM:+0200
TZOFFSETTO:+0100
TZNAME:CET
DTSTART:20241027T010000
END:STANDARD
BEGIN:DAYLIGHT
TZOFFSETFROM:+0100
TZOFFSETTO:+0200
TZNAME:CEST
DTSTART:20250330T010000
END:DAYLIGHT
BEGIN:STANDARD
TZOFFSETFROM:+0200
TZOFFSETTO:+0100
TZNAME:CET
DTSTART:20251026T010000
END:STANDARD
END:VTIMEZONE
BEGIN:VEVENT
DTSTART;TZID=Europe/Paris:20241114T180000
DTEND;TZID=Europe/Paris:20241114T210000
DTSTAMP:20260420T045132
CREATED:20240827T083109Z
LAST-MODIFIED:20241023T080605Z
UID:7206-1731607200-1731618000@www.frenchtechcotedazur.fr
SUMMARY:Cocorico Day par la French Tech Côte d'Azur
DESCRIPTION:Afterwork Cocorico Day 🐓 \nL’événement d’onboarding et de pitchs des nouvelles startups membres de la French Tech Côte d’Azur. \n🗓 Jeudi 14 novembre 2024 à partir de 18h \n📍Villa Blu\, 9 Trav. du Prado\, 06130 Grasse \nTout l’écosystème sera présent pour l’occasion ! \nNe ratez pas l’occasion\, inscrivez-vous en cliquant ici
URL:https://www.frenchtechcotedazur.fr/event/cocorico-day-par-la-french-tech-cote-dazur/
ATTACH;FMTTYPE=image/png:https://www.frenchtechcotedazur.fr/wp-content/uploads/2024/08/KV_COCORICO_DAY.png
END:VEVENT
END:VCALENDAR