BEGIN:VCALENDAR
VERSION:2.0
PRODID:-//French Tech Côte d&#039;Azur - ECPv6.15.20//NONSGML v1.0//EN
CALSCALE:GREGORIAN
METHOD:PUBLISH
X-ORIGINAL-URL:https://www.frenchtechcotedazur.fr
X-WR-CALDESC:Évènements pour French Tech Côte d&#039;Azur
REFRESH-INTERVAL;VALUE=DURATION:PT1H
X-Robots-Tag:noindex
X-PUBLISHED-TTL:PT1H
BEGIN:VTIMEZONE
TZID:Europe/Paris
BEGIN:DAYLIGHT
TZOFFSETFROM:+0100
TZOFFSETTO:+0200
TZNAME:CEST
DTSTART:20230326T010000
END:DAYLIGHT
BEGIN:STANDARD
TZOFFSETFROM:+0200
TZOFFSETTO:+0100
TZNAME:CET
DTSTART:20231029T010000
END:STANDARD
BEGIN:DAYLIGHT
TZOFFSETFROM:+0100
TZOFFSETTO:+0200
TZNAME:CEST
DTSTART:20240331T010000
END:DAYLIGHT
BEGIN:STANDARD
TZOFFSETFROM:+0200
TZOFFSETTO:+0100
TZNAME:CET
DTSTART:20241027T010000
END:STANDARD
BEGIN:DAYLIGHT
TZOFFSETFROM:+0100
TZOFFSETTO:+0200
TZNAME:CEST
DTSTART:20250330T010000
END:DAYLIGHT
BEGIN:STANDARD
TZOFFSETFROM:+0200
TZOFFSETTO:+0100
TZNAME:CET
DTSTART:20251026T010000
END:STANDARD
END:VTIMEZONE
BEGIN:VEVENT
DTSTART;TZID=Europe/Paris:20241112T093000
DTEND;TZID=Europe/Paris:20241112T113000
DTSTAMP:20260420T045211
CREATED:20240827T083109Z
LAST-MODIFIED:20241023T080613Z
UID:7214-1731403800-1731411000@www.frenchtechcotedazur.fr
SUMMARY:Atelier Central DREETS sur le financement de l'innovation par la French Tech Côte d'Azur
DESCRIPTION: French Tech Cote d’Azur est heureuse de vous convier à son atelier central avec la DREETS (Direction régionale de l’économie\, de l’emploi\, du travail et des solidarités) sur le financement de l’innovation et France 2030 qui se tiendra : \n📅 Le mardi 12 novembre\, de 9h30 à 11h30 \n📍 French Tech Cote d’Azur\, 9 Rue d’Italie\, 06000 Nice \nProgramme à découvrir bientôt ! \nPour vous inscrire\, cliquez ici
URL:https://www.frenchtechcotedazur.fr/event/atelier-central-dreets-sur-le-financement-de-linnovation-par-la-french-tech-cote-dazur/
ATTACH;FMTTYPE=image/png:https://www.frenchtechcotedazur.fr/wp-content/uploads/2024/08/Copie-de-French-Tech-Central-INPI-e1729670632711.png
END:VEVENT
BEGIN:VEVENT
DTSTART;TZID=Europe/Paris:20241112T190000
DTEND;TZID=Europe/Paris:20241112T213000
DTSTAMP:20260420T045212
CREATED:20240827T083109Z
LAST-MODIFIED:20241023T144855Z
UID:7234-1731438000-1731447000@www.frenchtechcotedazur.fr
SUMMARY:Afterwork cybersécurité par Nice Start(s) Up
DESCRIPTION:Nice Start(s) Up est heureux de vous convier à son afterwork cybersécurité qui se tiendra : \n📅 Le mardi 12 novembre\, de 19h à 21h30 \n📍Banque Populaire Méditerranée\, 457 Promenade des Anglais 06000 Nice \nPour en savoir et vous inscrire : cliquez-ici
URL:https://www.frenchtechcotedazur.fr/event/copy-of-petit-dejeuner-bien-etre-cryotherapie-par-nice-starts-up/
ATTACH;FMTTYPE=image/png:https://www.frenchtechcotedazur.fr/wp-content/uploads/2024/08/afterwork-cyber-6c39c310337847a7999673ea5855b929-e1729694474669.png
END:VEVENT
END:VCALENDAR