BEGIN:VCALENDAR
VERSION:2.0
PRODID:-//French Tech Côte d&#039;Azur - ECPv6.15.20//NONSGML v1.0//EN
CALSCALE:GREGORIAN
METHOD:PUBLISH
X-ORIGINAL-URL:https://www.frenchtechcotedazur.fr
X-WR-CALDESC:Évènements pour French Tech Côte d&#039;Azur
REFRESH-INTERVAL;VALUE=DURATION:PT1H
X-Robots-Tag:noindex
X-PUBLISHED-TTL:PT1H
BEGIN:VTIMEZONE
TZID:Europe/Paris
BEGIN:DAYLIGHT
TZOFFSETFROM:+0100
TZOFFSETTO:+0200
TZNAME:CEST
DTSTART:20230326T010000
END:DAYLIGHT
BEGIN:STANDARD
TZOFFSETFROM:+0200
TZOFFSETTO:+0100
TZNAME:CET
DTSTART:20231029T010000
END:STANDARD
BEGIN:DAYLIGHT
TZOFFSETFROM:+0100
TZOFFSETTO:+0200
TZNAME:CEST
DTSTART:20240331T010000
END:DAYLIGHT
BEGIN:STANDARD
TZOFFSETFROM:+0200
TZOFFSETTO:+0100
TZNAME:CET
DTSTART:20241027T010000
END:STANDARD
BEGIN:DAYLIGHT
TZOFFSETFROM:+0100
TZOFFSETTO:+0200
TZNAME:CEST
DTSTART:20250330T010000
END:DAYLIGHT
BEGIN:STANDARD
TZOFFSETFROM:+0200
TZOFFSETTO:+0100
TZNAME:CET
DTSTART:20251026T010000
END:STANDARD
END:VTIMEZONE
BEGIN:VEVENT
DTSTART;TZID=Europe/Paris:20241108T090000
DTEND;TZID=Europe/Paris:20241108T120000
DTSTAMP:20260420T045100
CREATED:20240827T083109Z
LAST-MODIFIED:20241023T143925Z
UID:7229-1731056400-1731067200@www.frenchtechcotedazur.fr
SUMMARY:Petit-déjeuner bien-être - Cryothérapie par Nice Start(s) Up
DESCRIPTION:Nice Start(s) Up est heureux de vous convier à son petit-déjeuner pour découvrir la cryothérapie qui se tiendra : \n📅 Le vendredi 8 novembre\, de 9h à 12h \n📍Cryotera – Pôle de cryothérapie\, 148 Avenue Georges Guynemer\, 06700 Saint-Laurent-du-Var \nPour en savoir et vous inscrire : cliquez-ici
URL:https://www.frenchtechcotedazur.fr/event/petit-dejeuner-bien-etre-cryotherapie-par-nice-starts-up/
ATTACH;FMTTYPE=image/png:https://www.frenchtechcotedazur.fr/wp-content/uploads/2024/08/cryotera-2-bfd507fcb21d4aa0aec34ec8b7deaa43-e1729694330351.png
END:VEVENT
END:VCALENDAR