BEGIN:VCALENDAR
VERSION:2.0
PRODID:-//French Tech Côte d&#039;Azur - ECPv6.15.20//NONSGML v1.0//EN
CALSCALE:GREGORIAN
METHOD:PUBLISH
X-WR-CALNAME:French Tech Côte d&#039;Azur
X-ORIGINAL-URL:https://www.frenchtechcotedazur.fr
X-WR-CALDESC:Évènements pour French Tech Côte d&#039;Azur
REFRESH-INTERVAL;VALUE=DURATION:PT1H
X-Robots-Tag:noindex
X-PUBLISHED-TTL:PT1H
BEGIN:VTIMEZONE
TZID:Europe/Paris
BEGIN:DAYLIGHT
TZOFFSETFROM:+0100
TZOFFSETTO:+0200
TZNAME:CEST
DTSTART:20230326T010000
END:DAYLIGHT
BEGIN:STANDARD
TZOFFSETFROM:+0200
TZOFFSETTO:+0100
TZNAME:CET
DTSTART:20231029T010000
END:STANDARD
BEGIN:DAYLIGHT
TZOFFSETFROM:+0100
TZOFFSETTO:+0200
TZNAME:CEST
DTSTART:20240331T010000
END:DAYLIGHT
BEGIN:STANDARD
TZOFFSETFROM:+0200
TZOFFSETTO:+0100
TZNAME:CET
DTSTART:20241027T010000
END:STANDARD
BEGIN:DAYLIGHT
TZOFFSETFROM:+0100
TZOFFSETTO:+0200
TZNAME:CEST
DTSTART:20250330T010000
END:DAYLIGHT
BEGIN:STANDARD
TZOFFSETFROM:+0200
TZOFFSETTO:+0100
TZNAME:CET
DTSTART:20251026T010000
END:STANDARD
END:VTIMEZONE
BEGIN:VEVENT
DTSTART;TZID=Europe/Paris:20241107T170000
DTEND;TZID=Europe/Paris:20241107T220000
DTSTAMP:20260420T045440
CREATED:20240827T083109Z
LAST-MODIFIED:20241024T080504Z
UID:7242-1730998800-1731016800@www.frenchtechcotedazur.fr
SUMMARY:SOIREE DU TEST LOGICIEL par ALL4TEST
DESCRIPTION:ALL4TEST est heureux de vous convier à la soirée du Test Logiciel qui se tiendra : \n📅 Le jeudi 7 novembre\, de 17h à 22h \n📍 Sophia-Antipolis \nAu programme :\n\n\n17h00 – 17h45 : Accueil \n\n\n17h45 – 20h : Conférences \nDécouvrez le programme ci-dessus. \nDes conférences sur des sujets qui concernent aussi bien les ingénieurs QA/QE que des PO ou des DEV.\n20h – 20h45 : Table rondeNOUVEAU ! Nous organisons cette année une Table ronde avec des managers de grands groupes et des tops experts.\nLe sujet sera : l’IA appliquée aux tests…mythe ou réalité? Comment se préparer a cette nouvelle approche ?\n20h45 – 22h : Buffet / NetworkingCes conférences seront suivies d’un buffet convivial à partir de 20h45 pour permettre aux participants de rencontrer les intervenants et d’échanger avec d’autres professionnels du secteur.\n\nPour en savoir et vous inscrire : cliquez-ici
URL:https://www.frenchtechcotedazur.fr/event/soiree-du-test-logiciel-par-all4test-2/
ATTACH;FMTTYPE=image/jpeg:https://www.frenchtechcotedazur.fr/wp-content/uploads/2024/08/1729505766106-e1729757081908.jpeg
END:VEVENT
END:VCALENDAR