BEGIN:VCALENDAR
VERSION:2.0
PRODID:-//French Tech Côte d&#039;Azur - ECPv6.15.20//NONSGML v1.0//EN
CALSCALE:GREGORIAN
METHOD:PUBLISH
X-WR-CALNAME:French Tech Côte d&#039;Azur
X-ORIGINAL-URL:https://www.frenchtechcotedazur.fr
X-WR-CALDESC:Évènements pour French Tech Côte d&#039;Azur
REFRESH-INTERVAL;VALUE=DURATION:PT1H
X-Robots-Tag:noindex
X-PUBLISHED-TTL:PT1H
BEGIN:VTIMEZONE
TZID:Europe/Paris
BEGIN:DAYLIGHT
TZOFFSETFROM:+0100
TZOFFSETTO:+0200
TZNAME:CEST
DTSTART:20230326T010000
END:DAYLIGHT
BEGIN:STANDARD
TZOFFSETFROM:+0200
TZOFFSETTO:+0100
TZNAME:CET
DTSTART:20231029T010000
END:STANDARD
BEGIN:DAYLIGHT
TZOFFSETFROM:+0100
TZOFFSETTO:+0200
TZNAME:CEST
DTSTART:20240331T010000
END:DAYLIGHT
BEGIN:STANDARD
TZOFFSETFROM:+0200
TZOFFSETTO:+0100
TZNAME:CET
DTSTART:20241027T010000
END:STANDARD
BEGIN:DAYLIGHT
TZOFFSETFROM:+0100
TZOFFSETTO:+0200
TZNAME:CEST
DTSTART:20250330T010000
END:DAYLIGHT
BEGIN:STANDARD
TZOFFSETFROM:+0200
TZOFFSETTO:+0100
TZNAME:CET
DTSTART:20251026T010000
END:STANDARD
END:VTIMEZONE
BEGIN:VEVENT
DTSTART;TZID=Europe/Paris:20241017T173000
DTEND;TZID=Europe/Paris:20241017T190000
DTSTAMP:20260420T061009
CREATED:20240827T083109Z
LAST-MODIFIED:20241001T141008Z
UID:7171-1729186200-1729191600@www.frenchtechcotedazur.fr
SUMMARY:Afterwork Maison de la Métropole Nice Côte d'Azur
DESCRIPTION:La French Tech Cote d’Azur est heureux de vous convier à son afterwork en parnetairat la Maison de la Métropole Nice Côte d’Azur qui se tiendra : \n📅 Le jeudi 17 octobre\, de 17h30 à 19h \n📍 Totem de la French Tech Cote d’Azur\, 9 Rue d’Italie\, 06000 Nice \nProgramme à découvrir bientôt ! \n𝐏𝐨𝐮𝐫 𝐯𝐨𝐮𝐬 𝐢𝐧𝐬𝐜𝐫𝐢𝐫𝐞\, envoyez directement un mail à contact@frenchtechcotedazur.fr
URL:https://www.frenchtechcotedazur.fr/event/afterwork-maison-de-la-metropole-nice-cote-dazur/
ATTACH;FMTTYPE=image/png:https://www.frenchtechcotedazur.fr/wp-content/uploads/2024/08/logo-FTCA-1.png
END:VEVENT
BEGIN:VEVENT
DTSTART;TZID=Europe/Paris:20241017T183000
DTEND;TZID=Europe/Paris:20241017T210000
DTSTAMP:20260420T061009
CREATED:20240827T083109Z
LAST-MODIFIED:20241002T124246Z
UID:7178-1729189800-1729198800@www.frenchtechcotedazur.fr
SUMMARY:La Trésorerie pour les Entreprises et Startups par Le Club des Entrepreneurs du Pays de Grasse
DESCRIPTION: Le Club des Entrepreneurs du Pays de Grasse est heureux de vous convier à son afterwork collaboratif et participatif autour de la gestion de la trésorerie\, des dispositifs de financement et des subventions qui se tiendra : \n📅 Le jeudi 17 octobre \, de 18h30 à 21h \n📍 Villa blu\, 9 Traverse du Prado 06130 Grasse \nPour vous inscrire\, cliquez ici
URL:https://www.frenchtechcotedazur.fr/event/la-tresorerie-pour-les-entreprises-et-startups-par-le-club-des-entrepreneurs-du-pays-de-grasse/
ATTACH;FMTTYPE=image/png:https://www.frenchtechcotedazur.fr/wp-content/uploads/2024/08/Invitation-Afterwork-GALT-Tresorerie-2-e1727872909282.png
END:VEVENT
END:VCALENDAR