BEGIN:VCALENDAR
VERSION:2.0
PRODID:-//French Tech Côte d&#039;Azur - ECPv6.15.20//NONSGML v1.0//EN
CALSCALE:GREGORIAN
METHOD:PUBLISH
X-WR-CALNAME:French Tech Côte d&#039;Azur
X-ORIGINAL-URL:https://www.frenchtechcotedazur.fr
X-WR-CALDESC:Évènements pour French Tech Côte d&#039;Azur
REFRESH-INTERVAL;VALUE=DURATION:PT1H
X-Robots-Tag:noindex
X-PUBLISHED-TTL:PT1H
BEGIN:VTIMEZONE
TZID:Europe/Paris
BEGIN:DAYLIGHT
TZOFFSETFROM:+0100
TZOFFSETTO:+0200
TZNAME:CEST
DTSTART:20230326T010000
END:DAYLIGHT
BEGIN:STANDARD
TZOFFSETFROM:+0200
TZOFFSETTO:+0100
TZNAME:CET
DTSTART:20231029T010000
END:STANDARD
BEGIN:DAYLIGHT
TZOFFSETFROM:+0100
TZOFFSETTO:+0200
TZNAME:CEST
DTSTART:20240331T010000
END:DAYLIGHT
BEGIN:STANDARD
TZOFFSETFROM:+0200
TZOFFSETTO:+0100
TZNAME:CET
DTSTART:20241027T010000
END:STANDARD
BEGIN:DAYLIGHT
TZOFFSETFROM:+0100
TZOFFSETTO:+0200
TZNAME:CEST
DTSTART:20250330T010000
END:DAYLIGHT
BEGIN:STANDARD
TZOFFSETFROM:+0200
TZOFFSETTO:+0100
TZNAME:CET
DTSTART:20251026T010000
END:STANDARD
END:VTIMEZONE
BEGIN:VEVENT
DTSTART;TZID=Europe/Paris:20241014T090000
DTEND;TZID=Europe/Paris:20241014T120000
DTSTAMP:20260420T061818
CREATED:20240827T083109Z
LAST-MODIFIED:20240930T100716Z
UID:7125-1728896400-1728907200@www.frenchtechcotedazur.fr
SUMMARY:Café Connect NSU #2 par la Nice Start(s) Up
DESCRIPTION:Nice Start(s) Up est heureux de vous convier à son Café Connect #2 qui se tiendra : \n📅 Le lundi 14 octobre \, de 9h à 12h \n📍 Le Vestiaire à MoT\,  19 Bd Joseph Garnier\, 06000 Nice. \nAu programme :\n\n(Re)découvrir notre association\, nos actions\, les membres qui siègent au bureau au sein de notre Conseil d’Administration\nPrésentation de nos partenaires\n 2’ pour pitcher ta startup\nTe donner des tips et conseils\nNetworking autour d’un café\n\nPour en savoir et vous inscrire : cliquez-ici \n 
URL:https://www.frenchtechcotedazur.fr/event/cafe-connect-nsu-2-par-la-nice-starts-up/
ATTACH;FMTTYPE=image/jpeg:https://www.frenchtechcotedazur.fr/wp-content/uploads/2024/08/cafe-connect-nsu-2-5ffea094bd6d4473aeba465cff498aff-e1727690654863.jpg
END:VEVENT
END:VCALENDAR