BEGIN:VCALENDAR
VERSION:2.0
PRODID:-//French Tech Côte d&#039;Azur - ECPv6.15.20//NONSGML v1.0//EN
CALSCALE:GREGORIAN
METHOD:PUBLISH
X-WR-CALNAME:French Tech Côte d&#039;Azur
X-ORIGINAL-URL:https://www.frenchtechcotedazur.fr
X-WR-CALDESC:Évènements pour French Tech Côte d&#039;Azur
REFRESH-INTERVAL;VALUE=DURATION:PT1H
X-Robots-Tag:noindex
X-PUBLISHED-TTL:PT1H
BEGIN:VTIMEZONE
TZID:Europe/Paris
BEGIN:DAYLIGHT
TZOFFSETFROM:+0100
TZOFFSETTO:+0200
TZNAME:CEST
DTSTART:20230326T010000
END:DAYLIGHT
BEGIN:STANDARD
TZOFFSETFROM:+0200
TZOFFSETTO:+0100
TZNAME:CET
DTSTART:20231029T010000
END:STANDARD
BEGIN:DAYLIGHT
TZOFFSETFROM:+0100
TZOFFSETTO:+0200
TZNAME:CEST
DTSTART:20240331T010000
END:DAYLIGHT
BEGIN:STANDARD
TZOFFSETFROM:+0200
TZOFFSETTO:+0100
TZNAME:CET
DTSTART:20241027T010000
END:STANDARD
BEGIN:DAYLIGHT
TZOFFSETFROM:+0100
TZOFFSETTO:+0200
TZNAME:CEST
DTSTART:20250330T010000
END:DAYLIGHT
BEGIN:STANDARD
TZOFFSETFROM:+0200
TZOFFSETTO:+0100
TZNAME:CET
DTSTART:20251026T010000
END:STANDARD
END:VTIMEZONE
BEGIN:VEVENT
DTSTART;TZID=Europe/Paris:20241011T083000
DTEND;TZID=Europe/Paris:20241011T093000
DTSTAMP:20260420T061148
CREATED:20240827T083109Z
LAST-MODIFIED:20240930T133735Z
UID:7156-1728635400-1728639000@www.frenchtechcotedazur.fr
SUMMARY:Petit-déjeuner Adhérents par Telecom Valley
DESCRIPTION: Telecom Valley est heureux rassembler ses adhérents autour d’un petit-déjeuner convivial pour leur permettre de faire connaissance\, accueillir les nouveaux membres\, revoir les plus anciens\, échanger\, discuter\, évoquer les projets à venir \, qui se tiendra : \n📅 Le vendredi 11 octobre \, de 8h30 à 9h30 \n📍 CSTB\, 290 route des Lucioles\, 06904 VALBONNE \nPour en savoir et vous inscrire : cliquez-ici
URL:https://www.frenchtechcotedazur.fr/event/petit-dejeuner-adherents-par-telecom-valley-3/
ATTACH;FMTTYPE=image/png:https://www.frenchtechcotedazur.fr/wp-content/uploads/2024/08/Petit-dejeuner-adherents-oct24.png
END:VEVENT
END:VCALENDAR