BEGIN:VCALENDAR
VERSION:2.0
PRODID:-//French Tech Côte d&#039;Azur - ECPv6.15.20//NONSGML v1.0//EN
CALSCALE:GREGORIAN
METHOD:PUBLISH
X-WR-CALNAME:French Tech Côte d&#039;Azur
X-ORIGINAL-URL:https://www.frenchtechcotedazur.fr
X-WR-CALDESC:Évènements pour French Tech Côte d&#039;Azur
REFRESH-INTERVAL;VALUE=DURATION:PT1H
X-Robots-Tag:noindex
X-PUBLISHED-TTL:PT1H
BEGIN:VTIMEZONE
TZID:Europe/Paris
BEGIN:DAYLIGHT
TZOFFSETFROM:+0100
TZOFFSETTO:+0200
TZNAME:CEST
DTSTART:20230326T010000
END:DAYLIGHT
BEGIN:STANDARD
TZOFFSETFROM:+0200
TZOFFSETTO:+0100
TZNAME:CET
DTSTART:20231029T010000
END:STANDARD
BEGIN:DAYLIGHT
TZOFFSETFROM:+0100
TZOFFSETTO:+0200
TZNAME:CEST
DTSTART:20240331T010000
END:DAYLIGHT
BEGIN:STANDARD
TZOFFSETFROM:+0200
TZOFFSETTO:+0100
TZNAME:CET
DTSTART:20241027T010000
END:STANDARD
BEGIN:DAYLIGHT
TZOFFSETFROM:+0100
TZOFFSETTO:+0200
TZNAME:CEST
DTSTART:20250330T010000
END:DAYLIGHT
BEGIN:STANDARD
TZOFFSETFROM:+0200
TZOFFSETTO:+0100
TZNAME:CET
DTSTART:20251026T010000
END:STANDARD
END:VTIMEZONE
BEGIN:VEVENT
DTSTART;TZID=Europe/Paris:20241003T093000
DTEND;TZID=Europe/Paris:20241003T180000
DTSTAMP:20260420T061147
CREATED:20240827T083109Z
LAST-MODIFIED:20240827T135605Z
UID:7071-1727947800-1727978400@www.frenchtechcotedazur.fr
SUMMARY:Talent In Tech par la CCI Côte d'Azur
DESCRIPTION:La CCI Côte d’Azur est heureuse de vous convier à son salon de recrutement des métiers de la tech et du numérique de la Côte d’Azur qui se tiendra : \n📅 Le jeudi 3 octobre\, de 9h30 à 18h \n📍 Azur Arena Antibes\, 250 Rue Emile Hugues\, 06600 Antibes \nAu programme :\n\n𝐓𝐚𝐛𝐥𝐞𝐬 𝐫𝐨𝐧𝐝𝐞𝐬\n– 𝐿𝑎 𝑡𝑒𝑐ℎ\, 𝑑𝑒𝑠 𝑚𝑒́𝑡𝑖𝑒𝑟𝑠 𝑠𝑜𝑢𝑠 𝑡𝑒𝑛𝑠𝑖𝑜𝑛 : 𝑐𝑜𝑚𝑚𝑒𝑛𝑡 𝑖𝑛𝑛𝑜𝑣𝑒𝑟 𝑝𝑜𝑢𝑟 𝑟𝑒𝑐𝑟𝑢𝑡𝑒𝑟 ? 𝑁𝑜𝑢𝑣𝑒𝑙𝑙𝑒𝑠 𝑡𝑒𝑐ℎ𝑛𝑖𝑞𝑢𝑒𝑠 𝑑𝑒 𝑟𝑒𝑐𝑟𝑢𝑡𝑒𝑚𝑒𝑛𝑡\, 𝑛𝑜𝑢𝑣𝑒𝑎𝑢𝑥 𝑜𝑢𝑡𝑖𝑙𝑠…\n– 𝐿𝑒𝑠 𝑖𝑛𝑛𝑜𝑣𝑎𝑡𝑖𝑜𝑛𝑠 𝑡𝑒𝑐ℎ𝑛𝑜𝑙𝑜𝑔𝑖𝑞𝑢𝑒𝑠 𝑐ℎ𝑎𝑛𝑔𝑒𝑛𝑡 𝑙𝑎 𝑑𝑜𝑛𝑛𝑒 ! 𝑁𝑜𝑢𝑣𝑒𝑎𝑢𝑥 𝑏𝑒𝑠𝑜𝑖𝑛𝑠\, 𝑛𝑜𝑢𝑣𝑒𝑎𝑢𝑥 𝑚𝑒́𝑡𝑖𝑒𝑟𝑠\, 𝑛𝑜𝑢𝑣𝑒𝑙𝑙𝑒𝑠 𝑓𝑜𝑟𝑚𝑎𝑡𝑖𝑜𝑛𝑠\, 𝑛𝑜𝑢𝑣𝑒𝑙𝑙𝑒𝑠 𝑐𝑜𝑚𝑝𝑒́𝑡𝑒𝑛𝑐𝑒𝑠…\n– 𝐴𝑖𝑑𝑒𝑠 𝑒𝑡 𝑑𝑖𝑠𝑝𝑜𝑠𝑖𝑡𝑖𝑓𝑠 𝑑’𝑎𝑐𝑐𝑢𝑒𝑖𝑙 𝑠𝑢𝑟 𝑙𝑒 𝑡𝑒𝑟𝑟𝑖𝑡𝑜𝑖𝑟𝑒 : 𝑙𝑜𝑔𝑒𝑚𝑒𝑛𝑡\, 𝑚𝑜𝑏𝑖𝑙𝑖𝑡𝑒́\, 𝑣𝑖𝑒 𝑙𝑜𝑐𝑎𝑙𝑒\n– 𝐴𝑢𝑐𝑢𝑛𝑒 𝑙𝑖𝑔𝑛𝑒 𝑑𝑒 𝑐𝑜𝑑𝑒 𝑠𝑢𝑟 𝑡𝑜𝑛 𝐶𝑉\, 𝑠𝑜 𝑤ℎ𝑎𝑡 ? 𝐴𝑖𝑑𝑒𝑠 𝑒𝑡 𝑑𝑖𝑠𝑝𝑜𝑠𝑖𝑡𝑖𝑓𝑠 𝑝𝑜𝑢𝑟 𝑢𝑛𝑒 𝑟𝑒𝑐𝑜𝑛𝑣𝑒𝑟𝑠𝑖𝑜𝑛 𝑟𝑒́𝑢𝑠𝑠𝑖𝑒\n– 𝑇𝑎𝑙𝑒𝑛𝑡 𝑖𝑛 𝑇𝑒𝑐ℎ\, 𝑡𝑜𝑢𝑡(𝑒)𝑠 𝑐𝑜𝑛𝑐𝑒𝑟𝑛𝑒́(𝑒)𝑠 !\n– 𝐸𝑛𝑡𝑟𝑒𝑝𝑟𝑖𝑠𝑒𝑠 𝑠𝑢𝑟 𝑙𝑒 𝑔𝑟𝑖𝑙𝑙 : 𝑙𝑒𝑠 𝑗𝑒𝑢𝑛𝑒𝑠 𝑝𝑟𝑒𝑛𝑛𝑒𝑛𝑡 𝑙𝑒 𝑙𝑒𝑎𝑑 𝑒𝑡 𝑝𝑜𝑠𝑒𝑛𝑡 𝑡𝑜𝑢𝑡𝑒𝑠 𝑙𝑒𝑠 𝑞𝑢𝑒𝑠𝑡𝑖𝑜𝑛𝑠 (𝑜𝑢 𝑝𝑟𝑒𝑠𝑞𝑢𝑒!)\n𝐀𝐭𝐞𝐥𝐢𝐞𝐫𝐬\n–  » 𝐴𝑑𝑜𝑝𝑡𝑒 𝑡𝑜𝑛 𝑎𝑠𝑠𝑜𝑐𝑖𝑒́  » avec l’IRCE – Institut Régional des Chefs d’Entreprise et l’ APEC Provence Alpes Côte d’Azur et Corse\n– 𝑅𝑒́𝑑𝑖𝑔𝑒 𝑡𝑜𝑛 𝐶𝑉 𝑒𝑡 𝑡𝑎 𝑙𝑒𝑡𝑡𝑟𝑒 𝑑𝑒 𝑚𝑜𝑡𝑖𝑣𝑎𝑡𝑖𝑜𝑛 𝑎𝑣𝑒𝑐 𝐶ℎ𝑎𝑡 𝐺𝑃𝑇 avec la Maison de l’Intelligence Artificielle\n𝐉𝐨𝐛 𝐝𝐚𝐭𝐢𝐧𝐠\n𝐏𝐚𝐫𝐜𝐨𝐮𝐫𝐬 𝐝𝐞 𝐟𝐨𝐫𝐦𝐚𝐭𝐢𝐨𝐧𝐬\n𝐄𝐱𝐩𝐨𝐬𝐚𝐧𝐭𝐬 avec le village des start-ups by La French Tech Côte d’Azur\n𝐓𝐎𝐏 𝐓𝐄𝐂𝐇\, hackathon 24h\n\nPour en savoir et vous inscrire : cliquez-ici \n 
URL:https://www.frenchtechcotedazur.fr/event/talent-in-tech-par-la-cci-cote-dazur/
ATTACH;FMTTYPE=image/jpeg:https://www.frenchtechcotedazur.fr/wp-content/uploads/2024/08/1719933422431.jpeg
END:VEVENT
END:VCALENDAR