BEGIN:VCALENDAR
VERSION:2.0
PRODID:-//French Tech Côte d&#039;Azur - ECPv6.15.20//NONSGML v1.0//EN
CALSCALE:GREGORIAN
METHOD:PUBLISH
X-ORIGINAL-URL:https://www.frenchtechcotedazur.fr
X-WR-CALDESC:Évènements pour French Tech Côte d&#039;Azur
REFRESH-INTERVAL;VALUE=DURATION:PT1H
X-Robots-Tag:noindex
X-PUBLISHED-TTL:PT1H
BEGIN:VTIMEZONE
TZID:Europe/Paris
BEGIN:DAYLIGHT
TZOFFSETFROM:+0100
TZOFFSETTO:+0200
TZNAME:CEST
DTSTART:20230326T010000
END:DAYLIGHT
BEGIN:STANDARD
TZOFFSETFROM:+0200
TZOFFSETTO:+0100
TZNAME:CET
DTSTART:20231029T010000
END:STANDARD
BEGIN:DAYLIGHT
TZOFFSETFROM:+0100
TZOFFSETTO:+0200
TZNAME:CEST
DTSTART:20240331T010000
END:DAYLIGHT
BEGIN:STANDARD
TZOFFSETFROM:+0200
TZOFFSETTO:+0100
TZNAME:CET
DTSTART:20241027T010000
END:STANDARD
BEGIN:DAYLIGHT
TZOFFSETFROM:+0100
TZOFFSETTO:+0200
TZNAME:CEST
DTSTART:20250330T010000
END:DAYLIGHT
BEGIN:STANDARD
TZOFFSETFROM:+0200
TZOFFSETTO:+0100
TZNAME:CET
DTSTART:20251026T010000
END:STANDARD
END:VTIMEZONE
BEGIN:VEVENT
DTSTART;VALUE=DATE:20240924
DTEND;VALUE=DATE:20240927
DTSTAMP:20260420T073826
CREATED:20240827T083109Z
LAST-MODIFIED:20240827T095654Z
UID:7037-1727136000-1727395199@www.frenchtechcotedazur.fr
SUMMARY:Fundtruck par La French Tech Côte d'Azur et Maddyness
DESCRIPTION:Vous recherchez des investisseurs pour financer votre start up ? Dans le cadre de son programme French Tech Rise\, la French Tech Côte d’azur vous propose Le Fundtruck\, célèbre concours itinérant destiné aux startups qui se tiendra : \n📅 Le mardi 24 septembre \n📍 Business Pôle\, 1047 Route des Dolines\, All. Pierre Ziller\, 06560 Valbonne \nmais aussi \n📅 Le jeudi 26 septembre \n📍 Observatoire de la Côte d’Azur\, 96 Bd de l’Observatoire\, 06300 Nice \nCet événement vise à soutenir les entrepreneurs en quête de financement pour leurs projets innovants. L’initiative\, qui s’étend sur 12 étapes régionales\, a pour objectif de redéfinir les codes traditionnels de l’investissement en favorisant des rencontres directes entre startups et investisseurs. \nCritères de séléctions :\n\nEntreprises de moins de 8 ans disposant d’un numéro SIREN et cherchant à lever des fonds entre 500 000 € et 5 M €. Les candidats doivent présenter un projet innovant et solide\n\nEn participant au Fundtruck\, les entrepreneurs ont l’opportunité de rencontrer directement des investisseurs\, de bénéficier de conseils d’experts et d’accroître leur visibilité. Chaque étape régionale accueille entre 5 et 8 startups qui disposent de trois minutes pour convaincre les membres du jury et les investisseurs. \nLe projet ayant obtenu le plus de votes accédera à la finale régionale\, étape qualificative pour la grande finale prévue à Paris en fin d’année. \nPour en savoir et vous inscrire : cliquez-ici
URL:https://www.frenchtechcotedazur.fr/event/fundtruck-par-la-french-tech-cote-dazur-et-maddyness/
ATTACH;FMTTYPE=image/webp:https://www.frenchtechcotedazur.fr/wp-content/uploads/2024/08/66293b05287c572c26165e43_PROVENCE-ALPES-COTE-DAZUR-03-p-3200-scaled-e1724752398774.webp
END:VEVENT
BEGIN:VEVENT
DTSTART;TZID=Europe/Paris:20240926T083000
DTEND;TZID=Europe/Paris:20240926T180000
DTSTAMP:20260420T073826
CREATED:20240827T083109Z
LAST-MODIFIED:20240827T133849Z
UID:7058-1727339400-1727373600@www.frenchtechcotedazur.fr
SUMMARY:Agile Tour par Telecom Valley
DESCRIPTION:Telecom Valley est heureux de vous convier à son événement qui se tiendra : \n📅 Le jeudi 26 septembre\, 8h30 à 18h \n📍 Université Côte d’Azur – Campus SophiaTech\, 930 Rte des Colles\, 06410 Biot \nL’Agile Tour est une journée de conférences et ateliers\, avec des temps de networking dans une ambiance ensoleillée et conviviale\, sur la promotion des méthodes agiles\, à destination des professionnels. \nPour en savoir et vous inscrire : cliquez-ici \n 
URL:https://www.frenchtechcotedazur.fr/event/agile-tour-par-telecom-valley/
ATTACH;FMTTYPE=image/png:https://www.frenchtechcotedazur.fr/wp-content/uploads/2024/08/Agile-Tour-Sophia-2024-header-e1724765833428.png
END:VEVENT
BEGIN:VEVENT
DTSTART;TZID=Europe/Paris:20240926T140000
DTEND;TZID=Europe/Paris:20240926T150000
DTSTAMP:20260420T073826
CREATED:20240827T083109Z
LAST-MODIFIED:20240827T131224Z
UID:7041-1727359200-1727362800@www.frenchtechcotedazur.fr
SUMMARY:Webinaire de la Direction des achats de l’Etat (DAE) et l’UGAP
DESCRIPTION:La Direction des achats de l’Etat (DAE) et l’UGAP organisent un webinaire sur « Mieux comprendre la commande publique et le processus d’entrée à l’UGAP » qui se tiendra : \n📅 Le jeudi 26 septembre\, de 14h à 15h \n📍 En distanciel \nCe webinaire\, destiné aux entreprises\, présentera : \n\nLes règles de fonctionnement des marchés publics ;\nLes outils à votre disposition pour connaître les projets d’achats (notamment le portail gratuit APProch) et les marchés publiés par les acheteurs publics ;\nLe processus d’entrée à l’UGAP.\n\nPour vous connectez (pas d’inscription préalable) : cliquez-ici \n 
URL:https://www.frenchtechcotedazur.fr/event/webinaire-de-la-direction-des-achats-de-letat-dae-et-lugap/
ATTACH;FMTTYPE=image/png:https://www.frenchtechcotedazur.fr/wp-content/uploads/2024/08/unnamed.png
END:VEVENT
BEGIN:VEVENT
DTSTART;TZID=Europe/Paris:20240926T183000
DTEND;TZID=Europe/Paris:20240926T213000
DTSTAMP:20260420T073826
CREATED:20240827T083109Z
LAST-MODIFIED:20240827T134252Z
UID:7067-1727375400-1727386200@www.frenchtechcotedazur.fr
SUMMARY:Concours de pétanque par Cannes Is Up
DESCRIPTION:Cannes Is Up vous convie à une soirée pétanque qui se tiendra : \n📅 Le jeudi 26 septembre\, de 18h30 à 21h30 \n📍 Beach Club Bouliste de L’Etang Beach Club\, 9 Av. Reine Astrid\, 06400 Cannes \nLa soirée se terminera avec la remise des prix suivie d’un verre de l’amitié. 🥂 \nPour vous inscrire : cliquez-ici \n 
URL:https://www.frenchtechcotedazur.fr/event/concours-de-petanque-par-cannes-is-up/
ATTACH;FMTTYPE=image/png:https://www.frenchtechcotedazur.fr/wp-content/uploads/2024/08/croppedimage-88117989a431454d8e54593681e732c5-e1724766161678.png
END:VEVENT
END:VCALENDAR