BEGIN:VCALENDAR
VERSION:2.0
PRODID:-//French Tech Côte d&#039;Azur - ECPv6.15.20//NONSGML v1.0//EN
CALSCALE:GREGORIAN
METHOD:PUBLISH
X-ORIGINAL-URL:https://www.frenchtechcotedazur.fr
X-WR-CALDESC:Évènements pour French Tech Côte d&#039;Azur
REFRESH-INTERVAL;VALUE=DURATION:PT1H
X-Robots-Tag:noindex
X-PUBLISHED-TTL:PT1H
BEGIN:VTIMEZONE
TZID:Europe/Paris
BEGIN:DAYLIGHT
TZOFFSETFROM:+0100
TZOFFSETTO:+0200
TZNAME:CEST
DTSTART:20230326T010000
END:DAYLIGHT
BEGIN:STANDARD
TZOFFSETFROM:+0200
TZOFFSETTO:+0100
TZNAME:CET
DTSTART:20231029T010000
END:STANDARD
BEGIN:DAYLIGHT
TZOFFSETFROM:+0100
TZOFFSETTO:+0200
TZNAME:CEST
DTSTART:20240331T010000
END:DAYLIGHT
BEGIN:STANDARD
TZOFFSETFROM:+0200
TZOFFSETTO:+0100
TZNAME:CET
DTSTART:20241027T010000
END:STANDARD
BEGIN:DAYLIGHT
TZOFFSETFROM:+0100
TZOFFSETTO:+0200
TZNAME:CEST
DTSTART:20250330T010000
END:DAYLIGHT
BEGIN:STANDARD
TZOFFSETFROM:+0200
TZOFFSETTO:+0100
TZNAME:CET
DTSTART:20251026T010000
END:STANDARD
END:VTIMEZONE
BEGIN:VEVENT
DTSTART;TZID=Europe/Paris:20240919T120000
DTEND;TZID=Europe/Paris:20240920T130000
DTSTAMP:20260420T073803
CREATED:20240827T083109Z
LAST-MODIFIED:20240827T092055Z
UID:7034-1726747200-1726837200@www.frenchtechcotedazur.fr
SUMMARY:Atelier INPI par Cannes Is Up
DESCRIPTION:Vous êtes une startup\, une PME ou un doctorant ? Participez à cet atelier incontournable pour tout savoir sur les bonnes pratiques en matière de gestion de la propriété intellectuelle et découvrir les modalités d’accompagnement de l’INPI qui se tiendra : \n📅 Le lundi 19 septembre\,  de 12h à 13h \n📍 Hôtel d’entreprises Cannes Bastide Rouge\, Parc d’Activités de l’Echangeur\, All. Maurice Bellonte Bâtiment 1\, 1er étage\, 06210 Mandelieu-la-Napoule \nCet événement sera animé par Eric Catapano\, Délégué Régional INPI. Profitez de cette opportunité pour poser toutes vos questions et optimiser la gestion de vos innovations. \nPour en savoir et vous inscrire : cliquez-ici \n 
URL:https://www.frenchtechcotedazur.fr/event/atelier-inpi-par-cannes-is-up/
ATTACH;FMTTYPE=image/png:https://www.frenchtechcotedazur.fr/wp-content/uploads/2024/08/croppedimage-5c559b5199c94327b79db0749a2e66f0-e1724750006626.png
END:VEVENT
END:VCALENDAR