BEGIN:VCALENDAR
VERSION:2.0
PRODID:-//French Tech Côte d&#039;Azur - ECPv6.15.20//NONSGML v1.0//EN
CALSCALE:GREGORIAN
METHOD:PUBLISH
X-ORIGINAL-URL:https://www.frenchtechcotedazur.fr
X-WR-CALDESC:Évènements pour French Tech Côte d&#039;Azur
REFRESH-INTERVAL;VALUE=DURATION:PT1H
X-Robots-Tag:noindex
X-PUBLISHED-TTL:PT1H
BEGIN:VTIMEZONE
TZID:Europe/Paris
BEGIN:DAYLIGHT
TZOFFSETFROM:+0100
TZOFFSETTO:+0200
TZNAME:CEST
DTSTART:20230326T010000
END:DAYLIGHT
BEGIN:STANDARD
TZOFFSETFROM:+0200
TZOFFSETTO:+0100
TZNAME:CET
DTSTART:20231029T010000
END:STANDARD
BEGIN:DAYLIGHT
TZOFFSETFROM:+0100
TZOFFSETTO:+0200
TZNAME:CEST
DTSTART:20240331T010000
END:DAYLIGHT
BEGIN:STANDARD
TZOFFSETFROM:+0200
TZOFFSETTO:+0100
TZNAME:CET
DTSTART:20241027T010000
END:STANDARD
BEGIN:DAYLIGHT
TZOFFSETFROM:+0100
TZOFFSETTO:+0200
TZNAME:CEST
DTSTART:20250330T010000
END:DAYLIGHT
BEGIN:STANDARD
TZOFFSETFROM:+0200
TZOFFSETTO:+0100
TZNAME:CET
DTSTART:20251026T010000
END:STANDARD
END:VTIMEZONE
BEGIN:VEVENT
DTSTART;TZID=Europe/Paris:20240704T193000
DTEND;TZID=Europe/Paris:20240704T210000
DTSTAMP:20260420T102345
CREATED:20240625T093355Z
LAST-MODIFIED:20240625T094322Z
UID:6826-1720121400-1720126800@www.frenchtechcotedazur.fr
SUMMARY:Urban Party by le Club par Le Club des Entrepreneurs du Pays de Grasse
DESCRIPTION:Urban Party by le Club\nDate : 4 juillet\nHeure : 19h30\nLieu : Ancien Garage Rolland à Grasse\, Place Martelly\nDresscode: Chic en Basket\n\nDescription : Envie d’une soirée inoubliable dans un lieu mythique? Rejoignez le club le 4 juillet pour l’Urban Party dans un garage désaffecté métamorphosé en musée par les plus grands artistes graffeurs! Un événement unique en France\, et c’est à Grasse! \nVenez vivre une soirée aux 1 000 couleurs\, au cœur de la Ville de Grasse au lieu historique de l’ancien garage Rolland\, transformé par des artistes internationaux de renom dans le cadre du Festival de Poésie Urbaine. \nAu Programme : Street Food ; musique et échanges conviviaux. \nLien d’inscription : Inscrivez-vous en cliquant ici
URL:https://www.frenchtechcotedazur.fr/event/urban-party-by-le-club-par-le-club-des-entrepreneurs-du-pays-de-grasse/
ATTACH;FMTTYPE=image/png:https://www.frenchtechcotedazur.fr/wp-content/uploads/2024/06/soiree-du-club-e1719308559403.png
END:VEVENT
END:VCALENDAR