BEGIN:VCALENDAR
VERSION:2.0
PRODID:-//French Tech Côte d&#039;Azur - ECPv6.15.20//NONSGML v1.0//EN
CALSCALE:GREGORIAN
METHOD:PUBLISH
X-WR-CALNAME:French Tech Côte d&#039;Azur
X-ORIGINAL-URL:https://www.frenchtechcotedazur.fr
X-WR-CALDESC:Évènements pour French Tech Côte d&#039;Azur
REFRESH-INTERVAL;VALUE=DURATION:PT1H
X-Robots-Tag:noindex
X-PUBLISHED-TTL:PT1H
BEGIN:VTIMEZONE
TZID:Europe/Paris
BEGIN:DAYLIGHT
TZOFFSETFROM:+0100
TZOFFSETTO:+0200
TZNAME:CEST
DTSTART:20230326T010000
END:DAYLIGHT
BEGIN:STANDARD
TZOFFSETFROM:+0200
TZOFFSETTO:+0100
TZNAME:CET
DTSTART:20231029T010000
END:STANDARD
BEGIN:DAYLIGHT
TZOFFSETFROM:+0100
TZOFFSETTO:+0200
TZNAME:CEST
DTSTART:20240331T010000
END:DAYLIGHT
BEGIN:STANDARD
TZOFFSETFROM:+0200
TZOFFSETTO:+0100
TZNAME:CET
DTSTART:20241027T010000
END:STANDARD
BEGIN:DAYLIGHT
TZOFFSETFROM:+0100
TZOFFSETTO:+0200
TZNAME:CEST
DTSTART:20250330T010000
END:DAYLIGHT
BEGIN:STANDARD
TZOFFSETFROM:+0200
TZOFFSETTO:+0100
TZNAME:CET
DTSTART:20251026T010000
END:STANDARD
END:VTIMEZONE
BEGIN:VEVENT
DTSTART;VALUE=DATE:20240702
DTEND;VALUE=DATE:20240704
DTSTAMP:20260420T103008
CREATED:20230512T125110Z
LAST-MODIFIED:20240619T141654Z
UID:6805-1719878400-1720051199@www.frenchtechcotedazur.fr
SUMMARY:Azur Tech Summer 2024 par Telecom Valley
DESCRIPTION:L’Azur Tech Summer vous donne rendez-vous le 2 juillet prochain à SKEMA Business School\, Sophia Antipolis. \nL’événement incontournable pour rester à la pointe de l’innovation et des tendances du numérique\, présentées par les adhérents et les communautés de Telecom Valley pour les : décideurs\, managers\, DSI\, responsables innovation et fonctions supports \nL’Azur Tech Summer propose des conférences et des ateliers de niveaux « tous publics » à « intermédiaire » sur des sujets variés autour des tendances et usages du numérique : numérique responsable\, prospective et découverte\, l’humain au coeur du numérique\, intelligence artificielle\, cybersécurité\, agilité\, solutions pour booster votre SI\, open source\, financement de l’innovation\, et des nouvelles idées ! \nA l’Azur Tech Summer\, rencontrez l’écosystème azuréen du numérique\, échangez entre pairs ou entre experts pour vous accompagner dans votre transformation numérique ! \n\n\n\n\n\n\n\n\nPour plus d’informations sur le programme et les inscription cliquez ici.
URL:https://www.frenchtechcotedazur.fr/event/azur-tech-summer-2024-par-telecom-valley/
ATTACH;FMTTYPE=image/png:https://www.frenchtechcotedazur.fr/wp-content/uploads/2023/05/image008-e1718806468192.png
END:VEVENT
END:VCALENDAR