BEGIN:VCALENDAR
VERSION:2.0
PRODID:-//French Tech Côte d&#039;Azur - ECPv6.15.20//NONSGML v1.0//EN
CALSCALE:GREGORIAN
METHOD:PUBLISH
X-WR-CALNAME:French Tech Côte d&#039;Azur
X-ORIGINAL-URL:https://www.frenchtechcotedazur.fr
X-WR-CALDESC:Évènements pour French Tech Côte d&#039;Azur
REFRESH-INTERVAL;VALUE=DURATION:PT1H
X-Robots-Tag:noindex
X-PUBLISHED-TTL:PT1H
BEGIN:VTIMEZONE
TZID:Europe/Paris
BEGIN:DAYLIGHT
TZOFFSETFROM:+0100
TZOFFSETTO:+0200
TZNAME:CEST
DTSTART:20230326T010000
END:DAYLIGHT
BEGIN:STANDARD
TZOFFSETFROM:+0200
TZOFFSETTO:+0100
TZNAME:CET
DTSTART:20231029T010000
END:STANDARD
BEGIN:DAYLIGHT
TZOFFSETFROM:+0100
TZOFFSETTO:+0200
TZNAME:CEST
DTSTART:20240331T010000
END:DAYLIGHT
BEGIN:STANDARD
TZOFFSETFROM:+0200
TZOFFSETTO:+0100
TZNAME:CET
DTSTART:20241027T010000
END:STANDARD
BEGIN:DAYLIGHT
TZOFFSETFROM:+0100
TZOFFSETTO:+0200
TZNAME:CEST
DTSTART:20250330T010000
END:DAYLIGHT
BEGIN:STANDARD
TZOFFSETFROM:+0200
TZOFFSETTO:+0100
TZNAME:CET
DTSTART:20251026T010000
END:STANDARD
END:VTIMEZONE
BEGIN:VEVENT
DTSTART;VALUE=DATE:20240522
DTEND;VALUE=DATE:20240526
DTSTAMP:20260422T120323
CREATED:20231108T144201Z
LAST-MODIFIED:20240429T125213Z
UID:6624-1716336000-1716681599@www.frenchtechcotedazur.fr
SUMMARY:Salon Viva Technology
DESCRIPTION:La French Tech Côte d’Azur a le plaisir de vous convier au plus grand événement européen dédié aux start-up\, Viva Technology ! \n🗓️ Du 22 mai au 25 mai 2024 \n📍Paris Expo Porte de Versailles\, 1 Pl. de la Prte de Versailles\, 75015 Paris \nVenez rencontrer tous les acteurs qui font bouger l’économie et la société : start-up\, leaders technologiques\, industriels\, grandes entreprises\, investisseurs\, organismes publics… \nLe but est d’accélérer les innovations et les transformations au service des grands enjeux sociétaux\, environnementaux\, économiques et humains\, mais aussi de faire naître de nouvelles opportunités de croissance pour les entreprises et les start-up.\nPour cette nouvelle édition 2024\, l’intelligence artificielle\, la durabilité et la mobilité seront mises à l’honneur à travers des conférences\, expositions\, expériences tout au long du salon ! \nCet événement vous permettra pendant 4 jours de multiplier vos rencontres professionnelles avec des investisseurs\, des startups en présence de plus de 150 000 visiteurs et 3 000 journalistes. \nInscrivez-vous en cliquant ici
URL:https://www.frenchtechcotedazur.fr/event/salon-viva-technology/
ATTACH;FMTTYPE=image/png:https://www.frenchtechcotedazur.fr/wp-content/uploads/2023/11/image-1-e1714391284856.png
END:VEVENT
BEGIN:VEVENT
DTSTART;TZID=Europe/Paris:20240522T173000
DTEND;TZID=Europe/Paris:20240522T210000
DTSTAMP:20260422T120323
CREATED:20240507T074705Z
LAST-MODIFIED:20240507T075433Z
UID:6634-1716399000-1716411600@www.frenchtechcotedazur.fr
SUMMARY:Trophées Women In Tech Sud 2024 par WHAT06
DESCRIPTION:Les Trophées Women In Tech Sud – Mercredi 22 Mai\, Palais des Congrès d’Antibes Juan les Pins🏆👩🏼‍💻👩‍🎓👩🏾‍🔬\nSoutenez et célébrez les femmes dans le monde de la tech !\nL’association WHAT06 est heureuse de vous annoncer la tenue de la troisième édition des Trophées Women in Tech Sud ! \n📅 Mercredi 22 mai à partir de 17h30/18h \n📌 Palais des Congrès d’Antibes Juan les Pins \nAu cours de cette cérémonie\, seront élues\, sous l’égide d’un jury prestigieux\, trois femmes dont le parcours exemplaire constitue une source d’inspiration dans le domaine de la Tech. \nCe concours est destiné à mettre en valeur les femmes travaillant dans la technologie\, en France et plus particulièrement dans la Région Sud. \nLes lauréates seront choisies parmi 3 catégories distinctes : \n👉 Startupeuse dans la Tech \n👉 Chercheuse dans la Tech \n👉 Salariée dans la Tech \nPour plus d’informations sur cet événement\, veuillez consulter le site web de l’association :  www.what06.fr. \nLa cérémonie sera suivie un cocktail de clôture ou vous pourrez échanger sur la place de la femme dans l’univers de la Tech. \nPour s’inscrire\, cliquez-ici
URL:https://www.frenchtechcotedazur.fr/event/trophees-women-in-tech-sud-2024-par-what06/
ATTACH;FMTTYPE=image/png:https://www.frenchtechcotedazur.fr/wp-content/uploads/2024/05/TWITS-2024-INVITATION-1-e1715068335215.png
END:VEVENT
END:VCALENDAR