BEGIN:VCALENDAR
VERSION:2.0
PRODID:-//French Tech Côte d&#039;Azur - ECPv6.15.20//NONSGML v1.0//EN
CALSCALE:GREGORIAN
METHOD:PUBLISH
X-ORIGINAL-URL:https://www.frenchtechcotedazur.fr
X-WR-CALDESC:Évènements pour French Tech Côte d&#039;Azur
REFRESH-INTERVAL;VALUE=DURATION:PT1H
X-Robots-Tag:noindex
X-PUBLISHED-TTL:PT1H
BEGIN:VTIMEZONE
TZID:Europe/Paris
BEGIN:DAYLIGHT
TZOFFSETFROM:+0100
TZOFFSETTO:+0200
TZNAME:CEST
DTSTART:20230326T010000
END:DAYLIGHT
BEGIN:STANDARD
TZOFFSETFROM:+0200
TZOFFSETTO:+0100
TZNAME:CET
DTSTART:20231029T010000
END:STANDARD
BEGIN:DAYLIGHT
TZOFFSETFROM:+0100
TZOFFSETTO:+0200
TZNAME:CEST
DTSTART:20240331T010000
END:DAYLIGHT
BEGIN:STANDARD
TZOFFSETFROM:+0200
TZOFFSETTO:+0100
TZNAME:CET
DTSTART:20241027T010000
END:STANDARD
BEGIN:DAYLIGHT
TZOFFSETFROM:+0100
TZOFFSETTO:+0200
TZNAME:CEST
DTSTART:20250330T010000
END:DAYLIGHT
BEGIN:STANDARD
TZOFFSETFROM:+0200
TZOFFSETTO:+0100
TZNAME:CET
DTSTART:20251026T010000
END:STANDARD
END:VTIMEZONE
BEGIN:VEVENT
DTSTART;TZID=Europe/Paris:20240521T180000
DTEND;TZID=Europe/Paris:20240521T200000
DTSTAMP:20260422T113857
CREATED:20231108T144201Z
LAST-MODIFIED:20240429T093951Z
UID:6621-1716314400-1716321600@www.frenchtechcotedazur.fr
SUMMARY:Booste ton CA en 50 min par Nice Start(s) Up
DESCRIPTION:Nice Strat(s) Up vous invite à son événement « Booste ton CA en 50 min » co-organisé en partenariat avec Rocket School \n🗓️ Mardi 21 mai 2024 de 18h à 20h \n📍 Hub de l’Innovation – Métropole Nice Côte d’Azur\, 61-63 Av. Simone Veil\, 06200 Nice \nVous cherchez à développer votre business ? Besoin de plus de clients pour augmenter votre chiffre d’affaires ?\nCet événement est fait pour vous ! Vous apprendrez quels outils et process mettre en place pour générer des prospects mais aussi : \n\nAutomatiser la création de listes de leads\nEnrichir automatiquement des listes de leads avec des emails et des numéros de téléphone\nAutomatiser et personnaliser la prise de contact par email et par LinkedIn\n\nLe CEO de Rocket School\, Cyril Pierre de Geyer\, fera une démonstration en temps réel pour cibler et engager des leads. \nInscrivez-vous en cliquant ici
URL:https://www.frenchtechcotedazur.fr/event/booste-ton-ca-en-50-min-par-nice-starts-up/
ATTACH;FMTTYPE=image/jpeg:https://www.frenchtechcotedazur.fr/wp-content/uploads/2023/11/https-cdn.evbuc_.com-images-752948429-274155391508-1-original.20240426-082232.jpeg
END:VEVENT
END:VCALENDAR