BEGIN:VCALENDAR
VERSION:2.0
PRODID:-//French Tech Côte d&#039;Azur - ECPv6.15.20//NONSGML v1.0//EN
CALSCALE:GREGORIAN
METHOD:PUBLISH
X-WR-CALNAME:French Tech Côte d&#039;Azur
X-ORIGINAL-URL:https://www.frenchtechcotedazur.fr
X-WR-CALDESC:Évènements pour French Tech Côte d&#039;Azur
REFRESH-INTERVAL;VALUE=DURATION:PT1H
X-Robots-Tag:noindex
X-PUBLISHED-TTL:PT1H
BEGIN:VTIMEZONE
TZID:Europe/Paris
BEGIN:DAYLIGHT
TZOFFSETFROM:+0100
TZOFFSETTO:+0200
TZNAME:CEST
DTSTART:20230326T010000
END:DAYLIGHT
BEGIN:STANDARD
TZOFFSETFROM:+0200
TZOFFSETTO:+0100
TZNAME:CET
DTSTART:20231029T010000
END:STANDARD
BEGIN:DAYLIGHT
TZOFFSETFROM:+0100
TZOFFSETTO:+0200
TZNAME:CEST
DTSTART:20240331T010000
END:DAYLIGHT
BEGIN:STANDARD
TZOFFSETFROM:+0200
TZOFFSETTO:+0100
TZNAME:CET
DTSTART:20241027T010000
END:STANDARD
BEGIN:DAYLIGHT
TZOFFSETFROM:+0100
TZOFFSETTO:+0200
TZNAME:CEST
DTSTART:20250330T010000
END:DAYLIGHT
BEGIN:STANDARD
TZOFFSETFROM:+0200
TZOFFSETTO:+0100
TZNAME:CET
DTSTART:20251026T010000
END:STANDARD
END:VTIMEZONE
BEGIN:VEVENT
DTSTART;TZID=Europe/Paris:20240418T180000
DTEND;TZID=Europe/Paris:20240418T230000
DTSTAMP:20260422T125723
CREATED:20240314T105008Z
LAST-MODIFIED:20240327T155602Z
UID:6507-1713463200-1713481200@www.frenchtechcotedazur.fr
SUMMARY:Les Rencontres de l'#IA et du Vivant - organisée par le CJD Nice Côte d'Azur et Crédit Agricole Provence Côte d'Azur
DESCRIPTION:18 avril 2024 – 18h – Stade Allianz Riviera à Nice \nPour cette 2ème édition\,  Cyril Dion\, Asma Mhalla\, Arthur Auboeuf et Théo Alves Da Costa seront présents ! \nL’objectif ? Eclairer collectivement sur le rôle actuel de l’intelligence artificielle (IA) dans notre société et d’explorer les implications futures de son évolution à travers un dialogue collectif enrichissant. \nPour plus d’informations et s’inscrire : https://www.lesrencontresducjdnice.org/
URL:https://www.frenchtechcotedazur.fr/event/les-rencontres-de-lia-et-du-vivant-organisee-par-le-cjd-nice-cote-dazur-et-credit-agricole-provence-cote-dazur/
ATTACH;FMTTYPE=image/jpeg:https://www.frenchtechcotedazur.fr/wp-content/uploads/2024/03/1080-x1080_CJD.jpg
END:VEVENT
END:VCALENDAR