BEGIN:VCALENDAR
VERSION:2.0
PRODID:-//French Tech Côte d&#039;Azur - ECPv6.15.20//NONSGML v1.0//EN
CALSCALE:GREGORIAN
METHOD:PUBLISH
X-WR-CALNAME:French Tech Côte d&#039;Azur
X-ORIGINAL-URL:https://www.frenchtechcotedazur.fr
X-WR-CALDESC:Évènements pour French Tech Côte d&#039;Azur
REFRESH-INTERVAL;VALUE=DURATION:PT1H
X-Robots-Tag:noindex
X-PUBLISHED-TTL:PT1H
BEGIN:VTIMEZONE
TZID:Europe/Paris
BEGIN:DAYLIGHT
TZOFFSETFROM:+0100
TZOFFSETTO:+0200
TZNAME:CEST
DTSTART:20230326T010000
END:DAYLIGHT
BEGIN:STANDARD
TZOFFSETFROM:+0200
TZOFFSETTO:+0100
TZNAME:CET
DTSTART:20231029T010000
END:STANDARD
BEGIN:DAYLIGHT
TZOFFSETFROM:+0100
TZOFFSETTO:+0200
TZNAME:CEST
DTSTART:20240331T010000
END:DAYLIGHT
BEGIN:STANDARD
TZOFFSETFROM:+0200
TZOFFSETTO:+0100
TZNAME:CET
DTSTART:20241027T010000
END:STANDARD
BEGIN:DAYLIGHT
TZOFFSETFROM:+0100
TZOFFSETTO:+0200
TZNAME:CEST
DTSTART:20250330T010000
END:DAYLIGHT
BEGIN:STANDARD
TZOFFSETFROM:+0200
TZOFFSETTO:+0100
TZNAME:CET
DTSTART:20251026T010000
END:STANDARD
END:VTIMEZONE
BEGIN:VEVENT
DTSTART;TZID=Europe/Paris:20240411T090000
DTEND;TZID=Europe/Paris:20240411T160000
DTSTAMP:20260422T125722
CREATED:20240213T135602Z
LAST-MODIFIED:20240327T155430Z
UID:6527-1712826000-1712851200@www.frenchtechcotedazur.fr
SUMMARY:Conférence Deeptech Cyber par Telecom Valley
DESCRIPTION:Telecom Valley vous convient à une conférence Deeptech « Comprendre les grands enjeux de la cyber et les projets structurants en région Sud » en partenariat avec Pôle SCS\, Le Village by CA\, Crédit Agricole Provence Côte d’Azur\, Cyberium\, NERO\, ECoVEM\, Sophia Club Entreprises qui se tiendra: \n📅 Jeudi 11 avril 2024 à 9h à 16h \n📌 Village by CA – Sophia Antipolis\, Rue Claude Daunesse\, 06560 Valbonne \nL’objectif de cette conférence est de comprendre les grands enjeux de la cyber\, les projets structurants en région Sud ainsi que l’impact des réglementations européennes et françaises sur les acteurs dans la chaine de valeur\, et l’analyse des menaces et des protections/solutions mises en place dans différents domaines. \nDe nombreux speakers sont attendus pour l’occasion comme Célia Nowak\, Déléguée régionale à la sécurité numérique\, ANSSI ou encore Nicolas Barbier\, Expert Cybersécurité\, In Extenso Innovation et bien d’autres encore ! \nProgramme :  \n\n9h00 Accueil par Village by CA\n9h30 Ouverture par le directeur du Pôle SCS\n9h45 Panorama de la cybermenace en 2023 – C. Nowak ANSSI\n10h10 Session 1 format table ronde : Quelles initiatives structurantes en Région Sud et pour quels bénéficiaires ?\n\nCampus Cyber Région SUD – Région Sud & CASA (Sophia-Antipolis)\nNouveau « Bouclier cyber » : protégez votre PME – Région Sud\nProjet EDIH Move2Digital – N. Barbier\, In Extenso Innovation & G. Martinez\, Pôle SCS\nCyber in Toulon – D. Hassko\, Urgence Cyber PME\n\n\n11h00 Session 2 – Répondre aux enjeux de la cyber et se mettre aux normes\n\nPourquoi les réglementations  NIS2 et CRA (Cyber Resilience Act) sont des opportunités pour les PME ? – EURECOM\nEnvie de travailler avec la DGA? adoptez le nouveau référentiel de maturité cyber – F. Didier\, Direction Générale de l’Armement\n\n\n11h30 Session 3 – Pitch Expertise pour répondre aux enjeux cyber\n\nSécurité et segmentation des réseaux – Cyberium\nAnalyse et sécurisation de code – MOABI\nSécurisation matérielle\nDeep Fake: Protégez vos contenus – KeeeX\nCloud de proximité : vers un écosystème numérique durable et responsable – TAS cloud services\n\n\n12h10 Pitch sponsor Cyberium\n12h15 Cocktail dejeunatoire et showroom\n13h30 En parallèle et au choix\n\nAtelier « Financez votre projet Cyber avec France2030 » – N. Lepagnot et G. Martinez\, Pôle SCS\nAtelier « Optimisez l’impact environnemental de la cyber » – D. Marie-Hardy\, In Extenso Innovation\nAtelier « Security-by-design » – S. Schohn\, Pôle SCS\n\n\n14h RDV B2B\n16h Fin\n\nÉvénement payant* sur inscription : lien d’inscription \n*(Tarif partenaire à 60€ pour les adhérents de Telecom Valley)
URL:https://www.frenchtechcotedazur.fr/event/conference-deeptech-cyber-par-telecom-valley/
ATTACH;FMTTYPE=image/png:https://www.frenchtechcotedazur.fr/wp-content/uploads/2024/02/Conference-Deeptech-Cyber-4-e1711548503367.png
END:VEVENT
BEGIN:VEVENT
DTSTART;TZID=Europe/Paris:20240411T100000
DTEND;TZID=Europe/Paris:20240411T180000
DTSTAMP:20260422T125722
CREATED:20240213T135602Z
LAST-MODIFIED:20240328T163114Z
UID:6567-1712829600-1712858400@www.frenchtechcotedazur.fr
SUMMARY:Spring Tech : Investissez pour l'avenir\, venez rencontrer des startups à fort potentiel
DESCRIPTION:Le Spring Tech réunira 20 start up azuréennes mâtures\, proposant des produits innovants\, prêts à être utilisés\, dans le domaine de la cybersécurité\, de l’IA\, de la gestion des datas\, de l’IoT\, des télécoms et des RH. Cet événement se tiendra: \n📅 Jeudi 11 avril 2024 à 10h à 18h \n📌Hub de l’Innovation – Métropole Nice Côte d’Azur\, 61-63 Av. Simone Veil\, 06200 Nice \nLe but est de faire rencontrer les donneurs d’ordre et acheteurs de notre territoire avec des pépites tech de la Région Sud pour  faire en sorte que les deux univers se connaissent pour mieux travailler ensemble ! \nL’intérêt pour vous : trouver des solutions répondant à vos attentes de PME ou de grands comptes\, développées directement sur notre métropole et les territoires voisins\, avec tous les bénéfices que l’on peut attendre d’une relation de proximité. \nPour plus d’information et vous inscrire à l’événement cliquez ici 
URL:https://www.frenchtechcotedazur.fr/event/spring-tech-investissez-pour-lavenir-venez-rencontrer-des-startups-a-fort-potentiel/
ATTACH;FMTTYPE=image/png:https://www.frenchtechcotedazur.fr/wp-content/uploads/2024/02/Signature-Mail-Spring-Tech-2024_970-x-250-1.png
END:VEVENT
END:VCALENDAR