BEGIN:VCALENDAR
VERSION:2.0
PRODID:-//French Tech Côte d&#039;Azur - ECPv6.15.20//NONSGML v1.0//EN
CALSCALE:GREGORIAN
METHOD:PUBLISH
X-WR-CALNAME:French Tech Côte d&#039;Azur
X-ORIGINAL-URL:https://www.frenchtechcotedazur.fr
X-WR-CALDESC:Évènements pour French Tech Côte d&#039;Azur
REFRESH-INTERVAL;VALUE=DURATION:PT1H
X-Robots-Tag:noindex
X-PUBLISHED-TTL:PT1H
BEGIN:VTIMEZONE
TZID:Europe/Paris
BEGIN:DAYLIGHT
TZOFFSETFROM:+0100
TZOFFSETTO:+0200
TZNAME:CEST
DTSTART:20230326T010000
END:DAYLIGHT
BEGIN:STANDARD
TZOFFSETFROM:+0200
TZOFFSETTO:+0100
TZNAME:CET
DTSTART:20231029T010000
END:STANDARD
BEGIN:DAYLIGHT
TZOFFSETFROM:+0100
TZOFFSETTO:+0200
TZNAME:CEST
DTSTART:20240331T010000
END:DAYLIGHT
BEGIN:STANDARD
TZOFFSETFROM:+0200
TZOFFSETTO:+0100
TZNAME:CET
DTSTART:20241027T010000
END:STANDARD
BEGIN:DAYLIGHT
TZOFFSETFROM:+0100
TZOFFSETTO:+0200
TZNAME:CEST
DTSTART:20250330T010000
END:DAYLIGHT
BEGIN:STANDARD
TZOFFSETFROM:+0200
TZOFFSETTO:+0100
TZNAME:CET
DTSTART:20251026T010000
END:STANDARD
END:VTIMEZONE
BEGIN:VEVENT
DTSTART;TZID=Europe/Paris:20240326T190000
DTEND;TZID=Europe/Paris:20240326T210000
DTSTAMP:20260422T141756
CREATED:20231108T144201Z
LAST-MODIFIED:20240301T151530Z
UID:6469-1711479600-1711486800@www.frenchtechcotedazur.fr
SUMMARY:Afterwork "L’Art et l’Innovation" par Nice Start(s) Up
DESCRIPTION:Nice Strat(s) Up vous invite à son événement co-organisé en partenariat avec Diapo.io. \n🗓️ Jeudi 26 mars 2024 de 19h à 21h \n📍 Galerie Ephémère\, 62 Avenue Pierre de Coubertin\, 06200 Nice \nVenez découvrir comment\, de la toile en lin aux écrans numériques\, l’art du collage continue de capturer l’essence de notre époque\, témoignant de la constante évolution de l’expression artistique à travers les âges ! \nNice Start(s) Up profitera de ce moment pour  vous présenter leurs membres qui évoluent dans le domaine de l’Industrie Culturelle et Créative dont les écoles Isart & E-ArtSup. \nUn cocktail sera servi à l’issue pour un moment de networking ! \nInscrivez-vous en cliquant ici
URL:https://www.frenchtechcotedazur.fr/event/afterwork-lart-et-linnovation-par-nice-starts-up/
ATTACH;FMTTYPE=image/png:https://www.frenchtechcotedazur.fr/wp-content/uploads/2023/11/publi-insta-Afterwork-NSU-diapo.io_-e1709306087758.png
END:VEVENT
END:VCALENDAR