BEGIN:VCALENDAR
VERSION:2.0
PRODID:-//French Tech Côte d&#039;Azur - ECPv6.15.20//NONSGML v1.0//EN
CALSCALE:GREGORIAN
METHOD:PUBLISH
X-ORIGINAL-URL:https://www.frenchtechcotedazur.fr
X-WR-CALDESC:Évènements pour French Tech Côte d&#039;Azur
REFRESH-INTERVAL;VALUE=DURATION:PT1H
X-Robots-Tag:noindex
X-PUBLISHED-TTL:PT1H
BEGIN:VTIMEZONE
TZID:Europe/Paris
BEGIN:DAYLIGHT
TZOFFSETFROM:+0100
TZOFFSETTO:+0200
TZNAME:CEST
DTSTART:20230326T010000
END:DAYLIGHT
BEGIN:STANDARD
TZOFFSETFROM:+0200
TZOFFSETTO:+0100
TZNAME:CET
DTSTART:20231029T010000
END:STANDARD
BEGIN:DAYLIGHT
TZOFFSETFROM:+0100
TZOFFSETTO:+0200
TZNAME:CEST
DTSTART:20240331T010000
END:DAYLIGHT
BEGIN:STANDARD
TZOFFSETFROM:+0200
TZOFFSETTO:+0100
TZNAME:CET
DTSTART:20241027T010000
END:STANDARD
BEGIN:DAYLIGHT
TZOFFSETFROM:+0100
TZOFFSETTO:+0200
TZNAME:CEST
DTSTART:20250330T010000
END:DAYLIGHT
BEGIN:STANDARD
TZOFFSETFROM:+0200
TZOFFSETTO:+0100
TZNAME:CET
DTSTART:20251026T010000
END:STANDARD
END:VTIMEZONE
BEGIN:VEVENT
DTSTART;TZID=Europe/Paris:20240208T090000
DTEND;TZID=Europe/Paris:20240210T170000
DTSTAMP:20260422T154820
CREATED:20240130T162313Z
LAST-MODIFIED:20240130T162813Z
UID:6347-1707382800-1707584400@www.frenchtechcotedazur.fr
SUMMARY:La French Tech Côte d'Azur sera présente au WAICF 2024
DESCRIPTION:La French Tech Côte d’Azur est heureuse de vous annoncer sa présence au WAICF 2024  :\n\n📅 Les 8 et 9 février 2024\n📍 Palais des Festivals et des Congrès de Cannes\, La Croisette\, 06414 CANNES\n\n  \nOu nous trouver ?\n\n🗨️ Au Stand B40 les 8 et 9 février\n🎤 Lors de la Conférence “France 2030 et IA” le 9 février à 11h30\n\n🤖 Cet événement international dédié à l’intelligence artificielle (IA) rassemble des organisations et des individus pour explorer la façon dont l‘IA façonnera l’avenir des entreprises et de notre société \nL’occasion de vous mettre en contact avec des acteurs de notre écosystème spécialisé dans le domaine ! Nous avons hâte de vous y retrouver ! 🗨️ \nPrenez votre pass juste ici 
URL:https://www.frenchtechcotedazur.fr/event/la-french-tech-cote-dazur-sera-presente-au-waicf-2024/
ATTACH;FMTTYPE=image/jpeg:https://www.frenchtechcotedazur.fr/wp-content/uploads/2024/01/Design-sans-titre-6-e1706632066923.jpg
END:VEVENT
END:VCALENDAR