BEGIN:VCALENDAR
VERSION:2.0
PRODID:-//French Tech Côte d&#039;Azur - ECPv6.15.20//NONSGML v1.0//EN
CALSCALE:GREGORIAN
METHOD:PUBLISH
X-WR-CALNAME:French Tech Côte d&#039;Azur
X-ORIGINAL-URL:https://www.frenchtechcotedazur.fr
X-WR-CALDESC:Évènements pour French Tech Côte d&#039;Azur
REFRESH-INTERVAL;VALUE=DURATION:PT1H
X-Robots-Tag:noindex
X-PUBLISHED-TTL:PT1H
BEGIN:VTIMEZONE
TZID:Europe/Paris
BEGIN:DAYLIGHT
TZOFFSETFROM:+0100
TZOFFSETTO:+0200
TZNAME:CEST
DTSTART:20230326T010000
END:DAYLIGHT
BEGIN:STANDARD
TZOFFSETFROM:+0200
TZOFFSETTO:+0100
TZNAME:CET
DTSTART:20231029T010000
END:STANDARD
BEGIN:DAYLIGHT
TZOFFSETFROM:+0100
TZOFFSETTO:+0200
TZNAME:CEST
DTSTART:20240331T010000
END:DAYLIGHT
BEGIN:STANDARD
TZOFFSETFROM:+0200
TZOFFSETTO:+0100
TZNAME:CET
DTSTART:20241027T010000
END:STANDARD
BEGIN:DAYLIGHT
TZOFFSETFROM:+0100
TZOFFSETTO:+0200
TZNAME:CEST
DTSTART:20250330T010000
END:DAYLIGHT
BEGIN:STANDARD
TZOFFSETFROM:+0200
TZOFFSETTO:+0100
TZNAME:CET
DTSTART:20251026T010000
END:STANDARD
END:VTIMEZONE
BEGIN:VEVENT
DTSTART;TZID=Europe/Paris:20240126T083000
DTEND;TZID=Europe/Paris:20240126T110000
DTSTAMP:20260422T173011
CREATED:20231108T144201Z
LAST-MODIFIED:20240124T144243Z
UID:6323-1706257800-1706266800@www.frenchtechcotedazur.fr
SUMMARY:Conférence Loi de Finances 2024 par PKF Arslion
DESCRIPTION:PKF Arsilon et ses experts auront le le plaisir de déchiffrer la Loi de Finances 2024 ainsi que les dernières publications de l’Administration. \n🗓️ Vendredi 26 Janvier de 8h30 à 11h \n📍 CROWNE PLAZA Grand Arenas\, Rue Costes et Bellonte \, 06200 Nice \nPour plus d’information et vous inscrire\, cliquez ici  \n 
URL:https://www.frenchtechcotedazur.fr/event/conference-loi-de-finances-2024-par-pkf-arslion/
ATTACH;FMTTYPE=image/png:https://www.frenchtechcotedazur.fr/wp-content/uploads/2023/11/Capture-decran-2024-01-24-a-15.35.11.png
END:VEVENT
END:VCALENDAR