BEGIN:VCALENDAR
VERSION:2.0
PRODID:-//French Tech Côte d&#039;Azur - ECPv6.15.20//NONSGML v1.0//EN
CALSCALE:GREGORIAN
METHOD:PUBLISH
X-WR-CALNAME:French Tech Côte d&#039;Azur
X-ORIGINAL-URL:https://www.frenchtechcotedazur.fr
X-WR-CALDESC:Évènements pour French Tech Côte d&#039;Azur
REFRESH-INTERVAL;VALUE=DURATION:PT1H
X-Robots-Tag:noindex
X-PUBLISHED-TTL:PT1H
BEGIN:VTIMEZONE
TZID:Europe/Paris
BEGIN:DAYLIGHT
TZOFFSETFROM:+0100
TZOFFSETTO:+0200
TZNAME:CEST
DTSTART:20230326T010000
END:DAYLIGHT
BEGIN:STANDARD
TZOFFSETFROM:+0200
TZOFFSETTO:+0100
TZNAME:CET
DTSTART:20231029T010000
END:STANDARD
BEGIN:DAYLIGHT
TZOFFSETFROM:+0100
TZOFFSETTO:+0200
TZNAME:CEST
DTSTART:20240331T010000
END:DAYLIGHT
BEGIN:STANDARD
TZOFFSETFROM:+0200
TZOFFSETTO:+0100
TZNAME:CET
DTSTART:20241027T010000
END:STANDARD
BEGIN:DAYLIGHT
TZOFFSETFROM:+0100
TZOFFSETTO:+0200
TZNAME:CEST
DTSTART:20250330T010000
END:DAYLIGHT
BEGIN:STANDARD
TZOFFSETFROM:+0200
TZOFFSETTO:+0100
TZNAME:CET
DTSTART:20251026T010000
END:STANDARD
END:VTIMEZONE
BEGIN:VEVENT
DTSTART;TZID=Europe/Paris:20240125T190000
DTEND;TZID=Europe/Paris:20240125T220000
DTSTAMP:20260422T183206
CREATED:20231108T144201Z
LAST-MODIFIED:20240116T085640Z
UID:6257-1706209200-1706220000@www.frenchtechcotedazur.fr
SUMMARY:Ap€uro #5 - Faire les bons choix au bon moment pour développer ta startup
DESCRIPTION:Nice Strat(s) Up vous invite à la cinquième édition de leur Ap€uro co-organisé en partenariat avec le cabinet d’experts-comptable DSO. \n🗓️ Jeudi 25 Janvier à 19h \n📍 Startway Coworking Nice Ville\, l’entrée se fera par le 23 Avenue Thiers 06000 Nice \nCet événement  » Faire les bons choix au bon moment pour développer ta start-up  » vous offrira toutes les réponses que vous attendez concernant le développement de votre start-up. \nChristophe RIGODON\, Directeur du développement et Nicolas BENZERNADJI\, Expert-comptable au sein du cabinet DSO auront le plaisir de vous faire bénéficier de leur expertise dans le domaine. \nInscrivez-vous en cliquant ici
URL:https://www.frenchtechcotedazur.fr/event/apeuro-5-faire-les-bons-choix-au-bon-moment-pour-developper-ta-startup/
ATTACH;FMTTYPE=image/png:https://www.frenchtechcotedazur.fr/wp-content/uploads/2023/11/apEuro-publi-insta-e1705394862328.png
END:VEVENT
END:VCALENDAR