BEGIN:VCALENDAR
VERSION:2.0
PRODID:-//French Tech Côte d&#039;Azur - ECPv6.15.20//NONSGML v1.0//EN
CALSCALE:GREGORIAN
METHOD:PUBLISH
X-WR-CALNAME:French Tech Côte d&#039;Azur
X-ORIGINAL-URL:https://www.frenchtechcotedazur.fr
X-WR-CALDESC:Évènements pour French Tech Côte d&#039;Azur
REFRESH-INTERVAL;VALUE=DURATION:PT1H
X-Robots-Tag:noindex
X-PUBLISHED-TTL:PT1H
BEGIN:VTIMEZONE
TZID:Europe/Paris
BEGIN:DAYLIGHT
TZOFFSETFROM:+0100
TZOFFSETTO:+0200
TZNAME:CEST
DTSTART:20230326T010000
END:DAYLIGHT
BEGIN:STANDARD
TZOFFSETFROM:+0200
TZOFFSETTO:+0100
TZNAME:CET
DTSTART:20231029T010000
END:STANDARD
BEGIN:DAYLIGHT
TZOFFSETFROM:+0100
TZOFFSETTO:+0200
TZNAME:CEST
DTSTART:20240331T010000
END:DAYLIGHT
BEGIN:STANDARD
TZOFFSETFROM:+0200
TZOFFSETTO:+0100
TZNAME:CET
DTSTART:20241027T010000
END:STANDARD
BEGIN:DAYLIGHT
TZOFFSETFROM:+0100
TZOFFSETTO:+0200
TZNAME:CEST
DTSTART:20250330T010000
END:DAYLIGHT
BEGIN:STANDARD
TZOFFSETFROM:+0200
TZOFFSETTO:+0100
TZNAME:CET
DTSTART:20251026T010000
END:STANDARD
END:VTIMEZONE
BEGIN:VEVENT
DTSTART;TZID=Europe/Paris:20240115T113000
DTEND;TZID=Europe/Paris:20240115T121500
DTSTAMP:20260422T171101
CREATED:20231113T155124Z
LAST-MODIFIED:20231219T092005Z
UID:6150-1705318200-1705320900@www.frenchtechcotedazur.fr
SUMMARY:Atelier “Kit de Survie pour le Développement d’une Application Mobile” au Hub de l'Innovation
DESCRIPTION:Le Hub de l’Innovation vous invite à participer à un webinaire “Kit de Survie pour le Développement d’une Application Mobile” animé par Pierre Yves DITLOT de Ledgity\, afin de vous donner les meilleurs conseils pour éviter les pièges courants et optimiser le processus de développement de votre application mobile. \n🗓 Lundi 15  janvier 2024 de 11h30 à 12h15\n📍 Hub de l’Innovation\, 61-63 Av. Simone Veil\, 06200 Nice \nCet événement vous permettra d’en savoir plus sur les erreurs à éviter lorsque vous souhaitez développer votre application mobile mais aussi d’échanger avec des experts dans le domaine qui vous donneront des conseils et astuces pour votre développement. \nTout au long de cet atelier\, vous apprendrez les fondamentaux du développement d’applications\, de sa conception jusqu’à la mise en marché\,  mais aussi les stratégies à adopter pour pour minimiser et gérer la dette technique ou encore comment allouer efficacement des ressources financières pour maximiser un retour sur investissement. \nStartups et entrepreneurs cherchant à lancer votre première application mobile\, développeurs et concepteurs d’applications désireux d’améliorer vos compétences ou encore gestionnaires de projets numériques voulant comprendre les meilleures pratiques en développement d’applications mobiles\, cet atelier est fait pour vous !  \nPour plus de renseignement et vous inscrire à l’évènement cliquez ici
URL:https://www.frenchtechcotedazur.fr/event/6150/
ATTACH;FMTTYPE=image/png:https://www.frenchtechcotedazur.fr/wp-content/uploads/2023/11/Atelier-ledgity-e1702975678349.png
END:VEVENT
END:VCALENDAR