BEGIN:VCALENDAR
VERSION:2.0
PRODID:-//French Tech Côte d&#039;Azur - ECPv6.15.20//NONSGML v1.0//EN
CALSCALE:GREGORIAN
METHOD:PUBLISH
X-WR-CALNAME:French Tech Côte d&#039;Azur
X-ORIGINAL-URL:https://www.frenchtechcotedazur.fr
X-WR-CALDESC:Évènements pour French Tech Côte d&#039;Azur
REFRESH-INTERVAL;VALUE=DURATION:PT1H
X-Robots-Tag:noindex
X-PUBLISHED-TTL:PT1H
BEGIN:VTIMEZONE
TZID:Europe/Paris
BEGIN:DAYLIGHT
TZOFFSETFROM:+0100
TZOFFSETTO:+0200
TZNAME:CEST
DTSTART:20220327T010000
END:DAYLIGHT
BEGIN:STANDARD
TZOFFSETFROM:+0200
TZOFFSETTO:+0100
TZNAME:CET
DTSTART:20221030T010000
END:STANDARD
BEGIN:DAYLIGHT
TZOFFSETFROM:+0100
TZOFFSETTO:+0200
TZNAME:CEST
DTSTART:20230326T010000
END:DAYLIGHT
BEGIN:STANDARD
TZOFFSETFROM:+0200
TZOFFSETTO:+0100
TZNAME:CET
DTSTART:20231029T010000
END:STANDARD
BEGIN:DAYLIGHT
TZOFFSETFROM:+0100
TZOFFSETTO:+0200
TZNAME:CEST
DTSTART:20240331T010000
END:DAYLIGHT
BEGIN:STANDARD
TZOFFSETFROM:+0200
TZOFFSETTO:+0100
TZNAME:CET
DTSTART:20241027T010000
END:STANDARD
END:VTIMEZONE
BEGIN:VEVENT
DTSTART;TZID=Europe/Paris:20231214T090000
DTEND;TZID=Europe/Paris:20231214T170000
DTSTAMP:20260422T195742
CREATED:20231121T135809Z
LAST-MODIFIED:20231121T135809Z
UID:5864-1702544400-1702573200@www.frenchtechcotedazur.fr
SUMMARY:Learning Days 2 : Eloquence : Je communique avec impact par Cannes Is Up
DESCRIPTION:Après un succès fulgurant lors de la première édition\, Cannes Is Up et la Communauté d’Agglomération Cannes Lérins sont heureux de vous convier à la seconde édition du Learning Days animé par Anne TOPENOT autour de la thématique : Éloquence : Je communique avec impact 2 👊🏻 \n⚡️ Jeudi 14 décembre de 9h00 à 17h00\n📍 Campus George Méliès\, Cité d’entreprise\, 06150 Cannes\n🥗/🚗 Repas pris en charge – Parking gratuit \nPour cette seconde édition\, ce n’est pas un mais deux intervenants qui animeront cette journée de formation : Anne Topenot conférencière\, formatrice et coach en communication sera accompagnée de Aurélien Chapeau-Theric\, coach en performances mentales\, spécialisé en Neurosciences (étude du système nerveux). \nCet accompagnement\, sur une journée\, vous aidera à approfondir votre impact oratoire lors de vos conférences\, présentations et interactions avec un public en présentiel ou distanciel.😉 \nTout deux vous apporteront un peu de théorie et beaucoup de pratique pour développer confiance\, aisance\, compétence et influence dans votre cercle personnel et professionnel.🤝 \nUne journée placée sous le signe d’Oser : Oser enfin sortir de notre zone de confort et faire de cet exercice un véritable art et un allié.🎤🚀 \nToutes les informations sur la formation ainsi que l’inscription juste-ici 👉🏻 Inscription
URL:https://www.frenchtechcotedazur.fr/event/learning-days-2-eloquence-je-communique-avec-impact-par-cannes-is-up/
ATTACH;FMTTYPE=image/jpeg:https://www.frenchtechcotedazur.fr/wp-content/uploads/2023/11/WhatsApp-Image-2023-11-20-at-11.27.26.jpeg
END:VEVENT
BEGIN:VEVENT
DTSTART;TZID=Europe/Paris:20231214T183000
DTEND;TZID=Europe/Paris:20231214T220000
DTSTAMP:20260422T195742
CREATED:20231121T140736Z
LAST-MODIFIED:20231121T141931Z
UID:5870-1702578600-1702591200@www.frenchtechcotedazur.fr
SUMMARY:Welcome Christmas Party par Cannes Is Up
DESCRIPTION:Bienvenue au Noël de Cannes Is Up ! 🌟 \nVous êtes conviés à leur soirée de Noël qui se déroulera au marché de Noël de Cannes le jeudi 14 décembre 2023 à 18h30. 🎄 \nAu programme\, des vins chauds délicieux 🍷\, des moments d’échange chaleureux 🗣️\, et leur incontournable concours de pull moche de Noël.✨ \nEnfilez votre pull moche de Noël et tentez de remporter 2 places pour le DDA7 ⭐️ \n\n📆 Date : jeudi 14 décembre 2023\n🕕 Heure : 18h30\n📍 Lieu : Marché de Noël de Cannes – Allées de la Liberté 06400 Cannes\n\nInscription obligatoire 👉🏻 Cliquez ici
URL:https://www.frenchtechcotedazur.fr/event/welcome-christmas-party-par-cannes-is-up/
ATTACH;FMTTYPE=image/jpeg:https://www.frenchtechcotedazur.fr/wp-content/uploads/2023/11/WhatsApp-Image-2023-11-20-at-11.27.26-1-e1700575547967.jpeg
END:VEVENT
END:VCALENDAR