BEGIN:VCALENDAR
VERSION:2.0
PRODID:-//French Tech Côte d&#039;Azur - ECPv6.15.20//NONSGML v1.0//EN
CALSCALE:GREGORIAN
METHOD:PUBLISH
X-WR-CALNAME:French Tech Côte d&#039;Azur
X-ORIGINAL-URL:https://www.frenchtechcotedazur.fr
X-WR-CALDESC:Évènements pour French Tech Côte d&#039;Azur
REFRESH-INTERVAL;VALUE=DURATION:PT1H
X-Robots-Tag:noindex
X-PUBLISHED-TTL:PT1H
BEGIN:VTIMEZONE
TZID:Europe/Paris
BEGIN:DAYLIGHT
TZOFFSETFROM:+0100
TZOFFSETTO:+0200
TZNAME:CEST
DTSTART:20220327T010000
END:DAYLIGHT
BEGIN:STANDARD
TZOFFSETFROM:+0200
TZOFFSETTO:+0100
TZNAME:CET
DTSTART:20221030T010000
END:STANDARD
BEGIN:DAYLIGHT
TZOFFSETFROM:+0100
TZOFFSETTO:+0200
TZNAME:CEST
DTSTART:20230326T010000
END:DAYLIGHT
BEGIN:STANDARD
TZOFFSETFROM:+0200
TZOFFSETTO:+0100
TZNAME:CET
DTSTART:20231029T010000
END:STANDARD
BEGIN:DAYLIGHT
TZOFFSETFROM:+0100
TZOFFSETTO:+0200
TZNAME:CEST
DTSTART:20240331T010000
END:DAYLIGHT
BEGIN:STANDARD
TZOFFSETFROM:+0200
TZOFFSETTO:+0100
TZNAME:CET
DTSTART:20241027T010000
END:STANDARD
END:VTIMEZONE
BEGIN:VEVENT
DTSTART;TZID=Europe/Paris:20231207T090000
DTEND;TZID=Europe/Paris:20231207T180000
DTSTAMP:20260422T185408
CREATED:20230906T085405Z
LAST-MODIFIED:20231027T104654Z
UID:5533-1701939600-1701972000@www.frenchtechcotedazur.fr
SUMMARY:Le salon des dirigeants d'entreprise par Les Entreprenariales
DESCRIPTION:Venez rencontrer des acteurs de l’économie locale pour vous aider à la gestion et à la création de votre entreprise.\nCe salon vous permettra de trouver des solutions concrètes à vos problématiques de développement et de management. \n\nQuand : Le jeudi 7 décembre 2023 de 9 heures à 18 heures\nLieu : Allianz Rivera – Stade de Nice\n\nLe salon des dirigeants d’entreprise des Entreprenariales c’est : 2000 m² d’exposition\, de conférences\, tables rondes et d’animations\, sur deux niveaux… \nPour plus d’informations\, il vous suffit de cliquer ici \n  \n 
URL:https://www.frenchtechcotedazur.fr/event/le-salon-des-dirigeants-dentreprise-par-les-entreprenariales/
ATTACH;FMTTYPE=image/jpeg:https://www.frenchtechcotedazur.fr/wp-content/uploads/2023/09/BANNIERE-1024X229-2022-150DPI-1-e1698402777286.jpg
END:VEVENT
BEGIN:VEVENT
DTSTART;TZID=Europe/Paris:20231207T100000
DTEND;TZID=Europe/Paris:20231207T170000
DTSTAMP:20260422T185408
CREATED:20231113T155124Z
LAST-MODIFIED:20231124T151743Z
UID:6013-1701943200-1701968400@www.frenchtechcotedazur.fr
SUMMARY:Venez essayer le nouveau véhicule électrique de notre partenaire Kia - GROUPE CAVALLARI
DESCRIPTION:Notre partenaire Kia – GROUPE CAVALLARI\, vous invite à découvrir et essayer le meilleur du savoir-faire technologique de la marque Kia avec leur nouvelle voiture Kia EV9 100% électrique : \n🗓️ Jeudi 7 Décembre 2023 de 10h à 17h \n📍Musée Nationale du Sport au Stade Allianz Riviera\, 6 Allée Camille MUFFAT 06200 NICE \nInscription obligatoire en cliquant ici (places limitées)
URL:https://www.frenchtechcotedazur.fr/event/venez-essayez-le-nouveau-vehicule-electrique-de-notre-partenaire-kia-groupe-cavallari/
ATTACH;FMTTYPE=image/jpeg:https://www.frenchtechcotedazur.fr/wp-content/uploads/2023/11/23e0a395-d17f-4f5f-9a2a-46cab7928454-e1700819194910.jpg
END:VEVENT
END:VCALENDAR