BEGIN:VCALENDAR
VERSION:2.0
PRODID:-//French Tech Côte d&#039;Azur - ECPv6.15.20//NONSGML v1.0//EN
CALSCALE:GREGORIAN
METHOD:PUBLISH
X-ORIGINAL-URL:https://www.frenchtechcotedazur.fr
X-WR-CALDESC:Évènements pour French Tech Côte d&#039;Azur
REFRESH-INTERVAL;VALUE=DURATION:PT1H
X-Robots-Tag:noindex
X-PUBLISHED-TTL:PT1H
BEGIN:VTIMEZONE
TZID:Europe/Paris
BEGIN:DAYLIGHT
TZOFFSETFROM:+0100
TZOFFSETTO:+0200
TZNAME:CEST
DTSTART:20220327T010000
END:DAYLIGHT
BEGIN:STANDARD
TZOFFSETFROM:+0200
TZOFFSETTO:+0100
TZNAME:CET
DTSTART:20221030T010000
END:STANDARD
BEGIN:DAYLIGHT
TZOFFSETFROM:+0100
TZOFFSETTO:+0200
TZNAME:CEST
DTSTART:20230326T010000
END:DAYLIGHT
BEGIN:STANDARD
TZOFFSETFROM:+0200
TZOFFSETTO:+0100
TZNAME:CET
DTSTART:20231029T010000
END:STANDARD
BEGIN:DAYLIGHT
TZOFFSETFROM:+0100
TZOFFSETTO:+0200
TZNAME:CEST
DTSTART:20240331T010000
END:DAYLIGHT
BEGIN:STANDARD
TZOFFSETFROM:+0200
TZOFFSETTO:+0100
TZNAME:CET
DTSTART:20241027T010000
END:STANDARD
END:VTIMEZONE
BEGIN:VEVENT
DTSTART;TZID=Europe/Paris:20231128T090000
DTEND;TZID=Europe/Paris:20231128T170000
DTSTAMP:20260422T185046
CREATED:20231027T154705Z
LAST-MODIFIED:20231027T155635Z
UID:5583-1701162000-1701190800@www.frenchtechcotedazur.fr
SUMMARY:L'Azur Tech par Telecom Valley
DESCRIPTION:Retrouvez l’événement phare de Telecom Valley\, cette fois\, sur les 𝐭𝐞𝐜𝐡𝐧𝐨𝐥𝐨𝐠𝐢𝐞𝐬 𝐝𝐮 𝐍𝐮𝐦𝐞́𝐫𝐢𝐪𝐮𝐞 !\nApprentissage\, réseautage et inspiration garantis…\n📅 28 novembre 2023  -📍 Campus Sophia Tech \nUne journée de partage exceptionnelle qui s’adresse à toute personne passionnée ou curieuse de 𝐝𝐞́𝐯𝐞𝐥𝐨𝐩𝐩𝐞𝐦𝐞𝐧𝐭\, 𝐚𝐫𝐜𝐡𝐢𝐭𝐞𝐜𝐭𝐮𝐫𝐞\, 𝐜𝐨𝐧𝐜𝐞𝐩𝐭𝐢𝐨𝐧\, 𝐪𝐮𝐚𝐥𝐢𝐭𝐞́ 𝐥𝐨𝐠𝐢𝐜𝐢𝐞𝐥𝐥𝐞\, que vous soyez dans une 𝐞𝐧𝐭𝐫𝐞𝐩𝐫𝐢𝐬𝐞 𝐝𝐮 𝐧𝐮𝐦𝐞́𝐫𝐢𝐪𝐮𝐞\, 𝐥𝐚𝐛𝐨𝐫𝐚𝐭𝐨𝐢𝐫𝐞 𝐝𝐞 𝐫𝐞𝐜𝐡𝐞𝐫𝐜𝐡𝐞 ou l’une de nos 𝐞́𝐜𝐨𝐥𝐞𝐬. \nRetrouvez leurs thématiques : \n\nPlateformes API et outils pour le Web3\nOpen Source et logiciels libres\nSolutions et outils pour la cybersécurité\nSolutions Low-code / no-code\nSolutions Cloud et approche Devops\nTendances dans le test logiciel et la QA\nTechnologies et méthodes pour l’IA\nNouveaux modes de collaboration homme-machine\n\nRendez-vous ici pour vous inscrire
URL:https://www.frenchtechcotedazur.fr/event/lazur-tech-par-telecom-valley/
ATTACH;FMTTYPE=image/png:https://www.frenchtechcotedazur.fr/wp-content/uploads/2023/10/TV-e1698422186799.png
END:VEVENT
BEGIN:VEVENT
DTSTART;TZID=Europe/Paris:20231128T140000
DTEND;TZID=Europe/Paris:20231128T180000
DTSTAMP:20260422T185047
CREATED:20231027T154705Z
LAST-MODIFIED:20231123T092735Z
UID:5962-1701180000-1701194400@www.frenchtechcotedazur.fr
SUMMARY:Forum du recrutement par Telecom Valley
DESCRIPTION:Forum organisé dans le cadre de l’Azur Tech Winter\nProfessionnels en recherche d’emploi ou en activité\, jeunes diplômés ou étudiants à la recherche d’opportunités professionnelles dans les métiers du numérique ? Cet événement est fait pour vous 🤩 \n\n🗓️ 28 novembre 2023 de 14h à 18h\n📍 Université Côte d’Azur\, Campus SophiaTech Sophia Antipolis\, 930 route des Colles Biot\n\nVenez rencontrer les éditeurs de logiciel et les Entreprises de Services du Numérique (ESN) qui recrutent en ce moment ! 💪 \nPour plus d’informations\, cliquez ici \nParticipation libre et gratuite\, seule la participation aux conférences/ateliers et animations de l’Azur Tech Winter nécessite une inscription via ce lien. \n  \n 
URL:https://www.frenchtechcotedazur.fr/event/forum-du-recrutement-par-telecom-valley/
ATTACH;FMTTYPE=image/png:https://www.frenchtechcotedazur.fr/wp-content/uploads/2023/10/Forum-du-recrutement-1-e1700731319621.png
END:VEVENT
END:VCALENDAR