BEGIN:VCALENDAR
VERSION:2.0
PRODID:-//French Tech Côte d&#039;Azur - ECPv6.15.20//NONSGML v1.0//EN
CALSCALE:GREGORIAN
METHOD:PUBLISH
X-WR-CALNAME:French Tech Côte d&#039;Azur
X-ORIGINAL-URL:https://www.frenchtechcotedazur.fr
X-WR-CALDESC:Évènements pour French Tech Côte d&#039;Azur
REFRESH-INTERVAL;VALUE=DURATION:PT1H
X-Robots-Tag:noindex
X-PUBLISHED-TTL:PT1H
BEGIN:VTIMEZONE
TZID:Europe/Paris
BEGIN:DAYLIGHT
TZOFFSETFROM:+0100
TZOFFSETTO:+0200
TZNAME:CEST
DTSTART:20220327T010000
END:DAYLIGHT
BEGIN:STANDARD
TZOFFSETFROM:+0200
TZOFFSETTO:+0100
TZNAME:CET
DTSTART:20221030T010000
END:STANDARD
BEGIN:DAYLIGHT
TZOFFSETFROM:+0100
TZOFFSETTO:+0200
TZNAME:CEST
DTSTART:20230326T010000
END:DAYLIGHT
BEGIN:STANDARD
TZOFFSETFROM:+0200
TZOFFSETTO:+0100
TZNAME:CET
DTSTART:20231029T010000
END:STANDARD
BEGIN:DAYLIGHT
TZOFFSETFROM:+0100
TZOFFSETTO:+0200
TZNAME:CEST
DTSTART:20240331T010000
END:DAYLIGHT
BEGIN:STANDARD
TZOFFSETFROM:+0200
TZOFFSETTO:+0100
TZNAME:CET
DTSTART:20241027T010000
END:STANDARD
END:VTIMEZONE
BEGIN:VEVENT
DTSTART;TZID=Europe/Paris:20231120T180000
DTEND;TZID=Europe/Paris:20231120T180000
DTSTAMP:20260422T201127
CREATED:20231012T090405Z
LAST-MODIFIED:20231012T090534Z
UID:5288-1700503200-1700503200@www.frenchtechcotedazur.fr
SUMMARY:Digital Lab\, L'usage de l'IA dans le web marketing
DESCRIPTION:🌟🤖 L’Impact de l’Intelligence Artificielle sur le Web Marketing : un atelier pour décrypter les Tendances et les Outils. \n\nDate : lun. 20 novembre 2023 – 18:00h – 19:30h\nLieu : Mediaschool\, au 23 avenue Jean Médecin\n\nDans un monde où le digital est omniprésent\, l’Intelligence Artificielle (IA) est devenue un levier incontournable pour les marketeurs. Plutôt que de craindre cette révolution\, il est temps de prendre le train en marche ! Cet atelier vous fournira un aperçu complet des dernières tendances\, des meilleures pratiques et des outils innovants dans le domaine de l’IA appliquée au web marketing. Nous aborderons également les défis et les opportunités que l’IA présente\, ainsi que des études de cas pour illustrer son impact réel sur le marketing moderne. \nPour en savoir plus sur le programme de l’évènement : cliquez ici \nCet évènement est organisé par Réseau Initiative Nice Côte d’Azur\, pour vous inscrire\, rendez-vous sur leur site  \n  \n  \n 
URL:https://www.frenchtechcotedazur.fr/event/digital-lab-lusage-de-lia-dans-le-web-marketing/
LOCATION:23 avenue Jean Médecin
ATTACH;FMTTYPE=image/png:https://www.frenchtechcotedazur.fr/wp-content/uploads/2023/10/evenement-digital-20-novembre-e1697101519355.png
END:VEVENT
END:VCALENDAR