BEGIN:VCALENDAR
VERSION:2.0
PRODID:-//French Tech Côte d&#039;Azur - ECPv6.15.20//NONSGML v1.0//EN
CALSCALE:GREGORIAN
METHOD:PUBLISH
X-WR-CALNAME:French Tech Côte d&#039;Azur
X-ORIGINAL-URL:https://www.frenchtechcotedazur.fr
X-WR-CALDESC:Évènements pour French Tech Côte d&#039;Azur
REFRESH-INTERVAL;VALUE=DURATION:PT1H
X-Robots-Tag:noindex
X-PUBLISHED-TTL:PT1H
BEGIN:VTIMEZONE
TZID:Europe/Paris
BEGIN:DAYLIGHT
TZOFFSETFROM:+0100
TZOFFSETTO:+0200
TZNAME:CEST
DTSTART:20220327T010000
END:DAYLIGHT
BEGIN:STANDARD
TZOFFSETFROM:+0200
TZOFFSETTO:+0100
TZNAME:CET
DTSTART:20221030T010000
END:STANDARD
BEGIN:DAYLIGHT
TZOFFSETFROM:+0100
TZOFFSETTO:+0200
TZNAME:CEST
DTSTART:20230326T010000
END:DAYLIGHT
BEGIN:STANDARD
TZOFFSETFROM:+0200
TZOFFSETTO:+0100
TZNAME:CET
DTSTART:20231029T010000
END:STANDARD
BEGIN:DAYLIGHT
TZOFFSETFROM:+0100
TZOFFSETTO:+0200
TZNAME:CEST
DTSTART:20240331T010000
END:DAYLIGHT
BEGIN:STANDARD
TZOFFSETFROM:+0200
TZOFFSETTO:+0100
TZNAME:CET
DTSTART:20241027T010000
END:STANDARD
END:VTIMEZONE
BEGIN:VEVENT
DTSTART;TZID=Europe/Paris:20231114T143000
DTEND;TZID=Europe/Paris:20231114T160000
DTSTAMP:20260422T201125
CREATED:20230906T085430Z
LAST-MODIFIED:20231026T081025Z
UID:5457-1699972200-1699977600@www.frenchtechcotedazur.fr
SUMMARY:Atelier Orange Digital Center - Garder le lien avec WhatsApp
DESCRIPTION:Parlez-en à vos proches et inscrivez-vous directement au Totem de la French Tech Côte d’Azur\, 9 rue d’Italie à Nice ou bien EN CLIQUANT ICI. \n 
URL:https://www.frenchtechcotedazur.fr/event/atelier-orange-digital-center-garder-le-lien-avec-whatsapp/
ATTACH;FMTTYPE=image/png:https://www.frenchtechcotedazur.fr/wp-content/uploads/2023/09/MERCREDI-06-DECEMBRE-2023-DE-14H30-A-16H-1-e1698307784374.png
END:VEVENT
BEGIN:VEVENT
DTSTART;TZID=Europe/Paris:20231114T180000
DTEND;TZID=Europe/Paris:20231114T210000
DTSTAMP:20260422T201126
CREATED:20231108T142426Z
LAST-MODIFIED:20231108T142426Z
UID:5694-1699984800-1699995600@www.frenchtechcotedazur.fr
SUMMARY:Afterwork IA dans l'UE par Nice Start(s)-Up x CED
DESCRIPTION:Nice Start(s) Up vous invite à leur afterwork sur le thème de « L’intelligence artificielle dans l’UE » en partenariat avec le Centre Europe Direct Nice Côte d’Azur.\n\nOu : Campus Epitech – Nice Arenas\nQuand :  14 Novembre à partir de 18h\n\nLes regards seront tournés vers les craintes et perspectives pour les acteurs économiques territoriaux. \nL’occasion pour plusieurs de membres de l’association d’intervenir sur ce sujet en présence de l’Université Côte d’Azur et d’un expert européen. \nA l’issue un cocktail vous sera offert. 🍸
URL:https://www.frenchtechcotedazur.fr/event/afterwork-ia-dans-lue-par-nice-starts-up-x-ced/
ATTACH;FMTTYPE=image/png:https://www.frenchtechcotedazur.fr/wp-content/uploads/2023/11/NSU-et-CED.png
END:VEVENT
BEGIN:VEVENT
DTSTART;TZID=Europe/Paris:20231114T183000
DTEND;TZID=Europe/Paris:20231114T200000
DTSTAMP:20260422T201126
CREATED:20231110T081853Z
LAST-MODIFIED:20231110T081853Z
UID:5734-1699986600-1699992000@www.frenchtechcotedazur.fr
SUMMARY:Pitch Party by Les Premières Sud
DESCRIPTION:Venez pitcher votre projet\, faire du réseau et rencontrer les entrepreneures de votre territoire ! \n\nRendez-vous le 14 Novembre prochain\, à partir de 18h30 au Hub de l’Innovation de Nice (61-63 avenue Simone Veil à Nice) \nInscription en cliquant ici
URL:https://www.frenchtechcotedazur.fr/event/pitch-party-by-les-premieres-sud/
ATTACH;FMTTYPE=image/webp:https://www.frenchtechcotedazur.fr/wp-content/uploads/2023/11/pitch-party-e1699604216231.webp
END:VEVENT
END:VCALENDAR