BEGIN:VCALENDAR
VERSION:2.0
PRODID:-//French Tech Côte d&#039;Azur - ECPv6.15.20//NONSGML v1.0//EN
CALSCALE:GREGORIAN
METHOD:PUBLISH
X-WR-CALNAME:French Tech Côte d&#039;Azur
X-ORIGINAL-URL:https://www.frenchtechcotedazur.fr
X-WR-CALDESC:Évènements pour French Tech Côte d&#039;Azur
REFRESH-INTERVAL;VALUE=DURATION:PT1H
X-Robots-Tag:noindex
X-PUBLISHED-TTL:PT1H
BEGIN:VTIMEZONE
TZID:Europe/Paris
BEGIN:DAYLIGHT
TZOFFSETFROM:+0100
TZOFFSETTO:+0200
TZNAME:CEST
DTSTART:20220327T010000
END:DAYLIGHT
BEGIN:STANDARD
TZOFFSETFROM:+0200
TZOFFSETTO:+0100
TZNAME:CET
DTSTART:20221030T010000
END:STANDARD
BEGIN:DAYLIGHT
TZOFFSETFROM:+0100
TZOFFSETTO:+0200
TZNAME:CEST
DTSTART:20230326T010000
END:DAYLIGHT
BEGIN:STANDARD
TZOFFSETFROM:+0200
TZOFFSETTO:+0100
TZNAME:CET
DTSTART:20231029T010000
END:STANDARD
BEGIN:DAYLIGHT
TZOFFSETFROM:+0100
TZOFFSETTO:+0200
TZNAME:CEST
DTSTART:20240331T010000
END:DAYLIGHT
BEGIN:STANDARD
TZOFFSETFROM:+0200
TZOFFSETTO:+0100
TZNAME:CET
DTSTART:20241027T010000
END:STANDARD
END:VTIMEZONE
BEGIN:VEVENT
DTSTART;TZID=Europe/Paris:20231020T180000
DTEND;TZID=Europe/Paris:20231020T220000
DTSTAMP:20260422T212400
CREATED:20230919T133013Z
LAST-MODIFIED:20231013T132755Z
UID:5122-1697824800-1697839200@www.frenchtechcotedazur.fr
SUMMARY:Nuit des acteurs du Numérique par Telecom Valley
DESCRIPTION:La Nuit de cet automne aura pour thématique : LE COACHING & L’EXCELLENCE. \n\n\n\n\nL’opportunité pour que professionnels\, sportifs de haut niveau et étudiants s’épanouissent autour d’un même thème ! \nAu programme : conférences inspirantes animées par des personnalités du monde sportif\, table ronde et du networking. \nEt quelle meilleure occasion que cette Nuit pour lancer\, en parallèle de la table ronde\, le Challenge Jeunes Pousses ? Le concours d’entrepreneuriat débutera avec la présentation des projets\, la création des équipes et l’affiliation des coachs. Ensemble partageons les stratégies gagnantes pour vos équipes ! \n\n\n\n\n\n\n\n\n\n\nPROGRAMME\n\n\n\n\n\n\n\n\n18h00 – Accueil \n18h15 – Lancement par Julien HOLTZER et Teresa COLOMBI\, Co-présidents de Telecom Valley \n18h30 – Intervention par Pauline PEYRAUD-MAGNIN\, Footballeuse professionnelle\, gardienne de l’équipe de France féminine \n18h45 – Du coaching de la performance au coaching des organisations\, par Nicolas LUTZ et Wiebke Silve (Des Trous Dans la Raquette)\, Coachs professionnels certifiés RNCP \n19h15 – Le Challenge Jeunes Pousses\, concours d’entrepreneuriat étudiant par Max CHAZARRA et Jean-François CARRASCO \, Chefs de projet bénévoles du concours \n19h30 – 2 sessions en parallèle \n\n\n\n\n\n\n\n\n\nune session dédiée aux professionnels avec des échanges (table-ronde)\nune session pour les étudiants et les professionnels souhaitant contribuer au Challenge Jeunes Pousses (ceux-ci seront soumis à un accord de confidentialité).\n\n\n\n\n\n\n\n\n20h45 – Cocktail\n\n\n\nLien d’inscription en cliquant ici
URL:https://www.frenchtechcotedazur.fr/event/5122/
ATTACH;FMTTYPE=image/png:https://www.frenchtechcotedazur.fr/wp-content/uploads/2023/09/NANA-oct-23-28-1-e1697203040605.png
END:VEVENT
END:VCALENDAR