BEGIN:VCALENDAR
VERSION:2.0
PRODID:-//French Tech Côte d&#039;Azur - ECPv6.15.20//NONSGML v1.0//EN
CALSCALE:GREGORIAN
METHOD:PUBLISH
X-WR-CALNAME:French Tech Côte d&#039;Azur
X-ORIGINAL-URL:https://www.frenchtechcotedazur.fr
X-WR-CALDESC:Évènements pour French Tech Côte d&#039;Azur
REFRESH-INTERVAL;VALUE=DURATION:PT1H
X-Robots-Tag:noindex
X-PUBLISHED-TTL:PT1H
BEGIN:VTIMEZONE
TZID:Europe/Paris
BEGIN:DAYLIGHT
TZOFFSETFROM:+0100
TZOFFSETTO:+0200
TZNAME:CEST
DTSTART:20220327T010000
END:DAYLIGHT
BEGIN:STANDARD
TZOFFSETFROM:+0200
TZOFFSETTO:+0100
TZNAME:CET
DTSTART:20221030T010000
END:STANDARD
BEGIN:DAYLIGHT
TZOFFSETFROM:+0100
TZOFFSETTO:+0200
TZNAME:CEST
DTSTART:20230326T010000
END:DAYLIGHT
BEGIN:STANDARD
TZOFFSETFROM:+0200
TZOFFSETTO:+0100
TZNAME:CET
DTSTART:20231029T010000
END:STANDARD
BEGIN:DAYLIGHT
TZOFFSETFROM:+0100
TZOFFSETTO:+0200
TZNAME:CEST
DTSTART:20240331T010000
END:DAYLIGHT
BEGIN:STANDARD
TZOFFSETFROM:+0200
TZOFFSETTO:+0100
TZNAME:CET
DTSTART:20241027T010000
END:STANDARD
END:VTIMEZONE
BEGIN:VEVENT
DTSTART;TZID=Europe/Paris:20230911T100000
DTEND;TZID=Europe/Paris:20230911T120000
DTSTAMP:20260422T224523
CREATED:20230904T101721Z
LAST-MODIFIED:20230904T101721Z
UID:4998-1694426400-1694433600@www.frenchtechcotedazur.fr
SUMMARY:Meet The Newcomers by Hub de l'Innovation
DESCRIPTION:Le 11 septembre prochain de 10h à 12h à l’OPEN LOFT se tiendra l’événement de rentrée « MEET THE NEWCOMERS » proposé par Hub de l’Innovation en présence de Magali ALTOUNIAN\, Adjointe au Maire de Nice\, Vice-Présidente de la Commission thématique Économie\, tourisme\, industrie\, coopération transfrontalière et Europe à la Métropole Nice Côte d’Azur. \nVenez découvrir les nouveaux entrants du HUB de l’innovation\, tisser des relations avec l’écosystème local et renforcer votre réseau professionnel. \nInscription : https://www.eventbrite.fr/e/billets-meet-the-newcomers-hub-de-linnovation-684822461417?aff=oddtdtcreator
URL:https://www.frenchtechcotedazur.fr/event/meet-the-newcomers-by-hub-de-linnovation/
ATTACH;FMTTYPE=image/png:https://www.frenchtechcotedazur.fr/wp-content/uploads/2023/09/image001.png
END:VEVENT
END:VCALENDAR