BEGIN:VCALENDAR
VERSION:2.0
PRODID:-//French Tech Côte d&#039;Azur - ECPv6.15.20//NONSGML v1.0//EN
CALSCALE:GREGORIAN
METHOD:PUBLISH
X-WR-CALNAME:French Tech Côte d&#039;Azur
X-ORIGINAL-URL:https://www.frenchtechcotedazur.fr
X-WR-CALDESC:Évènements pour French Tech Côte d&#039;Azur
REFRESH-INTERVAL;VALUE=DURATION:PT1H
X-Robots-Tag:noindex
X-PUBLISHED-TTL:PT1H
BEGIN:VTIMEZONE
TZID:Europe/Paris
BEGIN:DAYLIGHT
TZOFFSETFROM:+0100
TZOFFSETTO:+0200
TZNAME:CEST
DTSTART:20220327T010000
END:DAYLIGHT
BEGIN:STANDARD
TZOFFSETFROM:+0200
TZOFFSETTO:+0100
TZNAME:CET
DTSTART:20221030T010000
END:STANDARD
BEGIN:DAYLIGHT
TZOFFSETFROM:+0100
TZOFFSETTO:+0200
TZNAME:CEST
DTSTART:20230326T010000
END:DAYLIGHT
BEGIN:STANDARD
TZOFFSETFROM:+0200
TZOFFSETTO:+0100
TZNAME:CET
DTSTART:20231029T010000
END:STANDARD
BEGIN:DAYLIGHT
TZOFFSETFROM:+0100
TZOFFSETTO:+0200
TZNAME:CEST
DTSTART:20240331T010000
END:DAYLIGHT
BEGIN:STANDARD
TZOFFSETFROM:+0200
TZOFFSETTO:+0100
TZNAME:CET
DTSTART:20241027T010000
END:STANDARD
END:VTIMEZONE
BEGIN:VEVENT
DTSTART;VALUE=DATE:20230627
DTEND;VALUE=DATE:20230628
DTSTAMP:20260423T012158
CREATED:20230512T123402Z
LAST-MODIFIED:20230512T123534Z
UID:4698-1687824000-1687910399@www.frenchtechcotedazur.fr
SUMMARY:FID M€D RIVIERA
DESCRIPTION:FID M€D RIVIERA – 27 juin 2023\n\n\n\n\n\n\n\n\n\n\n\n\n\n\n\n\n\nLe mardi 27 juin 2023 aura lieu la nouvelle édition du FID M€D Riviera à Grasse et plus spécifiquement à Villa Blu by Robertet. \nCette édition est en partenariat avec Medinsoft\, Le Méridional\, Villa Blu by Robertet. \nNouvelle édition\, nouveau format ! \n Au programme :  \nConférences et tables rondes autour du Financement de l’Innovation et séance de pitchs de startups sélectionnées au niveau de l’amorçage et/ou du 1er tour face à un jury professionnel du financement (fonds privés\, publics\, BA\, banques\, etc.) sur une après-midi. \nPour plus d’informations cliquez ici.
URL:https://www.frenchtechcotedazur.fr/event/fid-med-riviera-2023/
ATTACH;FMTTYPE=image/png:https://www.frenchtechcotedazur.fr/wp-content/uploads/2023/05/image006.png
END:VEVENT
BEGIN:VEVENT
DTSTART;TZID=Europe/Paris:20230627T160000
DTEND;TZID=Europe/Paris:20230627T200000
DTSTAMP:20260423T012158
CREATED:20230605T125721Z
LAST-MODIFIED:20230605T130139Z
UID:4793-1687881600-1687896000@www.frenchtechcotedazur.fr
SUMMARY:JOB DATING ET THEATRE FORUM « Un Employé Nommé Désir »
DESCRIPTION:Après le succès de la première édition de l’événement JOB DATING ET THEATRE FORUM « Un Employé Nommé Désir »\, une nouvelle date est proposée pour se retrouver autour d’un temps de Job Dating suivi de la comédie interactive sur la thématique de « l’Employeurabilité » !  \n400 places sont proposées pour cette 2e édition\, dans la magnifique salle du Centre Universitaire Méditerranéen. \n🗓 Mardi 27 Juin 2023  \n📍 Centre Universitaire Méditerranéen\, 65 promenade des Anglais\, 06000 Nice \nAu programme : \nA l’attention des candidates et candidats \n16h-18h : JOB DATING avec les entreprises membres du Club Les entreprises s’engagent – Alpes-Maritimes \nTous types de postes dans tous secteurs d’activité seront proposés \nPour tous ! \n18h-20h : THEATRE FORUM ET DEBATS sur l’Employeurabilité autour de la pièce « Un Employé Nommé Désir »\, la comédie interactive sur les difficultés de recrutement et de fidélisation des salariés \n  \nFocus sur la pièce\, proposée par le Pacte Civique et la Communauté Les entreprises s’engagent dans toute la France \nCette pièce interactive aborde avec humour les préjugés liés au recrutement et met en exergue de nombreuses raisons qui peuvent pousser des salariés à quitter leur entreprise. \nChaque personnage de la pièce invite à remettre en question différents aspects du monde professionnel\, en particulier du management. \nDès le lever de rideau\, vous serez là avec votre expérience et votre bon sens pour guider les personnages-employeurs sur le chemin d’un recrutement réussi et d’un management bienveillant et gagnant dans la durée. \nLa soirée se poursuivra avec un débat autour des nouvelles pratiques et actions sur les thématiques du recrutement\, du management et de la fidélisation des collaborateurs. \nDes dirigeants de différents secteurs d’activité témoigneront de leurs approches et expérimentations. \nInformations et inscription sur l’événement « un employé nommé désir » en cliquant ici.
URL:https://www.frenchtechcotedazur.fr/event/4793/
ATTACH;FMTTYPE=image/jpeg:https://www.frenchtechcotedazur.fr/wp-content/uploads/2023/06/https___cdn.evbuc_.com_images_500455119_238484326787_1_original.jpg
END:VEVENT
END:VCALENDAR