BEGIN:VCALENDAR
VERSION:2.0
PRODID:-//French Tech Côte d&#039;Azur - ECPv6.15.20//NONSGML v1.0//EN
CALSCALE:GREGORIAN
METHOD:PUBLISH
X-WR-CALNAME:French Tech Côte d&#039;Azur
X-ORIGINAL-URL:https://www.frenchtechcotedazur.fr
X-WR-CALDESC:Évènements pour French Tech Côte d&#039;Azur
REFRESH-INTERVAL;VALUE=DURATION:PT1H
X-Robots-Tag:noindex
X-PUBLISHED-TTL:PT1H
BEGIN:VTIMEZONE
TZID:Europe/Paris
BEGIN:DAYLIGHT
TZOFFSETFROM:+0100
TZOFFSETTO:+0200
TZNAME:CEST
DTSTART:20220327T010000
END:DAYLIGHT
BEGIN:STANDARD
TZOFFSETFROM:+0200
TZOFFSETTO:+0100
TZNAME:CET
DTSTART:20221030T010000
END:STANDARD
BEGIN:DAYLIGHT
TZOFFSETFROM:+0100
TZOFFSETTO:+0200
TZNAME:CEST
DTSTART:20230326T010000
END:DAYLIGHT
BEGIN:STANDARD
TZOFFSETFROM:+0200
TZOFFSETTO:+0100
TZNAME:CET
DTSTART:20231029T010000
END:STANDARD
BEGIN:DAYLIGHT
TZOFFSETFROM:+0100
TZOFFSETTO:+0200
TZNAME:CEST
DTSTART:20240331T010000
END:DAYLIGHT
BEGIN:STANDARD
TZOFFSETFROM:+0200
TZOFFSETTO:+0100
TZNAME:CET
DTSTART:20241027T010000
END:STANDARD
END:VTIMEZONE
BEGIN:VEVENT
DTSTART;TZID=Europe/Paris:20230619T170000
DTEND;TZID=Europe/Paris:20230619T183000
DTSTAMP:20260423T023647
CREATED:20230407T094459Z
LAST-MODIFIED:20230428T143929Z
UID:4532-1687194000-1687199400@www.frenchtechcotedazur.fr
SUMMARY:Atelier professionnel Orange Digital Center - Comment communiquer avec ses clients ?
DESCRIPTION:Atelier Orange « Comment communiquer avec ses clients ? » réservé aux professionnels \nUn atelier gratuit sur inscription animé par un expert Orange \n🗓 Lundi 19 juin 2023 de 17h00 à 18h30 \n📍Lieu de l’atelier : French Tech Côte d’Azur\, 9 rue d’Italie\, 06000 Nice \nInscription en cliquant ici.
URL:https://www.frenchtechcotedazur.fr/event/atelier-professionnel-orange-digital-center-comment-communiquer-avec-ses-clients/
ATTACH;FMTTYPE=image/png:https://www.frenchtechcotedazur.fr/wp-content/uploads/2023/04/Orange-RS.png
END:VEVENT
END:VCALENDAR