BEGIN:VCALENDAR
VERSION:2.0
PRODID:-//French Tech Côte d&#039;Azur - ECPv6.15.20//NONSGML v1.0//EN
CALSCALE:GREGORIAN
METHOD:PUBLISH
X-ORIGINAL-URL:https://www.frenchtechcotedazur.fr
X-WR-CALDESC:Évènements pour French Tech Côte d&#039;Azur
REFRESH-INTERVAL;VALUE=DURATION:PT1H
X-Robots-Tag:noindex
X-PUBLISHED-TTL:PT1H
BEGIN:VTIMEZONE
TZID:Europe/Paris
BEGIN:DAYLIGHT
TZOFFSETFROM:+0100
TZOFFSETTO:+0200
TZNAME:CEST
DTSTART:20220327T010000
END:DAYLIGHT
BEGIN:STANDARD
TZOFFSETFROM:+0200
TZOFFSETTO:+0100
TZNAME:CET
DTSTART:20221030T010000
END:STANDARD
BEGIN:DAYLIGHT
TZOFFSETFROM:+0100
TZOFFSETTO:+0200
TZNAME:CEST
DTSTART:20230326T010000
END:DAYLIGHT
BEGIN:STANDARD
TZOFFSETFROM:+0200
TZOFFSETTO:+0100
TZNAME:CET
DTSTART:20231029T010000
END:STANDARD
BEGIN:DAYLIGHT
TZOFFSETFROM:+0100
TZOFFSETTO:+0200
TZNAME:CEST
DTSTART:20240331T010000
END:DAYLIGHT
BEGIN:STANDARD
TZOFFSETFROM:+0200
TZOFFSETTO:+0100
TZNAME:CET
DTSTART:20241027T010000
END:STANDARD
END:VTIMEZONE
BEGIN:VEVENT
DTSTART;TZID=Europe/Paris:20230607T090000
DTEND;TZID=Europe/Paris:20230607T100000
DTSTAMP:20260423T022406
CREATED:20230524T121400Z
LAST-MODIFIED:20230524T121420Z
UID:4758-1686128400-1686132000@www.frenchtechcotedazur.fr
SUMMARY:IA générative : à l'aube d'une nouvelle ère pour l'assurance
DESCRIPTION:🚀 Vous faites quoi le 7 juin à 9h00? 🚀 \nEt si nous parlions de 2 sujets passionnant? 💕💕💕 \n💥 L’IA Générative appliquée au monde de l’assurance \n💥 Retrouvez Christophe Bremard de Qiti entouré de Guillaume Sarkozy\, d’ Axel Tombereau et de Guillaume DION \n💥 Ne manquez pas cette occasion unique de découvrir comment l’#ia Générative va changer en profondeur l’#assurance \n💥 Découvrez les #opportunités offertes en vous inscrivant dès maintenant pour ce webinaire :\n➡ https://lnkd.in/eq-tX-Fd \n#AI #Assurance #Webinar #insurtech #ia
URL:https://www.frenchtechcotedazur.fr/event/ia-generative-a-laube-dune-nouvelle-ere-pour-lassurance/
ATTACH;FMTTYPE=image/jpeg:https://www.frenchtechcotedazur.fr/wp-content/uploads/2023/05/ia-generative.jpeg
END:VEVENT
END:VCALENDAR