BEGIN:VCALENDAR
VERSION:2.0
PRODID:-//French Tech Côte d&#039;Azur - ECPv6.15.20//NONSGML v1.0//EN
CALSCALE:GREGORIAN
METHOD:PUBLISH
X-WR-CALNAME:French Tech Côte d&#039;Azur
X-ORIGINAL-URL:https://www.frenchtechcotedazur.fr
X-WR-CALDESC:Évènements pour French Tech Côte d&#039;Azur
REFRESH-INTERVAL;VALUE=DURATION:PT1H
X-Robots-Tag:noindex
X-PUBLISHED-TTL:PT1H
BEGIN:VTIMEZONE
TZID:Europe/Paris
BEGIN:DAYLIGHT
TZOFFSETFROM:+0100
TZOFFSETTO:+0200
TZNAME:CEST
DTSTART:20220327T010000
END:DAYLIGHT
BEGIN:STANDARD
TZOFFSETFROM:+0200
TZOFFSETTO:+0100
TZNAME:CET
DTSTART:20221030T010000
END:STANDARD
BEGIN:DAYLIGHT
TZOFFSETFROM:+0100
TZOFFSETTO:+0200
TZNAME:CEST
DTSTART:20230326T010000
END:DAYLIGHT
BEGIN:STANDARD
TZOFFSETFROM:+0200
TZOFFSETTO:+0100
TZNAME:CET
DTSTART:20231029T010000
END:STANDARD
BEGIN:DAYLIGHT
TZOFFSETFROM:+0100
TZOFFSETTO:+0200
TZNAME:CEST
DTSTART:20240331T010000
END:DAYLIGHT
BEGIN:STANDARD
TZOFFSETFROM:+0200
TZOFFSETTO:+0100
TZNAME:CET
DTSTART:20241027T010000
END:STANDARD
END:VTIMEZONE
BEGIN:VEVENT
DTSTART;TZID=Europe/Paris:20230601T120000
DTEND;TZID=Europe/Paris:20230601T133000
DTSTAMP:20260423T023648
CREATED:20230511T145845Z
LAST-MODIFIED:20230511T145845Z
UID:4694-1685620800-1685626200@www.frenchtechcotedazur.fr
SUMMARY:Atelier French Tech Central avec Banque de France à Cannes
DESCRIPTION:🚀 Venez rencontrer Banque de France le 1er juin prochain ! \n« 𝙻’𝚊𝚛𝚝 𝚎𝚝 𝚕𝚊 𝚖𝚊𝚗𝚒𝚎̀𝚛𝚎 𝚍𝚎 𝚋𝚒𝚎𝚗 𝚌𝚘𝚖𝚖𝚞𝚗𝚒𝚚𝚞𝚎𝚛 𝚊𝚟𝚎𝚌 𝚜𝚘𝚗 𝚋𝚊𝚗𝚚𝚞𝚒𝚎𝚛 𝚝𝚘𝚞𝚝 𝚊𝚞 𝚕𝚘𝚗𝚐 𝚍𝚞 𝚌𝚢𝚌𝚕𝚎 𝚍𝚎 𝚟𝚒𝚎 𝚍𝚎 𝚜𝚘𝚗 𝚎𝚗𝚝𝚛𝚎𝚙𝚛𝚒𝚜𝚎 » \nVous souhaitez mieux comprendre comment communiquer efficacement avec votre banquier ? \nCet atelier #FrenchTechCentral vous permettra de découvrir les meilleures pratiques pour une communication fructueuse avec votre banquier\, de la création de votre entreprise à son développement\nVenez échanger avec des professionnels du secteur et bénéficier de leurs conseils avisés pour assurer la croissance de votre entreprise en toute sérénité. \nÀ la suite de l’atelier\, des rendez-vous individuels vous sont proposés avec Lisbeth Savorgnano\, Banque de France \nN’attendez plus et inscrivez-vous à l’atelier dès maintenant ! 👇\nhttps://lnkd.in/e-wQkDBc \n📅 Le 1er Juin 2023\n🕐 De 12h00 à 13h30\n📍Campus Georges Méliès\, Cité des entreprises\, 06150 CANNES
URL:https://www.frenchtechcotedazur.fr/event/atelier-french-tech-central-3/
ATTACH;FMTTYPE=image/jpeg:https://www.frenchtechcotedazur.fr/wp-content/uploads/2023/05/1683720435908.jpeg
END:VEVENT
BEGIN:VEVENT
DTSTART;TZID=Europe/Paris:20230601T140000
DTEND;TZID=Europe/Paris:20230601T150000
DTSTAMP:20260423T023648
CREATED:20230522T123833Z
LAST-MODIFIED:20230522T123833Z
UID:4731-1685628000-1685631600@www.frenchtechcotedazur.fr
SUMMARY:Webinaire Parcours Sud Industrie 4.0 Carbone
DESCRIPTION:Vous êtes une TPE-PME-ETI industrielle\, vous avez moins de 500 salariés et vous souhaitez opérer la transformation de votre entreprise vers l’Industrie du Futur durable : Parcours Sud Industrie 4.0 Carbone c’est quoi ? \nUn parcours sur-mesure et opérationnel comprenant : \n\nUn diagnostic « Industrie du Futur / Transition Écologique et Énergétique »\, entièrement pris en charge\nfinancièrement par la Région Sud\, pour construire votre feuille de route de transformation vers l’Industrie du\nFutur durable ;\nUn amorçage à la réalisation d’un accompagnement pour identifier les solutions technologiques ou servicielles\nadaptées ;\nLa possibilité de déposer une demande de subvention pouvant aller jusqu’à 500 000 € pour soutenir vos\ninvestissements 4.0.\n\nParticipez au 1 er webinaire de présentation du dispositif\, le jeudi 1er juin 2023\, de 14h à 15h : inscrivez-vous ici. \nVous recevrez par email\, une confirmation d’inscription\, avec le lien pour participer au webinaire. \nSi le parcours vous intéresse vous pouvez y entrer en vous inscrivant sur le site dédié : https://www.parcours-sud-industrie-zerocarbone.com \nContact : psi@risingsud.fr
URL:https://www.frenchtechcotedazur.fr/event/webinaire-parcours-sud-industrie-4-0-carbone/
ATTACH;FMTTYPE=image/png:https://www.frenchtechcotedazur.fr/wp-content/uploads/2023/05/Capture-décran-2023-05-22-à-14.36.24.png
END:VEVENT
BEGIN:VEVENT
DTSTART;TZID=Europe/Paris:20230601T140000
DTEND;TZID=Europe/Paris:20230601T203000
DTSTAMP:20260423T023648
CREATED:20230503T074809Z
LAST-MODIFIED:20230503T074809Z
UID:4683-1685628000-1685651400@www.frenchtechcotedazur.fr
SUMMARY:BOOST RH by Le Village by CA
DESCRIPTION:BOOST RH : L’engagement collaborateur dans un monde en transition\nTables rondes et ateliers autour de l’engagement collaborateur\, événement s’adressant aux dirigeants\, DRH et managers RH. \nL’événement s’adresse tout particulièrement aux dirigeants\, DRH et managers RH \nOrganisé par le AGYCA GROUP\, Le Village by Crédit Agricole Provence Côte d’Azur\, ilyCoach et AfterWork RH Côte d’Azur 💡 \n🗓 Le jeudi 1er juin 2023 au Village by CA \n📃 Au programme :\n– 6 ateliers participatifs de 45 minutes \, dès 14h45 jusqu’à 17H30.\n– Découvertes de solutions RH et QVT innovantes\n– 2 tables rondes de 55 minutes\, entre 18h00 et 20h00\n– cocktail networking à partir de 20h00 \nParmi les sujets évoqués : onboarding et fidélisation\, spectre de carrière\, méthode ikigai\, pratiques managériales\, créativité et esprit d’innovation\, intelligence collective… \nINSCRIPTION EN CLIQUANT ICI
URL:https://www.frenchtechcotedazur.fr/event/boost-rh-by-le-village-by-ca/
ATTACH;FMTTYPE=image/jpeg:https://www.frenchtechcotedazur.fr/wp-content/uploads/2023/05/le-village-by-CA-boostRH.jpeg
END:VEVENT
END:VCALENDAR