BEGIN:VCALENDAR
VERSION:2.0
PRODID:-//French Tech Côte d&#039;Azur - ECPv6.15.20//NONSGML v1.0//EN
CALSCALE:GREGORIAN
METHOD:PUBLISH
X-ORIGINAL-URL:https://www.frenchtechcotedazur.fr
X-WR-CALDESC:Évènements pour French Tech Côte d&#039;Azur
REFRESH-INTERVAL;VALUE=DURATION:PT1H
X-Robots-Tag:noindex
X-PUBLISHED-TTL:PT1H
BEGIN:VTIMEZONE
TZID:Europe/Paris
BEGIN:DAYLIGHT
TZOFFSETFROM:+0100
TZOFFSETTO:+0200
TZNAME:CEST
DTSTART:20220327T010000
END:DAYLIGHT
BEGIN:STANDARD
TZOFFSETFROM:+0200
TZOFFSETTO:+0100
TZNAME:CET
DTSTART:20221030T010000
END:STANDARD
BEGIN:DAYLIGHT
TZOFFSETFROM:+0100
TZOFFSETTO:+0200
TZNAME:CEST
DTSTART:20230326T010000
END:DAYLIGHT
BEGIN:STANDARD
TZOFFSETFROM:+0200
TZOFFSETTO:+0100
TZNAME:CET
DTSTART:20231029T010000
END:STANDARD
BEGIN:DAYLIGHT
TZOFFSETFROM:+0100
TZOFFSETTO:+0200
TZNAME:CEST
DTSTART:20240331T010000
END:DAYLIGHT
BEGIN:STANDARD
TZOFFSETFROM:+0200
TZOFFSETTO:+0100
TZNAME:CET
DTSTART:20241027T010000
END:STANDARD
END:VTIMEZONE
BEGIN:VEVENT
DTSTART;TZID=Europe/Paris:20230525T130000
DTEND;TZID=Europe/Paris:20230525T140000
DTSTAMP:20260423T035953
CREATED:20230502T100552Z
LAST-MODIFIED:20230502T100730Z
UID:4675-1685019600-1685023200@www.frenchtechcotedazur.fr
SUMMARY:Atelier Axenum Cannes Is Up
DESCRIPTION:Atelier « Vers un numérique plus responsable » ! \nSensibilisation et enjeux autour de l’accessibilité et de l’écoconception numérique. \nStart-ups\, PME\, grands groupes ou acteurs publics\, vous éditez des sites web ou applications mobiles au grand public ? Vous êtes également fortement engagé sur votre RSE/RSO ? \nLes équipes de l’Agglomération Cannes Lérins\, de l’association Cannes Is Up et le cabinet de conseil Axénum ont le plaisir de vous convier à un atelier\, afin d’éclaircir les enjeux et les cadres légaux liés autour de 2 grandes thématiques du numérique responsable : \nL’accessibilité numérique\nObjectif ? Rendre les services numériques accessibles au plus grand nombre (dont les personnes en situation de handicap). \nL’écoconception numérique\nObjectif ? Réduire la consommation énergétique des services numériques pour les rendre plus écologiques.  \nRendez-vous le jeudi 25 mai 2023 de 13h à 14h à la Pépinière d’entreprise Cannes Bastide Rouge.  \nInscription obligatoire et places limitées : https://bit.ly/AtelierAxenum
URL:https://www.frenchtechcotedazur.fr/event/atelier-axenum/
ATTACH;FMTTYPE=image/png:https://www.frenchtechcotedazur.fr/wp-content/uploads/2023/05/visuel_RS-2.png
END:VEVENT
END:VCALENDAR