BEGIN:VCALENDAR
VERSION:2.0
PRODID:-//French Tech Côte d&#039;Azur - ECPv6.15.20//NONSGML v1.0//EN
CALSCALE:GREGORIAN
METHOD:PUBLISH
X-WR-CALNAME:French Tech Côte d&#039;Azur
X-ORIGINAL-URL:https://www.frenchtechcotedazur.fr
X-WR-CALDESC:Évènements pour French Tech Côte d&#039;Azur
REFRESH-INTERVAL;VALUE=DURATION:PT1H
X-Robots-Tag:noindex
X-PUBLISHED-TTL:PT1H
BEGIN:VTIMEZONE
TZID:Europe/Paris
BEGIN:DAYLIGHT
TZOFFSETFROM:+0100
TZOFFSETTO:+0200
TZNAME:CEST
DTSTART:20220327T010000
END:DAYLIGHT
BEGIN:STANDARD
TZOFFSETFROM:+0200
TZOFFSETTO:+0100
TZNAME:CET
DTSTART:20221030T010000
END:STANDARD
BEGIN:DAYLIGHT
TZOFFSETFROM:+0100
TZOFFSETTO:+0200
TZNAME:CEST
DTSTART:20230326T010000
END:DAYLIGHT
BEGIN:STANDARD
TZOFFSETFROM:+0200
TZOFFSETTO:+0100
TZNAME:CET
DTSTART:20231029T010000
END:STANDARD
BEGIN:DAYLIGHT
TZOFFSETFROM:+0100
TZOFFSETTO:+0200
TZNAME:CEST
DTSTART:20240331T010000
END:DAYLIGHT
BEGIN:STANDARD
TZOFFSETFROM:+0200
TZOFFSETTO:+0100
TZNAME:CET
DTSTART:20241027T010000
END:STANDARD
END:VTIMEZONE
BEGIN:VEVENT
DTSTART;TZID=Europe/Paris:20230512T080000
DTEND;TZID=Europe/Paris:20230512T170000
DTSTAMP:20260423T040500
CREATED:20230512T124110Z
LAST-MODIFIED:20230512T124126Z
UID:4703-1683878400-1683910800@www.frenchtechcotedazur.fr
SUMMARY:Numeum Tour Sud - Telecom Valley
DESCRIPTION:Telecom Valley accueille le Numeum Tour Sud 2023 \nRendez-vous mercredi 24 mai 2023 de 10h à 14h \n\n📍Business Pôle 1\, entrée A\n1047 route des Dolines\, Allée Pierre Ziller06560 SOPHIA ANTIPOLIS\n\nPour plus d’informations sur le programme et accéder aux inscriptions cliquez ici.
URL:https://www.frenchtechcotedazur.fr/event/numeum-tour-sud-2023/
ATTACH;FMTTYPE=image/png:https://www.frenchtechcotedazur.fr/wp-content/uploads/2023/05/Numeum-tour.png
END:VEVENT
END:VCALENDAR