BEGIN:VCALENDAR
VERSION:2.0
PRODID:-//French Tech Côte d&#039;Azur - ECPv6.15.20//NONSGML v1.0//EN
CALSCALE:GREGORIAN
METHOD:PUBLISH
X-WR-CALNAME:French Tech Côte d&#039;Azur
X-ORIGINAL-URL:https://www.frenchtechcotedazur.fr
X-WR-CALDESC:Évènements pour French Tech Côte d&#039;Azur
REFRESH-INTERVAL;VALUE=DURATION:PT1H
X-Robots-Tag:noindex
X-PUBLISHED-TTL:PT1H
BEGIN:VTIMEZONE
TZID:Europe/Paris
BEGIN:DAYLIGHT
TZOFFSETFROM:+0100
TZOFFSETTO:+0200
TZNAME:CEST
DTSTART:20220327T010000
END:DAYLIGHT
BEGIN:STANDARD
TZOFFSETFROM:+0200
TZOFFSETTO:+0100
TZNAME:CET
DTSTART:20221030T010000
END:STANDARD
BEGIN:DAYLIGHT
TZOFFSETFROM:+0100
TZOFFSETTO:+0200
TZNAME:CEST
DTSTART:20230326T010000
END:DAYLIGHT
BEGIN:STANDARD
TZOFFSETFROM:+0200
TZOFFSETTO:+0100
TZNAME:CET
DTSTART:20231029T010000
END:STANDARD
BEGIN:DAYLIGHT
TZOFFSETFROM:+0100
TZOFFSETTO:+0200
TZNAME:CEST
DTSTART:20240331T010000
END:DAYLIGHT
BEGIN:STANDARD
TZOFFSETFROM:+0200
TZOFFSETTO:+0100
TZNAME:CET
DTSTART:20241027T010000
END:STANDARD
END:VTIMEZONE
BEGIN:VEVENT
DTSTART;TZID=Europe/Paris:20230511T140000
DTEND;TZID=Europe/Paris:20230511T170000
DTSTAMP:20260423T040501
CREATED:20230511T090628Z
LAST-MODIFIED:20230511T090628Z
UID:4689-1683813600-1683824400@www.frenchtechcotedazur.fr
SUMMARY:Table ronde  " les enjeux européens et locaux pour l'avenir des métiers de la data "
DESCRIPTION:Favoriser la transformation écologique et numérique\, promouvoir la formation et le renforcement des compétences\, lutter contre la désinformation et obliger la transparence des données…. sont les piliers clés de la stratégie adoptée par l’Europe.\n\nEn soutien au projet\, Le Wagon PACA\, acteur engagé dans la formation aux métiers du numérique\, organise une table ronde le 11 mai 2023 sur son campus de Nice. Cette table ronde sera une occasion unique pour les participants de s’informer sur les initiatives Européennes et locales et d’échanger sur l’avenir des métiers de la data.\n\nLa table ronde sera animée par la City Manager du Wagon Nice\, Caroline Bayle en présence d’élus et d’acteurs locaux engagés dont Magali Altounian\, Adjointe au Maire de Nice déléguée aux Finances\, aux Institutions européennes et au Rayonnement de la ville et Conseillère métropolitaine déléguée aux affaires européennes. Nous aurons également la participation de Louis Chavane\, Co-fondateur & CTO du Wagon PACA\, Audrey Lamy Martinot\, Dirigeante de  Data Acteur\, Louis Gauthier\, Directeur Générale de Doriane SaS ainsi que Grégory Bertrand\, Adjoint au Directeur Régional en charge du Développement\, de l’Innovation et du Numérique\, DFSI ENEDIS.\nJeudi 11 mai 2023⎜14h \nStartway Coworking – Le Wagon⎜21 avenue Thiers 06000 Nice OU en ligne \nInscription obligatoire  sur le campus ou en ligne
URL:https://www.frenchtechcotedazur.fr/event/4689/
ATTACH;FMTTYPE=image/png:https://www.frenchtechcotedazur.fr/wp-content/uploads/2023/05/le-wagon-.png
END:VEVENT
END:VCALENDAR