BEGIN:VCALENDAR
VERSION:2.0
PRODID:-//French Tech Côte d&#039;Azur - ECPv6.15.20//NONSGML v1.0//EN
CALSCALE:GREGORIAN
METHOD:PUBLISH
X-WR-CALNAME:French Tech Côte d&#039;Azur
X-ORIGINAL-URL:https://www.frenchtechcotedazur.fr
X-WR-CALDESC:Évènements pour French Tech Côte d&#039;Azur
REFRESH-INTERVAL;VALUE=DURATION:PT1H
X-Robots-Tag:noindex
X-PUBLISHED-TTL:PT1H
BEGIN:VTIMEZONE
TZID:Europe/Paris
BEGIN:DAYLIGHT
TZOFFSETFROM:+0100
TZOFFSETTO:+0200
TZNAME:CEST
DTSTART:20220327T010000
END:DAYLIGHT
BEGIN:STANDARD
TZOFFSETFROM:+0200
TZOFFSETTO:+0100
TZNAME:CET
DTSTART:20221030T010000
END:STANDARD
BEGIN:DAYLIGHT
TZOFFSETFROM:+0100
TZOFFSETTO:+0200
TZNAME:CEST
DTSTART:20230326T010000
END:DAYLIGHT
BEGIN:STANDARD
TZOFFSETFROM:+0200
TZOFFSETTO:+0100
TZNAME:CET
DTSTART:20231029T010000
END:STANDARD
BEGIN:DAYLIGHT
TZOFFSETFROM:+0100
TZOFFSETTO:+0200
TZNAME:CEST
DTSTART:20240331T010000
END:DAYLIGHT
BEGIN:STANDARD
TZOFFSETFROM:+0200
TZOFFSETTO:+0100
TZNAME:CET
DTSTART:20241027T010000
END:STANDARD
END:VTIMEZONE
BEGIN:VEVENT
DTSTART;TZID=Europe/Paris:20230510T100000
DTEND;TZID=Europe/Paris:20230510T120000
DTSTAMP:20260423T041452
CREATED:20230427T083755Z
LAST-MODIFIED:20230427T083755Z
UID:4631-1683712800-1683720000@www.frenchtechcotedazur.fr
SUMMARY:Atelier French Tech Central : 𝐒𝐭𝐫𝐚𝐭𝐞́𝐠𝐢𝐞 𝐝𝐞 𝐝𝐞́𝐯𝐞𝐥𝐨𝐩𝐩𝐞𝐦𝐞𝐧𝐭 : 𝐜𝐨𝐦𝐦𝐞𝐧𝐭 𝐬𝐞 𝐩𝐫𝐨𝐭𝐞́𝐠𝐞𝐫 𝐞𝐭 𝐬𝐞 𝐝𝐞́𝐦𝐚𝐫𝐪𝐮𝐞𝐫 𝐚̀ 𝐥'𝐢𝐧𝐭𝐞𝐫𝐧𝐚𝐭𝐢𝐨𝐧𝐚𝐥 ?
DESCRIPTION:Atelier #FrenchTechCentral\, le 10 mai à Nice \n𝐒𝐭𝐫𝐚𝐭𝐞́𝐠𝐢𝐞 𝐝𝐞 𝐝𝐞́𝐯𝐞𝐥𝐨𝐩𝐩𝐞𝐦𝐞𝐧𝐭 : 𝐜𝐨𝐦𝐦𝐞𝐧𝐭 𝐬𝐞 𝐩𝐫𝐨𝐭𝐞́𝐠𝐞𝐫 𝐞𝐭 𝐬𝐞 𝐝𝐞́𝐦𝐚𝐫𝐪𝐮𝐞𝐫 𝐚̀ 𝐥’𝐢𝐧𝐭𝐞𝐫𝐧𝐚𝐭𝐢𝐨𝐧𝐚𝐥 ? \nGroupe AFNOR\, Direction générale des douanes et droits indirects (DGDDI) et INPI nous ferons l’honneur de répondre à cette question\, en nous présentant : \n✅ La normalisation volontaire et la certification – Fabrice Fauroux\, Groupe AFNOR\n✅ La lutte contre la contrefaçon – Peggy Neurohr\, Direction générale des douanes et droits indirects (DGDDI)\n✅ La protection de la marque et les brevets – Eric Catapano\, INPI \n📅 Quand ? Mercredi 10 mai 2023\, accueil à 10h\n📍 Où ?  CEEI Nice Côte d’Azur\, 61 avenue de Simone Veil\, 06200 Nice \nCet atelier sera suivi d’un pot amical pour continuer à échanger et partager 🍸 \nInscrivez-vous vite 👉 https://lnkd.in/eFhBjrkR \n⚠️ Inscription obligatoire\, places limitées !
URL:https://www.frenchtechcotedazur.fr/event/atelier-french-tech-central-2/
ATTACH;FMTTYPE=image/png:https://www.frenchtechcotedazur.fr/wp-content/uploads/2023/04/FT-CENTRAL-10052023-4.png
END:VEVENT
END:VCALENDAR