BEGIN:VCALENDAR
VERSION:2.0
PRODID:-//French Tech Côte d&#039;Azur - ECPv6.15.20//NONSGML v1.0//EN
CALSCALE:GREGORIAN
METHOD:PUBLISH
X-WR-CALNAME:French Tech Côte d&#039;Azur
X-ORIGINAL-URL:https://www.frenchtechcotedazur.fr
X-WR-CALDESC:Évènements pour French Tech Côte d&#039;Azur
REFRESH-INTERVAL;VALUE=DURATION:PT1H
X-Robots-Tag:noindex
X-PUBLISHED-TTL:PT1H
BEGIN:VTIMEZONE
TZID:Europe/Paris
BEGIN:DAYLIGHT
TZOFFSETFROM:+0100
TZOFFSETTO:+0200
TZNAME:CEST
DTSTART:20220327T010000
END:DAYLIGHT
BEGIN:STANDARD
TZOFFSETFROM:+0200
TZOFFSETTO:+0100
TZNAME:CET
DTSTART:20221030T010000
END:STANDARD
BEGIN:DAYLIGHT
TZOFFSETFROM:+0100
TZOFFSETTO:+0200
TZNAME:CEST
DTSTART:20230326T010000
END:DAYLIGHT
BEGIN:STANDARD
TZOFFSETFROM:+0200
TZOFFSETTO:+0100
TZNAME:CET
DTSTART:20231029T010000
END:STANDARD
BEGIN:DAYLIGHT
TZOFFSETFROM:+0100
TZOFFSETTO:+0200
TZNAME:CEST
DTSTART:20240331T010000
END:DAYLIGHT
BEGIN:STANDARD
TZOFFSETFROM:+0200
TZOFFSETTO:+0100
TZNAME:CET
DTSTART:20241027T010000
END:STANDARD
END:VTIMEZONE
BEGIN:VEVENT
DTSTART;VALUE=DATE:20230509
DTEND;VALUE=DATE:20230510
DTSTAMP:20260423T040542
CREATED:20230502T101543Z
LAST-MODIFIED:20230502T101543Z
UID:4679-1683590400-1683676799@www.frenchtechcotedazur.fr
SUMMARY:ISTEA CONSEIL X LA FRESQUE DU CLIMAT X CANNES IS UP
DESCRIPTION:ISTEA CONSEIL X LA FRESQUE DU CLIMAT X CANNES IS UP  \nComprendre les enjeux permet d’agir et d’accepter les changements. \nNous sommes heureux de vous proposer cette année un nouvel atelier ludique : La Fresque du Climat. \nBasé sur 42 cartes issues des travaux du GIEC\, l’objectif est de sensibiliser de façon collaborative aux changements climatiques. \nFace à l’urgence climatique\, chacun doit être formé aux bases scientifiques du climat pour comprendre la situation\, décrypter les informations\, se faire une opinion\, agir vite et accepter collectivement les changements à faire. \nDeux créneaux sont disponibles soit de 9h00 à 12h00 soit de 14h00 à 17h00. \nAlors ne manquez pas cet atelier et inscrivez-vous : https://bit.ly/Fresque23 \n🗓 Mardi 9 mai 2023  \n📍Université Côte d’Azur – Campus Georges Méliès – 216 Av. Francis Tonner\, 06150 Cannes
URL:https://www.frenchtechcotedazur.fr/event/4679/
ATTACH;FMTTYPE=image/png:https://www.frenchtechcotedazur.fr/wp-content/uploads/2023/05/FRESQUE-DU-CLIMAT-2.png
END:VEVENT
BEGIN:VEVENT
DTSTART;TZID=Europe/Paris:20230509T083000
DTEND;TZID=Europe/Paris:20230509T140000
DTSTAMP:20260423T040542
CREATED:20230427T083951Z
LAST-MODIFIED:20230427T083951Z
UID:4635-1683621000-1683640800@www.frenchtechcotedazur.fr
SUMMARY:C'est qui la Patronne ? By Initiatives NCA
DESCRIPTION:C’EST QUI LA PATRONNE ? Le rendez-vous pour l’entrepreneuriat féminin ! \n📅 Mardi 9 mai \n📌 Centre AnimaNice – Bon voyage \n2 Pont René Coty\, 06300 Nice \n🕰️ 8h30 à 14h \nGratuit – sans inscription \n  \nAu programme : \n Rencontre des services d’accompagnement pour construire votre projet d’entreprise (création\, financement\, business plan\, assurance…). \n Théâtre forum avec Violette & Garance \n Table-ronde et témoignages \nLe programme détaillé : https://www.initiative-nca.fr/cest-qui-la-patronne.html \n 
URL:https://www.frenchtechcotedazur.fr/event/cest-qui-la-patronne-by-initiatives-nca/
ATTACH;FMTTYPE=image/png:https://www.frenchtechcotedazur.fr/wp-content/uploads/2023/04/2023-05-09-Cest-qui-la-patronne-bon-voyage-V1.png
END:VEVENT
END:VCALENDAR