BEGIN:VCALENDAR
VERSION:2.0
PRODID:-//French Tech Côte d&#039;Azur - ECPv6.15.20//NONSGML v1.0//EN
CALSCALE:GREGORIAN
METHOD:PUBLISH
X-ORIGINAL-URL:https://www.frenchtechcotedazur.fr
X-WR-CALDESC:Évènements pour French Tech Côte d&#039;Azur
REFRESH-INTERVAL;VALUE=DURATION:PT1H
X-Robots-Tag:noindex
X-PUBLISHED-TTL:PT1H
BEGIN:VTIMEZONE
TZID:Europe/Paris
BEGIN:DAYLIGHT
TZOFFSETFROM:+0100
TZOFFSETTO:+0200
TZNAME:CEST
DTSTART:20220327T010000
END:DAYLIGHT
BEGIN:STANDARD
TZOFFSETFROM:+0200
TZOFFSETTO:+0100
TZNAME:CET
DTSTART:20221030T010000
END:STANDARD
BEGIN:DAYLIGHT
TZOFFSETFROM:+0100
TZOFFSETTO:+0200
TZNAME:CEST
DTSTART:20230326T010000
END:DAYLIGHT
BEGIN:STANDARD
TZOFFSETFROM:+0200
TZOFFSETTO:+0100
TZNAME:CET
DTSTART:20231029T010000
END:STANDARD
BEGIN:DAYLIGHT
TZOFFSETFROM:+0100
TZOFFSETTO:+0200
TZNAME:CEST
DTSTART:20240331T010000
END:DAYLIGHT
BEGIN:STANDARD
TZOFFSETFROM:+0200
TZOFFSETTO:+0100
TZNAME:CET
DTSTART:20241027T010000
END:STANDARD
END:VTIMEZONE
BEGIN:VEVENT
DTSTART;TZID=Europe/Paris:20230424T190000
DTEND;TZID=Europe/Paris:20230424T200000
DTSTAMP:20260423T053550
CREATED:20230417T073900Z
LAST-MODIFIED:20230417T080117Z
UID:4553-1682362800-1682366400@www.frenchtechcotedazur.fr
SUMMARY:WEBINAR Découvrez la Data Visualisation avec Tableau
DESCRIPTION:À propos de cet atelier \nLe Wagon s’associe aux Meufs du Growth pour ses webinars du mois d’avril ! \nDans cet atelier en ligne gratuit\, vous apprendrez les bases de la visualisation des données et comment l’utiliser au quotidien. \nOBJECTIFS : \n\nCe qu’est la visualisation de données et comment l’utiliser.\nLes bases du Tableau et comment le mettre en œuvre dans votre quotidien.\nComment créer ensemble votre premier graphique et tableau de bord Tableau.\n\nFORMAT \nCe webinar débutera par un cours d’une heure pendant lequel vous découvrirez les concepts de base. Vous aurez ensuite accès à Learn\, la plateforme de e-learning du Wagon où vous retrouverez un résumé des notions clés\, des exercices ainsi que leurs corrigés pour continuer à pratiquer après l’atelier. \nPRÉ-REQUIS \nLes exercices sont en anglais\, une bonne maitrise de la langue est donc requise. Hormis cela cet atelier est ouvert à tous.tes\, aucun autre pré-requis n’est attendu ! \nLundi 24 avril 2023 à 19h \nÉvénement gratuit. \nInscription obligatoire en cliquant ici.
URL:https://www.frenchtechcotedazur.fr/event/webinar-decouvrez-la-data-visualisation/
ATTACH;FMTTYPE=image/jpeg:https://www.frenchtechcotedazur.fr/wp-content/uploads/2023/04/download.jpg
END:VEVENT
END:VCALENDAR