BEGIN:VCALENDAR
VERSION:2.0
PRODID:-//French Tech Côte d&#039;Azur - ECPv6.15.20//NONSGML v1.0//EN
CALSCALE:GREGORIAN
METHOD:PUBLISH
X-ORIGINAL-URL:https://www.frenchtechcotedazur.fr
X-WR-CALDESC:Évènements pour French Tech Côte d&#039;Azur
REFRESH-INTERVAL;VALUE=DURATION:PT1H
X-Robots-Tag:noindex
X-PUBLISHED-TTL:PT1H
BEGIN:VTIMEZONE
TZID:Europe/Paris
BEGIN:DAYLIGHT
TZOFFSETFROM:+0100
TZOFFSETTO:+0200
TZNAME:CEST
DTSTART:20220327T010000
END:DAYLIGHT
BEGIN:STANDARD
TZOFFSETFROM:+0200
TZOFFSETTO:+0100
TZNAME:CET
DTSTART:20221030T010000
END:STANDARD
BEGIN:DAYLIGHT
TZOFFSETFROM:+0100
TZOFFSETTO:+0200
TZNAME:CEST
DTSTART:20230326T010000
END:DAYLIGHT
BEGIN:STANDARD
TZOFFSETFROM:+0200
TZOFFSETTO:+0100
TZNAME:CET
DTSTART:20231029T010000
END:STANDARD
BEGIN:DAYLIGHT
TZOFFSETFROM:+0100
TZOFFSETTO:+0200
TZNAME:CEST
DTSTART:20240331T010000
END:DAYLIGHT
BEGIN:STANDARD
TZOFFSETFROM:+0200
TZOFFSETTO:+0100
TZNAME:CET
DTSTART:20241027T010000
END:STANDARD
END:VTIMEZONE
BEGIN:VEVENT
DTSTART;TZID=Europe/Paris:20230405T110000
DTEND;TZID=Europe/Paris:20230405T120000
DTSTAMP:20260423T053551
CREATED:20230328T072004Z
LAST-MODIFIED:20230328T072004Z
UID:4483-1680692400-1680696000@www.frenchtechcotedazur.fr
SUMMARY:Webinaire Afnor : Comment valoriser l'engagement de mon entreprise dans le Made in France ?
DESCRIPTION:Comment valoriser l’engagement de mon entreprise dans le Made in France ? \nAujourd’hui\, les exigences des consommateurs ne sont plus les mêmes qu’avant. Ceux-ci portent une attention particulière au processus de fabrication/réalisation\, à la qualité ainsi qu’à l’origine de leurs produits et services. \nCes exigences deviennent un critère de choix pour les consommateurs. Soucieuses de l’impact de leur production (produits et services)\, certaines entreprises ont déjà fait le choix d’intégrer une démarche et des engagements valorisant la qualité du Made in France. \nLes certifications Origine France Garantie et Service France Garanti\, délivrées par AFNOR Certification permettent aux entreprises de valoriser et légitimer leurs engagements\, pour répondre à ces nouveaux critères d’achat. \nVous souhaitez savoir comment valoriser vos produits et services Made in France ? \nParticipez à notre web-conférence pour mieux comprendre comment valoriser votre démarche ! \n🗓 Quand ? mercredi 5 avril 2023 \nVous bénéficierez d’une approche opérationnelle des certifications Origine France Garantie et Service France Garanti\, avec les interventions de Gilles ATTAF\, Arnaud MONTEBOURG\, et le témoignage de Paola FABIANI présidente de Wisecom\, entreprise certifiée Service France Garanti. \nVous retrouverez le programme détaillé de cette web-conférence en cliquant sur le lien d’inscription ci-dessous. \nIncription gratuite en cliquant ici. \nRetrouvez tous les événements du groupe Afnor en cliquant ici.
URL:https://www.frenchtechcotedazur.fr/event/webinaire-afnor-comment-valoriser-lengagement-de-mon-entreprise-dans-le-made-in-france/
ATTACH;FMTTYPE=image/png:https://www.frenchtechcotedazur.fr/wp-content/uploads/2023/03/Capture-décran-2023-03-28-à-09.18.55.png
END:VEVENT
END:VCALENDAR