BEGIN:VCALENDAR
VERSION:2.0
PRODID:-//French Tech Côte d&#039;Azur - ECPv6.15.20//NONSGML v1.0//EN
CALSCALE:GREGORIAN
METHOD:PUBLISH
X-ORIGINAL-URL:https://www.frenchtechcotedazur.fr
X-WR-CALDESC:Évènements pour French Tech Côte d&#039;Azur
REFRESH-INTERVAL;VALUE=DURATION:PT1H
X-Robots-Tag:noindex
X-PUBLISHED-TTL:PT1H
BEGIN:VTIMEZONE
TZID:Europe/Paris
BEGIN:DAYLIGHT
TZOFFSETFROM:+0100
TZOFFSETTO:+0200
TZNAME:CEST
DTSTART:20220327T010000
END:DAYLIGHT
BEGIN:STANDARD
TZOFFSETFROM:+0200
TZOFFSETTO:+0100
TZNAME:CET
DTSTART:20221030T010000
END:STANDARD
BEGIN:DAYLIGHT
TZOFFSETFROM:+0100
TZOFFSETTO:+0200
TZNAME:CEST
DTSTART:20230326T010000
END:DAYLIGHT
BEGIN:STANDARD
TZOFFSETFROM:+0200
TZOFFSETTO:+0100
TZNAME:CET
DTSTART:20231029T010000
END:STANDARD
BEGIN:DAYLIGHT
TZOFFSETFROM:+0100
TZOFFSETTO:+0200
TZNAME:CEST
DTSTART:20240331T010000
END:DAYLIGHT
BEGIN:STANDARD
TZOFFSETFROM:+0200
TZOFFSETTO:+0100
TZNAME:CET
DTSTART:20241027T010000
END:STANDARD
END:VTIMEZONE
BEGIN:VEVENT
DTSTART;TZID=Europe/Paris:20230328T180000
DTEND;TZID=Europe/Paris:20230328T213000
DTSTAMP:20260423T053723
CREATED:20230310T154155Z
LAST-MODIFIED:20230310T154155Z
UID:4368-1680026400-1680039000@www.frenchtechcotedazur.fr
SUMMARY:Pitch Day à Cannes by Les Premières Sud
DESCRIPTION:Venez pitcher votre projet\, écouter les pitchs\, faire du réseau et rencontrer des entrepreneures qui partagent le mêmes ambitions et valeurs que vous ! \n\nVous pouvez venir accompagné\, et en parler autour de vous !\n\nVenez découvrir/retrouver Les Premières Sud —> l’incubateur dédié à la réussite des entrepreneures et équipes mixtes !!\n\nInscription 100% gratuite : https://www.lespremieressud.com/event-details/pitch-party-cannes\n\n\n🗓 28 mars\, 18:00 – 21:30 \n📍216 Av. Francis Tonner\, 06150 Cannes\, France
URL:https://www.frenchtechcotedazur.fr/event/pitch-day-a-cannes-by-les-premieres-sud/
ATTACH;FMTTYPE=image/png:https://www.frenchtechcotedazur.fr/wp-content/uploads/2023/03/Capture-décran-2023-03-08-à-10.07.57.png
END:VEVENT
BEGIN:VEVENT
DTSTART;TZID=Europe/Paris:20230328T180000
DTEND;TZID=Europe/Paris:20230328T220000
DTSTAMP:20260423T053723
CREATED:20230327T090553Z
LAST-MODIFIED:20230328T081816Z
UID:4478-1680026400-1680040800@www.frenchtechcotedazur.fr
SUMMARY:France Invest à Nice
DESCRIPTION:Claire Chabrier\, Présidente de France Invest\, Christophe Deldycke\, Président de la Commission Action Régionale\, et Alexandre Flageul\, Délégué régional\, ont le plaisir de convier les entrepreneurs et les acteurs du financement de la région Sud Côte d’Azur à une soirée d’échanges et de débats. \nAfin de permettre à un maximum de sociétés d’être représentées\, le nombre de participants par structure sera limité.\n3 places par société de gestion membre de France Invest\, 2 places par société de conseil membre de France Invest et 1 place pour les sociétés non membres.\n \n🗓 Quand ? 28 mars 2023 de 18h à 22h \n📍 Où ? Crowne Plaza Nice – Grand Arénas\, Rue Costes et Bellonte\, 06200 NiceHoraires \n⚠️ Événement sur inscription \nInscription et informations en cliquant ici.
URL:https://www.frenchtechcotedazur.fr/event/france-invest-a-nice/
ATTACH;FMTTYPE=image/png:https://www.frenchtechcotedazur.fr/wp-content/uploads/2023/03/Fr19ni4WIAIwVHj.png
END:VEVENT
END:VCALENDAR